Workbook
Name Unit1: '30'!$A:$S
Name Unit3: '17'!$AN$1:$BG$86
Name Unit1: '8'!$A:$S
Name Unit2: '22'!$T$1:$AM$86
Name Unit6: '22'!$CV$8:$DN$86
Name Unit1: '27'!$A:$S
Name Unit4: '31'!$BH$1:$CA$86
Name Unit2: '2'!$T$1:$AM$86
Name Unit3: '2'!$AN$1:$BG$86
Name Unit3: '20'!$AN$1:$BG$86
Name Unit2: '21'!$T$1:$AM$86
Name Unit4: '5'!$BH$1:$CA$86
Name Unit6: '1'!$CV$8:$DN$86
Name Unit2: '20'!$T$1:$AM$86
Name Unit6: #REF!
Name Unit6: '10'!$CV$8:$DN$86
Name Unit4: '11'!$BH$1:$CA$86
Name Unit1: '19'!$A:$S
Name Unit6: '14'!$CV$8:$DN$86
Name Unit2: '6'!$T$1:$AM$86
Name Unit5: '29'!$CB$1:$CU$86
Name Unit6: '4'!$CV$8:$DN$86
Name Unit2: '30'!$T$1:$AM$86
Name Unit4: '13'!$BH$1:$CA$86
Name Unit3: '12'!$AN$1:$BG$86
Name Unit1: '22'!$A:$S
Name Unit4: '17'!$BH$1:$CA$86
Name Unit4: '19'!$BH$1:$CA$86
Name Unit2: '4'!$T$1:$AM$86
Name Unit2: '32'!$T$1:$AM$86
Name Unit5: '13'!$CB$1:$CU$86
Name Unit4: '28'!$BH$1:$CA$86
Name Unit2: '23'!$T$1:$AM$86
Name Unit1: '32'!$A:$S
Name Unit4: '29'!$BH$1:$CA$86
Name Unit4: '26'!$BH$1:$CA$86
Name Unit5: '26'!$CB$1:$CU$86
Name Unit3: '8'!$AN$1:$BG$86
Name Unit5: '3'!$CB$1:$CU$86
Name Unit5: '8'!$CB$1:$CU$86
Name Unit3: '9'!$AN$1:$BG$86
Name Unit5: '18'!$CB$1:$CU$86
Name Unit1: '13'!$A:$S
Name Unit2: '28'!$T$1:$AM$86
Name Unit2: '8'!$T$1:$AM$86
Name Unit2: '10'!$T$1:$AM$86
Name Unit5: #REF!
Name Unit1: '11'!$A:$S
Name Unit2: '15'!$T$1:$AM$86
Name Unit6: '8'!$CV$8:$DN$86
Name Unit6: '25'!$CV$8:$DN$86
Name Unit3: '18'!$AN$1:$BG$86
Name Unit6: '11'!$CV$8:$DN$86
Name Unit2: '14'!$T$1:$AM$86
Name Unit2: '13'!$T$1:$AM$86
Name Unit4: '12'!$BH$1:$CA$86
Name Unit6: '27'!$CV$8:$DN$86
Name Unit6: '17'!$CV$8:$DN$86
Name Unit1: '5'!$A:$S
Name Unit2: #REF!

Sheet CLASS DATA
C2: Class DataBook
C3: TEACHER: YOUR NAME | E3: GRADE: YOUR GRADE | H3: SCHOOL YEAR: 2023-2024
F4: Pre-Readers | H4: CVC Words | K4: Digraph & Blend Words | N4: CVCe Words | Q4: Ending Blends & R-Control | T4: Vowel Team & Diphthong
A5: LINK | B5: STUDENT | D5: Current Unit | E5: Unit 1 Progress | F5: Unit 1 Score | G5: Unit 2 Progress | H5: Unit 2 Score | I5: Unit 2 HFW | J5: Unit 3 Progress | K5: Unit 3 Score | L5: Unit 3 HFW | M5: Unit 4 Progress | N5: Unit 4 Score | O5: Unit 4 HFW | P5: Unit 5 Progress | Q5: Unit 5 Score | R5: Unit 5 HFW | S5: Unit 6 Progress | T5: Unit 6 Score | U5: Unit 6 HFW
A6: 1 | E6: ='1'!$G$5 | F6: ='1'!$Q$5 -> 0 | G6: ='1'!$Z$5 | H6: ='1'!$AK$5 -> 0 | I6: =sum('1'!$V$38, '1'!$V$48)& "/57" -> 0/57 | J6: ='1'!$AT$5 | K6: ='1'!$BE$5 -> 0 | L6: =sum('1'!$AP$47, '1'!$AP$54)& "/47" -> 0/47 | M6: ='1'!$BN$5 | N6: ='1'!$BY$5 -> 0 | O6: =sum('1'!$BJ$38, '1'!$BJ$43)& "/34" -> 0/34 | P6: ='1'!$CH$5 | Q6: ='1'!$CS$5 -> 0 | R6: =sum('1'!$CD$50, '1'!$CD$58)& "/61" -> 0/61 | S6: ='1'!$DB$5 | T6: ='1'!$DM$5 -> 0 | U6: =sum('1'!$CX$44, '1'!$CX$53)& "/61" -> 0/61
A7: 2 | E7: ='2'!$G$5 | F7: ='2'!$Q$5 -> 0 | G7: ='2'!$Z$5 | H7: ='2'!$AK$5 -> 0 | I7: =sum('2'!$V$38, '2'!$V$48)& "/57" -> 0/57 | J7: ='2'!$AT$5 | K7: ='2'!$BE$5 -> 0 | L7: =sum('2'!$AP$47, '2'!$AP$54)& "/47" -> 0/47 | M7: ='2'!$BN$5 | N7: ='2'!$BY$5 -> 0 | O7: =sum('2'!$BJ$38, '2'!$BJ$43)& "/34" -> 0/34 | P7: ='2'!$CH$5 | Q7: ='2'!$CS$5 -> 0 | R7: =sum('2'!$CD$50, '1'!$CD$58)& "/61" -> 0/61 | S7: ='2'!$DB$5 | T7: ='2'!$DM$5 -> 0 | U7: =sum('2'!$CX$44, '2'!$CX$53)& "/61" -> 0/61
A8: 3 | E8: ='3'!$G$5 | F8: ='3'!$Q$5 -> 0 | G8: ='3'!$Z$5 | H8: ='3'!$AK$5 -> 0 | I8: =sum('3'!$V$38, '3'!$V$48)& "/57" -> 0/57 | J8: ='3'!$AT$5 | K8: ='3'!$BE$5 -> 0 | L8: =sum('3'!$AP$47, '3'!$AP$54)& "/47" -> 0/47 | M8: ='3'!$BN$5 | N8: ='3'!$BY$5 -> 0 | O8: =sum('3'!$BJ$38, '3'!$BJ$43)& "/34" -> 0/34 | P8: ='3'!$CH$5 | Q8: ='3'!$CS$5 -> 0 | R8: =sum('3'!$CD$50, '1'!$CD$58)& "/61" -> 0/61 | S8: ='3'!$DB$5 | T8: ='3'!$DM$5 -> 0 | U8: =sum('3'!$CX$44, '3'!$CX$53)& "/61" -> 0/61
A9: 4 | E9: ='4'!$G$5 | F9: ='4'!$Q$5 -> 0 | G9: ='4'!$Z$5 | H9: ='4'!$AK$5 -> 0 | I9: =sum('4'!$V$38, '4'!$V$48)& "/57" -> 0/57 | J9: ='4'!$AT$5 | K9: ='4'!$BE$5 -> 0 | L9: =sum('4'!$AP$47, '4'!$AP$54)& "/47" -> 0/47 | M9: ='4'!$BN$5 | N9: ='4'!$BY$5 -> 0 | O9: =sum('4'!$BJ$38, '4'!$BJ$43)& "/34" -> 0/34 | P9: ='4'!$CH$5 | Q9: ='4'!$CS$5 -> 0 | R9: =sum('4'!$CD$50, '1'!$CD$58)& "/61" -> 0/61 | S9: ='4'!$DB$5 | T9: ='4'!$DM$5 -> 0 | U9: =sum('4'!$CX$44, '4'!$CX$53)& "/61" -> 0/61
A10: 5 | E10: ='5'!$G$5 | F10: ='5'!$Q$5 -> 0 | G10: ='5'!$Z$5 | H10: ='5'!$AK$5 -> 0 | I10: =sum('5'!$V$38, '5'!$V$48)& "/57" -> 0/57 | J10: ='5'!$AT$5 | K10: ='5'!$BE$5 -> 0 | L10: =sum('5'!$AP$47, '5'!$AP$54)& "/47" -> 0/47 | M10: ='5'!$BN$5 | N10: ='5'!$BY$5 -> 0 | O10: =sum('5'!$BJ$38, '5'!$BJ$43)& "/34" -> 0/34 | P10: ='5'!$CH$5 | Q10: ='5'!$CS$5 -> 0 | R10: =sum('5'!$CD$50, '1'!$CD$58)& "/61" -> 0/61 | S10: ='5'!$DB$5 | T10: ='5'!$DM$5 -> 0 | U10: =sum('5'!$CX$44, '5'!$CX$53)& "/61" -> 0/61
A11: 6 | E11: ='6'!$G$5 | F11: ='6'!$Q$5 -> 0 | G11: ='6'!$Z$5 | H11: ='6'!$AK$5 -> 0 | I11: =sum('6'!$V$38, '6'!$V$48)& "/57" -> 0/57 | J11: ='6'!$AT$5 | K11: ='6'!$BE$5 -> 0 | L11: =sum('6'!$AP$47, '6'!$AP$54)& "/47" -> 0/47 | M11: ='6'!$BN$5 | N11: ='6'!$BY$5 -> 0 | O11: =sum('6'!$BJ$38, '6'!$BJ$43)& "/34" -> 0/34 | P11: ='6'!$CH$5 | Q11: ='6'!$CS$5 -> 0 | R11: =sum('6'!$CD$50, '1'!$CD$58)& "/61" -> 0/61 | S11: ='6'!$DB$5 | T11: ='6'!$DM$5 -> 0 | U11: =sum('6'!$CX$44, '6'!$CX$53)& "/61" -> 0/61
A12: 7 | E12: ='7'!$G$5 | F12: ='7'!$Q$5 -> 0 | G12: ='7'!$Z$5 | H12: ='7'!$AK$5 -> 0 | I12: =sum('7'!$V$38, '7'!$V$48)& "/57" -> 0/57 | J12: ='7'!$AT$5 | K12: ='7'!$BE$5 -> 0 | L12: =sum('7'!$AP$47, '7'!$AP$54)& "/47" -> 0/47 | M12: ='7'!$BN$5 | N12: ='7'!$BY$5 -> 0 | O12: =sum('7'!$BJ$38, '7'!$BJ$43)& "/34" -> 0/34 | P12: ='7'!$CH$5 | Q12: ='7'!$CS$5 -> 0 | R12: =sum('7'!$CD$50, '1'!$CD$58)& "/61" -> 0/61 | S12: ='7'!$DB$5 | T12: ='7'!$DM$5 -> 0 | U12: =sum('7'!$CX$44, '7'!$CX$53)& "/61" -> 0/61
A13: 8 | E13: ='8'!$G$5 | F13: ='8'!$Q$5 -> 0 | G13: ='8'!$Z$5 | H13: ='8'!$AK$5 -> 0 | I13: =sum('8'!$V$38, '8'!$V$48)& "/57" -> 0/57 | J13: ='8'!$AT$5 | K13: ='8'!$BE$5 -> 0 | L13: =sum('8'!$AP$47, '8'!$AP$54)& "/47" -> 0/47 | M13: ='8'!$BN$5 | N13: ='8'!$BY$5 -> 0 | O13: =sum('8'!$BJ$38, '8'!$BJ$43)& "/34" -> 0/34 | P13: ='8'!$CH$5 | Q13: ='8'!$CS$5 -> 0 | R13: =sum('8'!$CD$50, '8'!$CD$58)& "/61" -> 0/61 | S13: ='8'!$DB$5 | T13: ='8'!$DM$5 -> 0 | U13: =sum('8'!$CX$44, '8'!$CX$53)& "/61" -> 0/61
A14: 9 | E14: ='9'!$G$5 | F14: ='9'!$Q$5 -> 0 | G14: ='9'!$Z$5 | H14: ='9'!$AK$5 -> 0 | I14: =sum('9'!$V$38, '9'!$V$48)& "/57" -> 0/57 | J14: ='9'!$AT$5 | K14: ='9'!$BE$5 -> 0 | L14: =sum('9'!$AP$47, '9'!$AP$54)& "/47" -> 0/47 | M14: ='9'!$BN$5 | N14: ='9'!$BY$5 -> 0 | O14: =sum('9'!$BJ$38, '9'!$BJ$43)& "/34" -> 0/34 | P14: ='9'!$CH$5 | Q14: ='9'!$CS$5 -> 0 | R14: =sum('9'!$CD$50, '9'!$CD$58)& "/61" -> 0/61 | S14: ='9'!$DB$5 | T14: ='9'!$DM$5 -> 0 | U14: =sum('9'!$CX$44, '9'!$CX$53)& "/61" -> 0/61
A15: 10 | E15: ='10'!$G$5 | F15: ='10'!$Q$5 -> 0 | G15: ='10'!$Z$5 | H15: ='10'!$AK$5 -> 0 | I15: =sum('10'!$V$38, '10'!$V$48)& "/57" -> 0/57 | J15: ='10'!$AT$5 | K15: ='10'!$BE$5 -> 0 | L15: =sum('10'!$AP$47, '10'!$AP$54)& "/47" -> 0/47 | M15: ='10'!$BN$5 | N15: ='10'!$BY$5 -> 0 | O15: =sum('10'!$BJ$38, '10'!$BJ$43)& "/34" -> 0/34 | P15: ='10'!$CH$5 | Q15: ='10'!$CS$5 -> 0 | R15: =sum('10'!$CD$50, '10'!$CD$58)& "/61" -> 0/61 | S15: ='10'!$DB$5 | T15: ='10'!$DM$5 -> 0 | U15: =sum('10'!$CX$44, '10'!$CX$53)& "/61" -> 0/61
A16: 11 | E16: ='11'!$G$5 | F16: ='11'!$Q$5 -> 0 | G16: ='11'!$Z$5 | H16: ='11'!$AK$5 -> 0 | I16: =sum('11'!$V$38, '11'!$V$48)& "/57" -> 0/57 | J16: ='11'!$AT$5 | K16: ='11'!$BE$5 -> 0 | L16: =sum('11'!$AP$47, '11'!$AP$54)& "/47" -> 0/47 | M16: ='11'!$BN$5 | N16: ='11'!$BY$5 -> 0 | O16: =sum('11'!$BJ$38, '11'!$BJ$43)& "/34" -> 0/34 | P16: ='11'!$CH$5 | Q16: ='11'!$CS$5 -> 0 | R16: =sum('11'!$CD$50, '11'!$CD$58)& "/61" -> 0/61 | S16: ='11'!$DB$5 | T16: ='11'!$DM$5 -> 0 | U16: =sum('11'!$CX$44, '11'!$CX$53)& "/61" -> 0/61
A17: 12 | E17: ='12'!$G$5 | F17: ='12'!$Q$5 -> 0 | G17: ='12'!$Z$5 | H17: ='12'!$AK$5 -> 0 | I17: =sum('12'!$V$38, '12'!$V$48)& "/57" -> 0/57 | J17: ='12'!$AT$5 | K17: ='12'!$BE$5 -> 0 | L17: =sum('12'!$AP$47, '12'!$AP$54)& "/47" -> 0/47 | M17: ='12'!$BN$5 | N17: ='12'!$BY$5 -> 0 | O17: =sum('12'!$BJ$38, '12'!$BJ$43)& "/34" -> 0/34 | P17: ='12'!$CH$5 | Q17: ='12'!$CS$5 -> 0 | R17: =sum('12'!$CD$50, '12'!$CD$58)& "/61" -> 0/61 | S17: ='12'!$DB$5 | T17: ='12'!$DM$5 -> 0 | U17: =sum('12'!$CX$44, '12'!$CX$53)& "/61" -> 0/61
A18: 13 | E18: ='13'!$G$5 | F18: ='13'!$Q$5 -> 0 | G18: ='13'!$Z$5 | H18: ='13'!$AK$5 -> 0 | I18: =sum('13'!$V$38, '13'!$V$48)& "/57" -> 0/57 | J18: ='13'!$AT$5 | K18: ='13'!$BE$5 -> 0 | L18: =sum('13'!$AP$47, '13'!$AP$54)& "/47" -> 0/47 | M18: ='13'!$BN$5 | N18: ='13'!$BY$5 -> 0 | O18: =sum('13'!$BJ$38, '13'!$BJ$43)& "/34" -> 0/34 | P18: ='13'!$CH$5 | Q18: ='13'!$CS$5 -> 0 | R18: =sum('13'!$CD$50, '13'!$CD$58)& "/61" -> 0/61 | S18: ='13'!$DB$5 | T18: ='13'!$DM$5 -> 0 | U18: =sum('13'!$CX$44, '13'!$CX$53)& "/61" -> 0/61
A19: 14 | E19: ='14'!$G$5 | F19: ='14'!$Q$5 -> 0 | G19: ='14'!$Z$5 | H19: ='14'!$AK$5 -> 0 | I19: =sum('14'!$V$38, '14'!$V$48)& "/57" -> 0/57 | J19: ='14'!$AT$5 | K19: ='14'!$BE$5 -> 0 | L19: =sum('14'!$AP$47, '14'!$AP$54)& "/47" -> 0/47 | M19: ='14'!$BN$5 | N19: ='14'!$BY$5 -> 0 | O19: =sum('14'!$BJ$38, '14'!$BJ$43)& "/34" -> 0/34 | P19: ='14'!$CH$5 | Q19: ='14'!$CS$5 -> 0 | R19: =sum('14'!$CD$50, '14'!$CD$58)& "/61" -> 0/61 | S19: ='14'!$DB$5 | T19: ='14'!$DM$5 -> 0 | U19: =sum('14'!$CX$44, '14'!$CX$53)& "/61" -> 0/61
A20: 15 | E20: ='15'!$G$5 | F20: ='15'!$Q$5 -> 0 | G20: ='15'!$Z$5 | H20: ='15'!$AK$5 -> 0 | I20: =sum('15'!$V$38, '15'!$V$48)& "/57" -> 0/57 | J20: ='15'!$AT$5 | K20: ='15'!$BE$5 -> 0 | L20: =sum('15'!$AP$47, '15'!$AP$54)& "/47" -> 0/47 | M20: ='15'!$BN$5 | N20: ='15'!$BY$5 -> 0 | O20: =sum('15'!$BJ$38, '15'!$BJ$43)& "/34" -> 0/34 | P20: ='15'!$CH$5 | Q20: ='15'!$CS$5 -> 0 | R20: =sum('15'!$CD$50, '15'!$CD$58)& "/61" -> 0/61 | S20: ='15'!$DB$5 | T20: ='15'!$DM$5 -> 0 | U20: =sum('15'!$CX$44, '15'!$CX$53)& "/61" -> 0/61
A21: 16 | E21: ='16'!$G$5 | F21: ='16'!$Q$5 -> 0 | G21: ='16'!$Z$5 | H21: ='16'!$AK$5 -> 0 | I21: =sum('16'!$V$38, '16'!$V$48)& "/57" -> 0/57 | J21: ='16'!$AT$5 | K21: ='16'!$BE$5 -> 0 | L21: =sum('16'!$AP$47, '16'!$AP$54)& "/47" -> 0/47 | M21: ='16'!$BN$5 | N21: ='16'!$BY$5 -> 0 | O21: =sum('16'!$BJ$38, '16'!$BJ$43)& "/34" -> 0/34 | P21: ='16'!$CH$5 | Q21: ='16'!$CS$5 -> 0 | R21: =sum('16'!$CD$50, '16'!$CD$58)& "/61" -> 0/61 | S21: ='16'!$DB$5 | T21: ='16'!$DM$5 -> 0 | U21: =sum('16'!$CX$44, '16'!$CX$53)& "/61" -> 0/61
A22: 17 | E22: ='17'!$G$5 | F22: ='17'!$Q$5 -> 0 | G22: ='17'!$Z$5 | H22: ='17'!$AK$5 -> 0 | I22: =sum('17'!$V$38, '17'!$V$48)& "/57" -> 0/57 | J22: ='17'!$AT$5 | K22: ='17'!$BE$5 -> 0 | L22: =sum('17'!$AP$47, '17'!$AP$54)& "/47" -> 0/47 | M22: ='17'!$BN$5 | N22: ='17'!$BY$5 -> 0 | O22: =sum('17'!$BJ$38, '17'!$BJ$43)& "/34" -> 0/34 | P22: ='17'!$CH$5 | Q22: ='17'!$CS$5 -> 0 | R22: =sum('17'!$CD$50, '17'!$CD$58)& "/61" -> 0/61 | S22: ='17'!$DB$5 | T22: ='17'!$DM$5 -> 0 | U22: =sum('17'!$CX$44, '17'!$CX$53)& "/61" -> 0/61
A23: 18 | E23: ='18'!$G$5 | F23: ='18'!$Q$5 -> 0 | G23: ='18'!$Z$5 | H23: ='18'!$AK$5 -> 0 | I23: =sum('18'!$V$38, '18'!$V$48)& "/57" -> 0/57 | J23: ='18'!$AT$5 | K23: ='18'!$BE$5 -> 0 | L23: =sum('18'!$AP$47, '18'!$AP$54)& "/47" -> 0/47 | M23: ='18'!$BN$5 | N23: ='18'!$BY$5 -> 0 | O23: =sum('18'!$BJ$38, '18'!$BJ$43)& "/34" -> 0/34 | P23: ='18'!$CH$5 | Q23: ='18'!$CS$5 -> 0 | R23: =sum('18'!$CD$50, '18'!$CD$58)& "/61" -> 0/61 | S23: ='18'!$DB$5 | T23: ='18'!$DM$5 -> 0 | U23: =sum('18'!$CX$44, '18'!$CX$53)& "/61" -> 0/61
A24: 19 | E24: ='19'!$G$5 | F24: ='19'!$Q$5 -> 0 | G24: ='19'!$Z$5 | H24: ='19'!$AK$5 -> 0 | I24: =sum('19'!$V$38, '19'!$V$48)& "/57" -> 0/57 | J24: ='19'!$AT$5 | K24: ='19'!$BE$5 -> 0 | L24: =sum('19'!$AP$47, '19'!$AP$54)& "/47" -> 0/47 | M24: ='19'!$BN$5 | N24: ='19'!$BY$5 -> 0 | O24: =sum('19'!$BJ$38, '19'!$BJ$43)& "/34" -> 0/34 | P24: ='19'!$CH$5 | Q24: ='19'!$CS$5 -> 0 | R24: =sum('19'!$CD$50, '19'!$CD$58)& "/61" -> 0/61 | S24: ='19'!$DB$5 | T24: ='19'!$DM$5 -> 0 | U24: =sum('19'!$CX$44, '19'!$CX$53)& "/61" -> 0/61
A25: 20 | E25: ='20'!$G$5 | F25: ='20'!$Q$5 -> 0 | G25: ='20'!$Z$5 | H25: ='20'!$AK$5 -> 0 | I25: =sum('20'!$V$38, '20'!$V$48)& "/57" -> 0/57 | J25: ='20'!$AT$5 | K25: ='20'!$BE$5 -> 0 | L25: =sum('20'!$AP$47, '20'!$AP$54)& "/47" -> 0/47 | M25: ='20'!$BN$5 | N25: ='20'!$BY$5 -> 0 | O25: =sum('20'!$BJ$38, '20'!$BJ$43)& "/34" -> 0/34 | P25: ='20'!$CH$5 | Q25: ='20'!$CS$5 -> 0 | R25: =sum('20'!$CD$50, '20'!$CD$58)& "/61" -> 0/61 | S25: ='20'!$DB$5 | T25: ='20'!$DM$5 -> 0 | U25: =sum('20'!$CX$44, '20'!$CX$53)& "/61" -> 0/61
A26: 21 | E26: ='21'!$G$5 | F26: ='21'!$Q$5 -> 0 | G26: ='21'!$Z$5 | H26: ='21'!$AK$5 -> 0 | I26: =sum('21'!$V$38, '21'!$V$48)& "/57" -> 0/57 | J26: ='21'!$AT$5 | K26: ='21'!$BE$5 -> 0 | L26: =sum('21'!$AP$47, '21'!$AP$54)& "/47" -> 0/47 | M26: ='21'!$BN$5 | N26: ='21'!$BY$5 -> 0 | O26: =sum('21'!$BJ$38, '21'!$BJ$43)& "/34" -> 0/34 | P26: ='21'!$CH$5 | Q26: ='21'!$CS$5 -> 0 | R26: =sum('21'!$CD$50, '21'!$CD$58)& "/61" -> 0/61 | S26: ='21'!$DB$5 | T26: ='21'!$DM$5 -> 0 | U26: =sum('21'!$CX$44, '21'!$CX$53)& "/61" -> 0/61
A27: 22 | E27: ='22'!$G$5 | F27: ='22'!$Q$5 -> 0 | G27: ='22'!$Z$5 | H27: ='22'!$AK$5 -> 0 | I27: =sum('22'!$V$38, '22'!$V$48)& "/57" -> 0/57 | J27: ='22'!$AT$5 | K27: ='22'!$BE$5 -> 0 | L27: =sum('22'!$AP$47, '22'!$AP$54)& "/47" -> 0/47 | M27: ='22'!$BN$5 | N27: ='22'!$BY$5 -> 0 | O27: =sum('22'!$BJ$38, '22'!$BJ$43)& "/34" -> 0/34 | P27: ='22'!$CH$5 | Q27: ='22'!$CS$5 -> 0 | R27: =sum('22'!$CD$50, '22'!$CD$58)& "/61" -> 0/61 | S27: ='22'!$DB$5 | T27: ='22'!$DM$5 -> 0 | U27: =sum('22'!$CX$44, '22'!$CX$53)& "/61" -> 0/61
A28: 23 | E28: ='23'!$G$5 | F28: ='23'!$Q$5 -> 0 | G28: ='23'!$Z$5 | H28: ='23'!$AK$5 -> 0 | I28: =sum('23'!$V$38, '23'!$V$48)& "/57" -> 0/57 | J28: ='23'!$AT$5 | K28: ='23'!$BE$5 -> 0 | L28: =sum('23'!$AP$47, '23'!$AP$54)& "/47" -> 0/47 | M28: ='23'!$BN$5 | N28: ='23'!$BY$5 -> 0 | O28: =sum('23'!$BJ$38, '23'!$BJ$43)& "/34" -> 0/34 | P28: ='23'!$CH$5 | Q28: ='23'!$CS$5 -> 0 | R28: =sum('23'!$CD$50, '23'!$CD$58)& "/61" -> 0/61 | S28: ='23'!$DB$5 | T28: ='23'!$DM$5 -> 0 | U28: =sum('23'!$CX$44, '23'!$CX$53)& "/61" -> 0/61
A29: 24 | E29: ='24'!$G$5 | F29: ='24'!$Q$5 -> 0 | G29: ='24'!$Z$5 | H29: ='24'!$AK$5 -> 0 | I29: =sum('24'!$V$38, '24'!$V$48)& "/57" -> 0/57 | J29: ='24'!$AT$5 | K29: ='24'!$BE$5 -> 0 | L29: =sum('24'!$AP$47, '24'!$AP$54)& "/47" -> 0/47 | M29: ='24'!$BN$5 | N29: ='24'!$BY$5 -> 0 | O29: =sum('24'!$BJ$38, '24'!$BJ$43)& "/34" -> 0/34 | P29: ='24'!$CH$5 | Q29: ='24'!$CS$5 -> 0 | R29: =sum('24'!$CD$50, '24'!$CD$58)& "/61" -> 0/61 | S29: ='24'!$DB$5 | T29: ='24'!$DM$5 -> 0 | U29: =sum('24'!$CX$44, '24'!$CX$53)& "/61" -> 0/61
A30: 25 | E30: ='25'!$G$5 | F30: ='25'!$Q$5 -> 0 | G30: ='25'!$Z$5 | H30: ='25'!$AK$5 -> 0 | I30: =sum('25'!$V$38, '25'!$V$48)& "/57" -> 0/57 | J30: ='25'!$AT$5 | K30: ='25'!$BE$5 -> 0 | L30: =sum('25'!$AP$47, '25'!$AP$54)& "/47" -> 0/47 | M30: ='25'!$BN$5 | N30: ='25'!$BY$5 -> 0 | O30: =sum('25'!$BJ$38, '25'!$BJ$43)& "/34" -> 0/34 | P30: ='25'!$CH$5 | Q30: ='25'!$CS$5 -> 0 | R30: =sum('25'!$CD$50, '25'!$CD$58)& "/61" -> 0/61 | S30: ='25'!$DB$5 | T30: ='25'!$DM$5 -> 0 | U30: =sum('25'!$CX$44, '25'!$CX$53)& "/61" -> 0/61
A31: 26 | E31: ='26'!$G$5 | F31: ='26'!$Q$5 -> 0 | G31: ='26'!$Z$5 | H31: ='26'!$AK$5 -> 0 | I31: =sum('26'!$V$38, '26'!$V$48)& "/57" -> 0/57 | J31: ='26'!$AT$5 | K31: ='26'!$BE$5 -> 0 | L31: =sum('26'!$AP$47, '26'!$AP$54)& "/47" -> 0/47 | M31: ='26'!$BN$5 | N31: ='26'!$BY$5 -> 0 | O31: =sum('26'!$BJ$38, '26'!$BJ$43)& "/34" -> 0/34 | P31: ='26'!$CH$5 | Q31: ='26'!$CS$5 -> 0 | R31: =sum('26'!$CD$50, '26'!$CD$58)& "/61" -> 0/61 | S31: ='26'!$DB$5 | T31: ='26'!$DM$5 -> 0 | U31: =sum('26'!$CX$44, '26'!$CX$53)& "/61" -> 0/61
A32: 27 | E32: ='27'!$G$5 | F32: ='27'!$Q$5 -> 0 | G32: ='27'!$Z$5 | H32: ='27'!$AK$5 -> 0 | I32: =sum('27'!$V$38, '27'!$V$48)& "/57" -> 0/57 | J32: ='27'!$AT$5 | K32: ='27'!$BE$5 -> 0 | L32: =sum('27'!$AP$47, '27'!$AP$54)& "/47" -> 0/47 | M32: ='27'!$BN$5 | N32: ='27'!$BY$5 -> 0 | O32: =sum('27'!$BJ$38, '27'!$BJ$43)& "/34" -> 0/34 | P32: ='27'!$CH$5 | Q32: ='27'!$CS$5 -> 0 | R32: =sum('27'!$CD$50, '27'!$CD$58)& "/61" -> 0/61 | S32: ='27'!$DB$5 | T32: ='27'!$DM$5 -> 0 | U32: =sum('27'!$CX$44, '27'!$CX$53)& "/61" -> 0/61
A33: 28 | E33: ='28'!$G$5 | F33: ='28'!$Q$5 -> 0 | G33: ='28'!$Z$5 | H33: ='28'!$AK$5 -> 0 | I33: =sum('28'!$V$38, '28'!$V$48)& "/57" -> 0/57 | J33: ='28'!$AT$5 | K33: ='28'!$BE$5 -> 0 | L33: =sum('28'!$AP$47, '28'!$AP$54)& "/47" -> 0/47 | M33: ='28'!$BN$5 | N33: ='28'!$BY$5 -> 0 | O33: =sum('28'!$BJ$38, '28'!$BJ$43)& "/34" -> 0/34 | P33: ='28'!$CH$5 | Q33: ='28'!$CS$5 -> 0 | R33: =sum('28'!$CD$50, '28'!$CD$58)& "/61" -> 0/61 | S33: ='28'!$DB$5 | T33: ='28'!$DM$5 -> 0 | U33: =sum('28'!$CX$44, '28'!$CX$53)& "/61" -> 0/61
A34: 29 | E34: ='29'!$G$5 | F34: ='29'!$Q$5 -> 0 | G34: ='29'!$Z$5 | H34: ='29'!$AK$5 -> 0 | I34: =sum('29'!$V$38, '29'!$V$48)& "/57" -> 0/57 | J34: ='29'!$AT$5 | K34: ='29'!$BE$5 -> 0 | L34: =sum('29'!$AP$47, '29'!$AP$54)& "/47" -> 0/47 | M34: ='29'!$BN$5 | N34: ='29'!$BY$5 -> 0 | O34: =sum('29'!$BJ$38, '29'!$BJ$43)& "/34" -> 0/34 | P34: ='29'!$CH$5 | Q34: ='29'!$CS$5 -> 0 | R34: =sum('29'!$CD$50, '29'!$CD$58)& "/61" -> 0/61 | S34: ='29'!$DB$5 | T34: ='29'!$DM$5 -> 0 | U34: =sum('29'!$CX$44, '29'!$CX$53)& "/61" -> 0/61
A35: 30 | E35: ='30'!$G$5 | F35: ='30'!$Q$5 -> 0 | G35: ='30'!$Z$5 | H35: ='30'!$AK$5 -> 0 | I35: =sum('30'!$V$38, '30'!$V$48)& "/57" -> 0/57 | J35: ='30'!$AT$5 | K35: ='30'!$BE$5 -> 0 | L35: =sum('30'!$AP$47, '30'!$AP$54)& "/47" -> 0/47 | M35: ='30'!$BN$5 | N35: ='30'!$BY$5 -> 0 | O35: =sum('30'!$BJ$38, '30'!$BJ$43)& "/34" -> 0/34 | P35: ='30'!$CH$5 | Q35: ='30'!$CS$5 -> 0 | R35: =sum('30'!$CD$50, '30'!$CD$58)& "/61" -> 0/61 | S35: ='30'!$DB$5 | T35: ='30'!$DM$5 -> 0 | U35: =sum('30'!$CX$44, '30'!$CX$53)& "/61" -> 0/61
A36: 31 | E36: ='31'!$G$5 | F36: ='30'!$Q$5 -> 0 | G36: ='31'!$Z$5 | H36: ='31'!$AK$5 -> 0 | I36: =sum('31'!$V$38, '31'!$V$48)& "/57" -> 0/57 | J36: ='31'!$AT$5 | K36: ='31'!$BE$5 -> 0 | L36: =sum('31'!$AP$47, '31'!$AP$54)& "/47" -> 0/47 | M36: ='31'!$BN$5 | N36: ='31'!$BY$5 -> 0 | O36: =sum('31'!$BJ$38, '31'!$BJ$43)& "/34" -> 0/34 | P36: ='31'!$CH$5 | Q36: ='31'!$CS$5 -> 0 | R36: =sum('31'!$CD$50, '31'!$CD$58)& "/61" -> 0/61 | S36: ='31'!$DB$5 | T36: ='31'!$DM$5 -> 0 | U36: =sum('31'!$CX$44, '31'!$CX$53)& "/61" -> 0/61
A37: 32 | E37: ='30'!$G$5 | F37: ='30'!$Q$5 -> 0 | G37: ='30'!$Z$5 | H37: ='30'!$AK$5 -> 0 | I37: =sum('30'!$V$38, '30'!$V$48)& "/57" -> 0/57 | J37: ='30'!$AT$5 | K37: ='30'!$BE$5 -> 0 | L37: =sum('30'!$AP$47, '30'!$AP$54)& "/47" -> 0/47 | M37: ='30'!$BN$5 | N37: ='30'!$BY$5 -> 0 | O37: =sum('30'!$BJ$38, '30'!$BJ$43)& "/34" -> 0/34 | P37: ='30'!$CH$5 | Q37: ='30'!$CS$5 -> 0 | R37: =sum('30'!$CD$50, '30'!$CD$58)& "/61" -> 0/61 | S37: ='30'!$DB$5 | T37: ='30'!$DM$5 -> 0 | U37: =sum('30'!$CX$44, '30'!$CX$53)& "/61" -> 0/61
E38: ='29'!$G$5 | F38: ='29'!$Q$5 -> 0 | G38: ='29'!$Z$5 | H38: ='29'!$AK$5 -> 0 | I38: =sum('29'!$V$38, '29'!$V$48)& "/57" -> 0/57 | J38: ='29'!$AT$5 | K38: ='29'!$BE$5 -> 0 | L38: =sum('29'!$AP$47, '29'!$AP$54)& "/47" -> 0/47 | M38: ='29'!$BN$5 | N38: ='29'!$BY$5 -> 0 | O38: =sum('29'!$BJ$38, '29'!$BJ$43)& "/34" -> 0/34 | P38: ='29'!$CH$5 | Q38: ='29'!$CS$5 -> 0 | R38: =sum('29'!$CD$50, '29'!$CD$58)& "/61" -> 0/61 | S38: ='29'!$DB$5 | T38: ='29'!$DM$5 -> 0 | U38: =sum('29'!$CX$44, '29'!$CX$53)& "/61" -> 0/61

Sheet Directions
C1: Guided Phonics and Beyond Mastery Assessment | J1: Delete this tab or move to the end of the spreadsheet after learning how to use it for reference. | O1: Guided Phonics and Beyond Mastery Assessment
C2: Class DataBook | O2: Unit 1: Pre-Readers | AA2: Link back to Class Data Sheet | AB2: ↴
C3: TEACHER: YOUR NAME | E3: GRADE: YOUR GRADE | H3: SCHOOL YEAR: 2023-2024 | M3: Student Name: | P3: Name will autopopulate here | Z3: CLASS DATA
A4: ↖︎ STEP 1: Enter your name, grade level, and school year above. ↗︎ | M4: Initial Test Date: | P4: Manually Enter Test Date | U4: Follow-Up Dates: | Y4: Dates if retesting is needed
A5: LINK | B5: STUDENT | D5: Current Unit | E5: Unit 1 Progress | F5: Unit 1 Score | G5: Unit 2 Progress | H5: Unit 2 Score: | I5: Unit 2 HFW | M5: Overall Unit 1 Progress: | X5: Auto-Computes⤵︎ Unit 1 Score: 0%
A6: 1 | B6: STEP 2: Enter the names of each of your students in this section. Their names will autopopulate to their indivdual sheet. ← These numbers take you directly to their data sheet. | E6: ='1'!$G$5 | F6: ='1'!$Q$5 -> 0 | G6: ='1'!$Z$5 | H6: ='1'!$AK$5 -> 0 | I6: =sum('1'!$V$38, '1'!$V$48)& "/57" -> 0/57 | M6: ='CLASS DATA'!B6 & " Mastered Unit 1 on ENTER DATE HERE" -> Mastered Unit 1 on ENTER DATE HERE
A7: 2 | E7: ='2'!$G$5 | F7: ='2'!$Q$5 -> 0 | G7: ='2'!$Z$5 | H7: ='2'!$AK$5 -> 0 | I7: =sum('2'!$V$38, '2'!$V$48)& "/57" -> 0/57 | J7: Check the known skills while using the Guided Phonics and Beyond Mastery Assessment. ⤷ | M7: Unit 1 Phonemic Awareness | AA7: NOTES:
A8: 3 | E8: ='3'!$G$5 | F8: ='3'!$Q$5 -> 0 | G8: ='3'!$Z$5 | H8: ='3'!$AK$5 -> 0 | I8: =sum('3'!$V$38, '3'!$V$48)& "/57" -> 0/57 | M8: 0 | N8: Repeating Sentences | T8: 0 | U8: Selecting Rhyming Pairs | AA8: Type Notes in the highlighted sections as needed.
A9: 4 | E9: ='4'!$G$5 | F9: ='4'!$Q$5 -> 0 | G9: ='4'!$Z$5 | H9: ='4'!$AK$5 -> 0 | I9: =sum('4'!$V$38, '4'!$V$48)& "/57" -> 0/57 | M9: 0 | N9: Clapping Sentences | T9: 1 | U9: Generate a Rhyme
A10: 5 | E10: ='5'!$G$5 | F10: ='5'!$Q$5 -> 0 | G10: ='5'!$Z$5 | H10: ='5'!$AK$5 -> 0 | I10: =sum('5'!$V$38, '5'!$V$48)& "/57" -> 0/57 | M10: 1 | N10: Counting Words in Sentences | T10: 1 | U10: Count & Blend Syllables
A11: 6 | E11: ='6'!$G$5 | F11: ='6'!$Q$5 -> 0 | G11: ='6'!$Z$5 | H11: ='6'!$AK$5 -> 0 | I11: =sum('6'!$V$38, '6'!$V$48)& "/57" -> 0/57 | M11: 1 | N11: Blending Compound Words | T11: 0 | U11: Onset & Rime
A12: 7 | E12: Don't edit these cells at all. The data will autopopulate as you enter it on the invidual student data sheets. | M12: 1 | N12: Listening for Rhyming Pairs
A13: 8 | M13: Total | N13: =sum(M8:M12,T8:T11) -> 5 | O13: /9 | P13: ← Auto-Computes
A14: 9
A15: 10 | M15: Unit 1 Phonics
A16: 11 | M16: Alphabet ● Letter Names ● Capital & Lowercase
A17: 12 | M17: 0 | N17: A | O17: 0 | P17: H | Q17: 0 | R17: O | S17: 0 | T17: V | V17: 0 | W17: a | X17: 0 | Y17: h | Z17: 0 | AA17: o | AB17: 0 | AC17: v
A18: 13 | M18: 0 | N18: B | O18: 0 | P18: I | Q18: 0 | R18: P | S18: 0 | T18: W | V18: 0 | W18: b | X18: 0 | Y18: i | Z18: 0 | AA18: p | AB18: 0 | AC18: w
A19: 14 | M19: 0 | N19: C | O19: 0 | P19: J | Q19: 0 | R19: Q | S19: 0 | T19: X | V19: 0 | W19: c | X19: 0 | Y19: j | Z19: 0 | AA19: q | AB19: 0 | AC19: x
A20: 15 | M20: 0 | N20: D | O20: 1 | P20: K | Q20: 0 | R20: R | S20: 0 | T20: Y | V20: 0 | W20: d | X20: 0 | Y20: k | Z20: 0 | AA20: r | AB20: 0 | AC20: y
A21: 16 | M21: 0 | N21: E | O21: 1 | P21: L | Q21: 0 | R21: S | S21: 0 | T21: Z | V21: 0 | W21: e | X21: 0 | Y21: l | Z21: 0 | AA21: s | AB21: 0 | AC21: z
A22: 17 | E22: ='17'!$G$5 | F22: ='17'!$Q$5 -> 0 | G22: ='17'!$Z$5 | H22: ='17'!$AK$5 -> 0 | I22: =sum('17'!$V$38, '17'!$V$48)& "/57" -> 0/57 | M22: 0 | N22: F | O22: 1 | P22: M | Q22: 0 | R22: T | V22: 0 | W22: f | X22: 0 | Y22: m | Z22: 0 | AA22: t
A23: 18 | E23: ='18'!$G$5 | F23: ='18'!$Q$5 -> 0 | G23: ='18'!$Z$5 | H23: ='18'!$AK$5 -> 0 | I23: =sum('18'!$V$38, '18'!$V$48)& "/57" -> 0/57 | M23: 0 | N23: G | O23: 1 | P23: N | Q23: 0 | R23: U | V23: 0 | W23: g | X23: 0 | Y23: n | Z23: 0 | AA23: u
A24: 19 | E24: ='19'!$G$5 | F24: ='19'!$Q$5 -> 0 | G24: ='19'!$Z$5 | H24: ='19'!$AK$5 -> 0 | I24: =sum('19'!$V$38, '19'!$V$48)& "/57" -> 0/57 | M24: Total | N24: =sum(M17:M23,O17:O23,Q17:Q23,S17:S21) -> 4 | O24: /26 | V24: Total | W24: =sum(V17:V23,X17:X23,Z17:Z23,AB17:AB21) -> 0 | X24: /26
A25: 20 | E25: ← You will manually select their current units as they progress.
A26: 21 | M26: Alphabet ● Letter Sounds ● Vowels + Consonants
A27: 22 | M27: 0 | N27: a | O27: 0 | P27: e | Q27: 0 | R27: i | S27: 0 | T27: m | U27: 0 | V27: q | W27: 0 | X27: u | Y27: 0 | Z27: y
A28: 23 | M28: 0 | N28: b | O28: 0 | P28: f | Q28: 0 | R28: j | S28: 0 | T28: n | U28: 0 | V28: r | W28: 0 | X28: v | Y28: 0 | Z28: z
A29: 24 | M29: 0 | N29: c | O29: 0 | P29: g | Q29: 0 | R29: k | S29: 0 | T29: o | U29: 0 | V29: s | W29: 0 | X29: w
A30: 25 | E30: ='25'!$G$5 | F30: ='25'!$Q$5 -> 0 | G30: ='25'!$Z$5 | H30: ='25'!$AK$5 -> 0 | I30: =sum('25'!$V$38, '25'!$V$48)& "/57" -> 0/57 | M30: 0 | N30: d | O30: 0 | P30: h | Q30: 0 | R30: l | S30: 0 | T30: p | U30: 0 | V30: t | W30: 0 | X30: x
A31: 26 | E31: ='26'!$G$5 | F31: ='26'!$Q$5 -> 0 | G31: ='26'!$Z$5 | H31: ='26'!$AK$5 -> 0 | I31: =sum('26'!$V$38, '26'!$V$48)& "/57" -> 0/57 | M31: Total | N31: =sum(M27:M30,O27:O30,Q27:Q30,S27:S30,U27:U30,W27:W30,Y27:Y28) -> 0 | O31: /26
A32: 27 | E32: ='27'!$G$5 | F32: ='27'!$Q$5 -> 0 | G32: ='27'!$Z$5 | H32: ='27'!$AK$5 -> 0 | I32: =sum('27'!$V$38, '27'!$V$48)& "/57" -> 0/57
A33: 28 | E33: ='28'!$G$5 | F33: ='28'!$Q$5 -> 0 | G33: ='28'!$Z$5 | H33: ='28'!$AK$5 -> 0 | I33: =sum('28'!$V$38, '28'!$V$48)& "/57" -> 0/57 | M33: Alphabet ● Handwriting ● Capital & Lowercase
A34: 29 | E34: ='29'!$G$5 | F34: ='29'!$Q$5 -> 0 | G34: ='29'!$Z$5 | H34: ='29'!$AK$5 -> 0 | I34: =sum('29'!$V$38, '29'!$V$48)& "/57" -> 0/57 | M34: 0 | N34: A | O34: 0 | P34: H | Q34: 0 | R34: O | S34: 0 | T34: V | V34: 0 | W34: a | X34: 0 | Y34: h | Z34: 0 | AA34: o | AB34: 0 | AC34: v
A35: 30 | E35: ='30'!$G$5 | F35: ='30'!$Q$5 -> 0 | G35: ='30'!$Z$5 | H35: ='30'!$AK$5 -> 0 | I35: =sum('30'!$V$38, '30'!$V$48)& "/57" -> 0/57 | M35: 0 | N35: B | O35: 0 | P35: I | Q35: 0 | R35: P | S35: 0 | T35: W | V35: 0 | W35: b | X35: 0 | Y35: i | Z35: 0 | AA35: p | AB35: 0 | AC35: w
M36: 0 | N36: C | O36: 0 | P36: J | Q36: 0 | R36: Q | S36: 0 | T36: X | V36: 0 | W36: c | X36: 0 | Y36: j | Z36: 0 | AA36: q | AB36: 0 | AC36: x
M37: 0 | N37: D | O37: 0 | P37: K | Q37: 0 | R37: R | S37: 0 | T37: Y | V37: 0 | W37: d | X37: 0 | Y37: k | Z37: 0 | AA37: r | AB37: 0 | AC37: y
M38: 0 | N38: E | O38: 0 | P38: L | Q38: 0 | R38: S | S38: 0 | T38: Z | V38: 0 | W38: e | X38: 0 | Y38: l | Z38: 0 | AA38: s | AB38: 0 | AC38: z
B39: Print Tips: | M39: 0 | N39: F | O39: 0 | P39: M | Q39: 0 | R39: T | V39: 0 | W39: f | X39: 0 | Y39: m | Z39: 0 | AA39: t
B40: 1. You can select certain cell ranges if you want to print only the current Unit Data to share with parents. | M40: 0 | N40: G | O40: 0 | P40: N | Q40: 0 | R40: U | V40: 0 | W40: g | X40: 0 | Y40: n | Z40: 0 | AA40: u
...

Sheet 1
D1: Guided Phonics and Beyond Mastery Assessment | W1: Guided Phonics and Beyond Mastery Assessment | AQ1: Guided Phonics and Beyond Mastery Assessment | BK1: Guided Phonics and Beyond Mastery Assessment | CE1: Guided Phonics and Beyond Mastery Assessment | CY1: Guided Phonics and Beyond Mastery Assessment
D2: Unit 1: Pre-Readers | W2: Unit 2: CVC Words | AQ2: Unit 3: Digraph and Blend Words | BK2: Unit 4: CVCe Words | CE2: UNIT 5: Ending Blends and R-Control Words | CY2: UNIT 6: Vowel Team and Diphthong Words
B3: Student Name: | E3: ='CLASS DATA'!B6 | O3: CLASS DATA | U3: Student Name: | X3: ='CLASS DATA'!B6 | AH3: CLASS DATA | AO3: Student Name: | AR3: ='CLASS DATA'!B6 | BB3: CLASS DATA | BI3: Student Name: | BL3: ='CLASS DATA'!B6 | BV3: CLASS DATA | CC3: Student Name: | CF3: ='CLASS DATA'!B6 | CP3: CLASS DATA | CW3: Student Name: | CZ3: ='CLASS DATA'!B6 | DJ3: CLASS DATA
B4: Initial Test Date: | J4: Follow-Up Dates: | U4: Initial Test Date: | AC4: Follow-Up Dates: | AO4: Initial Test Date: | AW4: Follow-Up Dates: | BI4: Initial Test Date: | BQ4: Follow-Up Dates: | CC4: Initial Test Date: | CK4: Follow-Up Dates: | CW4: Initial Test Date: | DE4: Follow-Up Dates:
B5: Overall Unit 1 Progress: | M5: Unit 1 Score: | Q5: =sum(C13,C24,L24,C31,C41,L41)/87 -> 0 | U5: Overall Unit 2 Progress: | AF5: Unit 2 Score: | AK5: =sum(V11,V19,V24,V28,V32)/55 -> 0 | AO5: Overall Unit 3 Progress: | AZ5: Unit 3 Score: | BE5: =sum(AP9,AP14,AP18,AP21,AP24,AP28,AP31,AP34,AP37,AP40)/51 -> 0 | BI5: Overall Unit 4 Progress: | BT5: Unit 4 Score: | BY5: =sum(BJ9,BJ15,BJ18,BJ22,BJ25,BJ28,BJ31)/39 -> 0 | CC5: Overall Unit 5 Progress: | CN5: Unit 5 Score: | CS5: =sum(CD9,CD15,CD18,CD21,CD25,CD28,CD31,CD35,CD41)/50 -> 0 | CW5: Overall Unit 6 Progress: | DH5: Unit 6 Score: | DM5: =sum(CX9,CX15,CX18,CX21,CX25,CX28,CX31,CX37)/43 -> 0
B6: ='CLASS DATA'!B6 & " Mastered Unit 1 on ENTER DATE HERE" -> Mastered Unit 1 on ENTER DATE HERE | U6: ='CLASS DATA'!B6 & " Mastered Unit 2 on ENTER DATE HERE" -> Mastered Unit 2 on ENTER DATE HERE | AO6: ='CLASS DATA'!B6 & " Mastered Unit 3 on ENTER DATE HERE" -> Mastered Unit 3 on ENTER DATE HERE | BI6: ='CLASS DATA'!B6 & " Mastered Unit 4 on ENTER DATE HERE" -> Mastered Unit 4 on ENTER DATE HERE | CC6: ='CLASS DATA'!B6 & " Mastered Unit 5 on ENTER DATE HERE" -> Mastered Unit 5 on ENTER DATE HERE | CW6: ='CLASS DATA'!B6 & " Mastered Unit 6 on ENTER DATE HERE" -> Mastered Unit 6 on ENTER DATE HERE
B7: Unit 1 Phonemic Awareness | P7: NOTES: | U7: Unit 2 Phonemic Awareness | AJ7: NOTES: | AO7: Unit 3 Phonemic Awareness | BD7: NOTES: | BI7: Unit 4 Phonemic Awareness | BX7: NOTES: | CC7: Unit 5 Phonemic Awareness | CR7: NOTES: | CW7: Unit 6 Phonemic Awareness | DL7: NOTES:
B8: 0 | C8: Repeating Sentences | I8: 0 | J8: Selecting Rhyming Pairs | U8: 0 | V8: Repeating Beginning Sounds | AB8: 0 | AC8: Phoneme Recognition | AO8: 0 | AP8: Segmenting Sounds in Words | AV8: 0 | AW8: Substituting Sounds in Words | BI8: 0 | BJ8: Substituting Sounds in Words | BP8: 0 | BQ8: Adding Sounds in Words | CC8: 0 | CD8: Substituting Sounds in Words | CJ8: 0 | CK8: Adding Sounds in Words | CW8: 0 | CX8: Substituting Sounds in Words | DD8: 0 | DE8: Adding Sounds in Words
B9: 0 | C9: Clapping Sentences | I9: 0 | J9: Generate a Rhyme | U9: 0 | V9: Phonemic Identification | AB9: 0 | AC9: Identifying Sounds in Words | AO9: Total | AP9: =sum(AV8,AO8) -> 0 | AQ9: /2 | BI9: Total | BJ9: =sum(BP8,BI8) -> 0 | BK9: /2 | CC9: Total | CD9: =sum(CJ8,CC8) -> 0 | CE9: /2 | CW9: Total | CX9: =sum(DD8,CW8) -> 0 | CY9: /2
B10: 0 | C10: Counting Words in Sentences | I10: 0 | J10: Count & Blend Syllables | U10: 0 | V10: Phoneme Discrimination | AB10: 0 | AC10: Phoneme Isolation
B11: 0 | C11: Blending Compound Words | I11: 0 | J11: Onset & Rime | U11: Total | V11: =sum(U8,U9,U10,AB8,AB9,AB10) -> 0 | W11: /6 | AO11: Unit 3 Phonics | BD11: NOTES: | BI11: Unit 4 Phonics | BX11: NOTES: | CC11: Unit 5 Phonics | CR11: NOTES: | CW11: Unit 6 Phonics | DL11: NOTES:
B12: 0 | C12: Listening for Rhyming Pairs | AO12: Consonant Digraphs ● Beginning + Ending | BI12: Vowel Sound Indentification ● Long + Short | CC12: Decode Consonant Ending Blend Words | CW12: Decode Vowel Team Words
B13: Total | C13: =sum(B8:B12,I8:I11) -> 0 | D13: /9 | U13: Unit 2 Phonics | AJ13: NOTES: | AO13: 0 | AP13: /th/ | AR13: 0 | AS13: /sh/ | AU13: 0 | AV13: /ch/ | AX13: 0 | AY13: /wh/ | BA13: 0 | BB13: /ck/ | BI13: 0 | BJ13: /ă/ | BL13: 0 | BM13: /ĕ/ | BO13: 0 | BP13: /ŭ/ | BR13: 0 | BS13: /ŏ/ | BU13: 0 | BV13: /ĭ/ | CC13: 0 | CD13: craft | CF13: 0 | CG13: print | CI13: 0 | CJ13: whisk | CL13: 0 | CM13: stung | CO13: 0 | CP13: skunk | CW13: 0 | CX13: gray | CZ13: 0 | DA13: queen | DC13: 0 | DD13: beach | DF13: 0 | DG13: freeze | DI13: 0 | DJ13: fruit
U14: Letter Sounds ● Including Short Vowels | AO14: Total | AP14: =sum(AO13,AR13,AU13,AX13,BA13) -> 0 | AQ14: /5 | BI14: 0 | BJ14: /ū/ | BL14: 0 | BM14: /ē/ | BO14: 0 | BP14: /ā/ | BR14: 0 | BS14: /ī/ | BU14: 0 | BV14: /ō/ | CF14: 0 | CG14: Yazmin can grasp the silk. | CL14: 0 | CM14: Brent swept the stall. | CZ14: 0 | DA14: Will Jay dress up in all gray as a knight? | DE14: 0 | DF14: Jean cried when she lost her float at the coast.
B15: Unit 1 Phonics | U15: 0 | V15: /ă/ | W15: 0 | X15: /ĕ/ | Y15: 0 | Z15: /ĭ/ | AA15: 0 | AB15: /m/ | AC15: 0 | AD15: /kw/ | AE15: 0 | AF15: /ŭ/ | AG15: 0 | AH15: /y/ | AO15: Decode Digraph Words | BI15: Total | BJ15: =sum(BI13,BI14,BL13,BL14,BO13,BO14,BR13,BR14,BU13,BU14) -> 0 | BK15: /10 | CC15: Total | CD15: =sum(CC13,CF13:CF14,CI13,CL13:CL14,CO13) -> 0 | CE15: /7 | CW15: Total | CX15: =sum(CW13,CZ13,CZ14,DC13,DF13,DE14,DI13) -> 0 | CY15: /7
B16: Alphabet ● Letter Names ● Capital & Lowercase | U16: 0 | V16: /b/ | W16: 0 | X16: /f/ | Y16: 0 | Z16: /j/ | AA16: 0 | AB16: /n/ | AC16: 0 | AD16: /r/ | AE16: 0 | AF16: /v/ | AG16: 0 | AH16: /z/ | AO16: 0 | AP16: ship | AR16: 0 | AS16: thick | AU16: 0 | AV16: whiz | AX16: 0 | AY16: chat | BA16: 0 | BB16: rash | BI16: Coding Vowels ● Long + Short | CC16: Encode Consonant Ending Blend Words | CW16: Encode Vowel Team Words
B17: 0 | C17: A | D17: 0 | E17: H | F17: 0 | G17: O | H17: 0 | I17: V | K17: 0 | L17: a | M17: 0 | N17: h | O17: 0 | P17: o | Q17: 0 | R17: v | U17: 0 | V17: /k/ | W17: 0 | X17: /g/ | Y17: 0 | Z17: /k/ | AA17: 0 | AB17: /o/ | AC17: 0 | AD17: /s/ | AE17: 0 | AF17: /w/ | AG17: 0 | AH17: /k/ | AR17: 0 | AS17: The ship is in the shop. | AX17: 0 | AY17: Is that the path | BI17: 0 | BJ17: can | BL17: 0 | BM17: tote | BO17: 0 | BP17: cane | BR17: 0 | BS17: tot | BU17: 0 | BV17: cube | CC17: 0 | CD17: desk | CF17: 0 | CG17: champ | CI17: 0 | CJ17: twist | CL17: 0 | CM17: shelf | CO17: 0 | CP17: grasp | CW17: 0 | CX17: queen | CZ17: 0 | DA17: chain | DC17: 0 | DD17: peach | DF17: 0 | DG17: steak | DI17: 0 | DJ17: spoil
B18: 0 | C18: B | D18: 0 | E18: I | F18: 0 | G18: P | H18: 0 | I18: W | K18: 0 | L18: b | M18: 0 | N18: i | O18: 0 | P18: p | Q18: 0 | R18: w | U18: 0 | V18: /d/ | W18: 0 | X18: /h/ | Y18: 0 | Z18: /l/ | AA18: 0 | AB18: /p/ | AC18: 0 | AD18: /t/ | AE18: 0 | AF18: /ks/ | AO18: Total | AP18: =sum(AO16,AR16:AR17,AU16,AX16:AX17,BA16) -> 0 | AQ18: /7 | BI18: Total | BJ18: =sum(BI17,BL17,BO17,BR17,BU17) -> 0 | BK18: /5 | CC18: Total | CD18: =sum(CC17,CF17,CI17,CL17,CO17) -> 0 | CE18: /5 | CW18: Total | CX18: =sum(CW17,CZ17,DC17,DF17,DI17) -> 0 | CY18: /5
B19: 0 | C19: C | D19: 0 | E19: J | F19: 0 | G19: Q | H19: 0 | I19: X | K19: 0 | L19: c | M19: 0 | N19: j | O19: 0 | P19: q | Q19: 0 | R19: x | U19: Total | V19: =sum(U15:U18,W15:W18,Y15:Y18,AA15:AA18,AC15:AC18,AE15:AE18,AG15:AG17) -> 0 | W19: /27 | X19: 0 | Y19: /s/ soft c | AB19: 0 | AC19: /j/ soft g | AO19: Encode Digraph Words | BI19: Decode CVCE Words | CC19: Writing Consonant Ending Blend Words ● Dictation | CW19: Writing Vowel Team Words ● Dictation
B20: 0 | C20: D | D20: 0 | E20: K | F20: 0 | G20: R | H20: 0 | I20: Y | K20: 0 | L20: d | M20: 0 | N20: k | O20: 0 | P20: r | Q20: 0 | R20: y | AO20: 0 | AP20: rash | AR20: 0 | AS20: whack | AU20: 0 | AV20: shop | AX20: 0 | AY20: chop | BA20: 0 | BB20: duck | BI20: 0 | BJ20: rake | BL20: 0 | BM20: bone | BO20: 0 | BP20: hide | BR20: 0 | BS20: tube | BU20: 0 | BV20: Pete | CC20: 0 | CD20: scold | CF20: 0 | CG20: troll | CI20: 0 | CJ20: next | CL20: 0 | CM20: blink | CO20: 0 | CP20: skull | CW20: 0 | CX20: brain | CZ20: 0 | DA20: wreath | DC20: 0 | DD20: cried | DF20: 0 | DG20: light | DI20: 0 | DJ20: sleigh
B21: 0 | C21: E | D21: 0 | E21: L | F21: 0 | G21: S | H21: 0 | I21: Z | K21: 0 | L21: e | M21: 0 | N21: l | O21: 0 | P21: s | Q21: 0 | R21: z | U21: Decode CVC Words | AO21: Total | AP21: =sum(AO20,AR20,AU20,AX20,BA20) -> 0 | AQ21: /5 | BL21: 0 | BM21: Mike will ride his bike, | BR21: 0 | BS21: June made a cake. | CC21: Total | CD21: =sum(CC20,CF20,CI20,CL20,CO20) -> 0 | CE21: /5 | CW21: Total | CX21: =sum(CW20,CZ20,DC20,DF20,DI20) -> 0 | CY21: /5
B22: 0 | C22: F | D22: 0 | E22: M | F22: 0 | G22: T | K22: 0 | L22: f | M22: 0 | N22: m | O22: 0 | P22: t | U22: 0 | V22: cat | X22: 0 | Y22: pet | AA22: 0 | AB22: wig | AD22: 0 | AE22: dog | AG22: 0 | AH22: mud | AO22: Writing Digraph Words ● Dictation | BI22: Total | BJ22: =sum(BI20,BL20:BL21,BO20,BR20:BR21,BU20) -> 0 | BK22: /7 | CC22: Decode R-Controlled Words | CW22: Decode Diphthong Words
B23: 0 | C23: G | D23: 0 | E23: N | F23: 0 | G23: U | K23: 0 | L23: g | M23: 0 | N23: n | O23: 0 | P23: u | U23: 0 | V23: pab | X23: 0 | Y23: nef | AA23: 0 | AB23: vip | AD23: 0 | AE23: yod | AG23: 0 | AH23: jub | AO23: 0 | AP23: chin | AR23: 0 | AS23: thud | AU23: 0 | AV23: shed | AX23: 0 | AY23: whiz | BA23: 0 | BB23: shock | BI23: Encode CVCE Words | CC23: 0 | CD23: chart | CF23: 0 | CG23: sort | CI23: 0 | CJ23: clerk | CL23: 0 | CM23: blurb | CO23: 0 | CP23: floor | CW23: 0 | CX23: gnaw | CZ23: 0 | DA23: growl | DC23: 0 | DD23: joy | DF23: 0 | DG23: cough | DI23: 0 | DJ23: taught
B24: Total | C24: =sum(B17:B23,D17:D23,F17:F23,H17:H21) -> 0 | D24: /26 | K24: Total | L24: =sum(K17:K23,M17:M23,O17:O23,Q17:Q21) -> 0 | M24: /26 | U24: Total | V24: =sum(U22,U23,X22:X24,AA22:AA23,AD22:AD24,AG22:AG23) -> 0 | W24: /12 | X24: 0 | Y24: A cat can nap. | AD24: 0 | AE24: The men had fun. | AO24: Total | AP24: =sum(AO23,AR23,AU23,AX23,BA23) -> 0 | AQ24: /5 | BI24: 0 | BJ24: cone | BL24: 0 | BM24: hike | BO24: 0 | BP24: mule | BR24: 0 | BS24: cape | BU24: 0 | BV24: hive | CF24: 0 | CG24: Barb will cheer and twirl. | CL24: 0 | CM24: Bert did not blurt. | CZ24: 0 | DA24: The cowboy has a decoy. | DE24: 0 | DF24: Trey brought a brew to the haunt.
AO25: Decode Beginning Consonant Blend Words | BI25: Total | BJ25: =sum(BI24,BL24,BO24,BR24,BU24) -> 0 | BK25: /5 | CC25: Total | CD25: =sum(CC23,CF23:CF24,CI23,CL23:CL24,CO23) -> 0 | CE25: /7 | CW25: Total | CX25: =sum(CW23,CZ23,CZ24,DC23,DF23,DE24,DI23) -> 0 | CY25: /7
B26: Alphabet ● Letter Sounds ● Vowels + Consonants | U26: Encode CVC Words | AO26: 0 | AP26: bluff | AR26: 0 | AS26: bliss | AU26: 0 | AV26: spill | AX26: 0 | AY26: scuff | BA26: 0 | BB26: frizz | BI26: Writing CVCE Words ● Dictation | CC26: Encode R-Controlled Words | CW26: Encode Diphthong Words
B27: 0 | C27: a | D27: 0 | E27: e | F27: 0 | G27: i | H27: 0 | I27: m | J27: 0 | K27: q | L27: 0 | M27: u | N27: 0 | O27: y | U27: 0 | V27: map | X27: 0 | Y27: net | AA27: 0 | AB27: lip | AD27: 0 | AE27: log | AG27: 0 | AH27: sun | AR27: 0 | AS27: Prim will spiff up the class. | AX27: 0 | AY27: Will Matt miss his dad? | BI27: 0 | BJ27: mane | BL27: 0 | BM27: Pete | BO27: 0 | BP27: five | BR27: 0 | BS27: dome | BU27: 0 | BV27: dune | CC27: 0 | CD27: star | CF27: 0 | CG27: thorn | CI27: 0 | CJ27: skirt | CL27: 0 | CM27: deer | CO27: 0 | CP27: turn | CW27: 0 | CX27: stew | CZ27: 0 | DA27: point | DC27: 0 | DD27: draw | DF27: 0 | DG27: mouth | DI27: 0 | DJ27: spoon
B28: 0 | C28: b | D28: 0 | E28: f | F28: 0 | G28: j | H28: 0 | I28: n | J28: 0 | K28: r | L28: 0 | M28: v | N28: 0 | O28: z | U28: Total | V28: =sum(U27,X27,AA27,AD27,AG27) -> 0 | W28: /5 | AO28: Total | AP28: =sum(AO26,AR26:AR27,AU26,AX26:AX27,BA26) -> 0 | AQ28: /7 | BI28: Total | BJ28: =sum(BI27,BL27,BO27,BR27,BU27) -> 0 | BK28: /5 | CC28: Total | CD28: =sum(CC27,CF27,CI27,CL27,CO27) -> 0 | CE28: /5 | CW28: Total | CX28: =sum(CW27,CZ27,DC27,DF27,DI27) -> 0 | CY28: /5
B29: 0 | C29: c | D29: 0 | E29: g | F29: 0 | G29: k | H29: 0 | I29: o | J29: 0 | K29: s | L29: 0 | M29: w | AO29: Encode Beginning Consonant Blend Words | BI29: Decode Multiple-Syllable Words | CC29: Writing R-Controlled Words ● Dictation | CW29: Writing Diphthong Words ● Dictation
B30: 0 | C30: d | D30: 0 | E30: h | F30: 0 | G30: l | H30: 0 | I30: p | J30: 0 | K30: t | L30: 0 | M30: x | U30: Writing CVC Words ● Dictation | AO30: 0 | AP30: truck | AR30: 0 | AS30: sniff | AU30: 0 | AV30: brush | AX30: 0 | AY30: dress | BA30: 0 | BB30: crash | BI30: 0 | BJ30: inside | BL30: 0 | BM30: dislike | BO30: 0 | BP30: debate | BR30: 0 | BS30: cupcake | BU30: 0 | BV30: unsafe | CC30: 0 | CD30: scar | CF30: 0 | CG30: corn | CI30: 0 | CJ30: stern | CL30: 0 | CM30: churn | CO30: 0 | CP30: bird | CW30: 0 | CX30: caught | CZ30: 0 | DA30: straw | DC30: 0 | DD30: snooze | DF30: 0 | DG30: squawk | DI30: 0 | DJ30: screw
B31: Total | C31: =sum(B27:B30,D27:D30,F27:F30,H27:H30,J27:J30,L27:L30,N27:N28) -> 0 | D31: /26 | U31: 0 | V31: cap | X31: 0 | Y31: jet | AA31: 0 | AB31: dig | AD31: 0 | AE31: hot | AG31: 0 | AH31: bug | AO31: Total | AP31: =sum(AO30,AR30,AU30,AX30,BA30) -> 0 | AQ31: /5 | BI31: Total | BJ31: =sum(BI30,BL30,BO30,BR30,BU30) -> 0 | BK31: /5 | CC31: Total | CD31: =sum(CC30,CF30,CI30,CL30,CO30) -> 0 | CE31: /5 | CW31: Total | CX31: =sum(CW30,CZ30,DC30,DF30,DI30) -> 0 | CY31: /5
U32: Total | V32: =sum(U31,X31,AA31,AD31,AG31) -> 0 | W32: /5 | AO32: Writing Beginning Consonant Blend Words ● Dictation | CC32: Decode Consonant Silent Sound Words | CW32: Decode Multiple-Syllable Words
B33: Alphabet ● Handwriting ● Capital & Lowercase | AO33: 0 | AP33: grass | AR33: 0 | AS33: twill | AU33: 0 | AV33: stack | AX33: 0 | AY33: skill | BA33: 0 | BB33: swell | BI33: Unit 4 High Frequency Words | CC33: 0 | CD33: write | CF33: 0 | CG33: knife | CI33: 0 | CJ33: knock | CL33: 0 | CM33: thumb | CO33: 0 | CP33: graph | CW33: 0 | CX33: teacup | DB33: 0 | DC33: defeat | DG33: 0 | DH33: crossroad
B34: 0 | C34: A | D34: 0 | E34: H | F34: 0 | G34: O | H34: 0 | I34: V | K34: 0 | L34: a | M34: 0 | N34: h | O34: 0 | P34: o | Q34: 0 | R34: v | U34: Unit 2 High Frequency Words | AO34: Total | AP34: =sum(AO33,AR33,AU33,AX33,BA33) -> 0 | AQ34: /5 | BI34: Irregular High Frequency Words | CC34: 0 | CD34: The gnat will climb on a crumb. | CJ34: 0 | CK34: Knox is a gnome. | CZ34: 0 | DA34: sailboat | DE34: 0 | DF34: reload
B35: 0 | C35: B | D35: 0 | E35: I | F35: 0 | G35: P | H35: 0 | I35: W | K35: 0 | L35: b | M35: 0 | N35: i | O35: 0 | P35: p | Q35: 0 | R35: w | U35: Irregular High Frequency Words | AO35: Decode Multiple-Syllable Words | BI35: 0 | BJ35: her | BL35: 0 | BM35: upon | BO35: 0 | BP35: love | BR35: 0 | BS35: come | BU35: 0 | BV35: none | CC35: Total | CD35: =sum(CC33,CC34,CF33,CI33,CL33,CO33,CJ34) -> 0 | CE35: /7 | CW35: 0 | CX35: The coach had to proclaim it in an email.
B36: 0 | C36: C | D36: 0 | E36: J | F36: 0 | G36: Q | H36: 0 | I36: X | K36: 0 | L36: c | M36: 0 | N36: j | O36: 0 | P36: q | Q36: 0 | R36: x | U36: 0 | V36: I | X36: 0 | Y36: the | AA36: 0 | AB36: see | AD36: 0 | AE36: do | AG36: 0 | AH36: into | AO36: 0 | AP36: sunset | AR36: 0 | AS36: catfish | AU36: 0 | AV36: pigpen | AX36: 0 | AY36: upset | BA36: 0 | BB36: inlet | BI36: 0 | BJ36: were | BL36: 0 | BM36: little | BO36: 0 | BP36: give | BR36: 0 | BS36: some | BU36: 0 | BV36: now | CC36: Decode Multiple-Syllable Words | CW36: 0 | CX36: Will the seamstress fix the inseam?
B37: 0 | C37: D | D37: 0 | E37: K | F37: 0 | G37: R | H37: 0 | I37: Y | K37: 0 | L37: d | M37: 0 | N37: k | O37: 0 | P37: r | Q37: 0 | R37: y | U37: 0 | V37: like | X37: 0 | Y37: a | AA37: 0 | AB37: to | AD37: 0 | AE37: look | AG37: 0 | AH37: said | AO37: Total | AP37: =sum(AO36,AR36,AU36,AX36,BA36) -> 0 | AQ37: /5 | BI37: 0 | BJ37: once | BL37: 0 | BM37: have | BO37: 0 | BP37: live | BR37: 0 | BS37: done | BU37: 0 | BV37: how | CC37: 0 | CD37: ringlet | CH37: 0 | CI37: anklet | CM37: 0 | CN37: hamstring | CW37: Total | CX37: =sum(CW33,DB33,DG33,CZ34,DE34,CW35,CW36) -> 0 | CY37: /7
B38: 0 | C38: E | D38: 0 | E38: L | F38: 0 | G38: S | H38: 0 | I38: Z | K38: 0 | L38: e | M38: 0 | N38: l | O38: 0 | P38: s | Q38: 0 | R38: z | U38: Total | V38: =sum(U36,U37,X36:X37,AA36:AA37,AD36:AD37,AG36:AG37) -> 0 | W38: /10 | AO38: Decode Open Syllable Words | BI38: Total | BJ38: =sum(BI35:BI37,BL35:BL37,BO35:BO37,BR35:BR37,BU35:BU37) -> 0 | BK38: /15 | CF38: 0 | CG38: butternut | CK38: 0 | CL38: canister
B39: 0 | C39: F | D39: 0 | E39: M | F39: 0 | G39: T | K39: 0 | L39: f | M39: 0 | N39: m | O39: 0 | P39: t | AO39: 0 | AP39: jumbo | AR39: 0 | AS39: polo | AU39: 0 | AV39: veto | AX39: 0 | AY39: tulip | BA39: 0 | BB39: unit | BI39: Decodable High Frequency Words | CC39: 0 | CD39: The otter made a blockbuster home. | CW39: Unit 6 High Frequency Words
B40: 0 | C40: G | D40: 0 | E40: N | F40: 0 | G40: U | K40: 0 | L40: g | M40: 0 | N40: n | O40: 0 | P40: u | U40: Decodable High Frequency Words | AO40: Total | AP40: =sum(AO39,AR39,AU39,AX39,BA39) -> 0 | AQ40: /5 | BI40: 0 | BJ40: came | BK40: 0 | BL40: take | BM40: 0 | BN40: cake | BO40: 0 | BP40: make | BQ40: 0 | BR40: made | BS40: 0 | BT40: gave | BU40: 0 | BV40: ate | CC40: 0 | CD40: Is that peppermint in the canister? | CW40: Irregular High Frequency Words
...

Sheet 2
D1: Guided Phonics and Beyond Mastery Assessment | W1: Guided Phonics and Beyond Mastery Assessment | AQ1: Guided Phonics and Beyond Mastery Assessment | BK1: Guided Phonics and Beyond Mastery Assessment | CE1: Guided Phonics and Beyond Mastery Assessment | CY1: Guided Phonics and Beyond Mastery Assessment
D2: Unit 1: Pre-Readers | W2: Unit 2: CVC Words | AQ2: Unit 3: Digraph and Blend Words | BK2: Unit 4: CVCe Words | CE2: UNIT 5: Ending Blends and R-Control Words | CY2: UNIT 6: Vowel Team and Diphthong Words
B3: Student Name: | E3: ='CLASS DATA'!B7 | O3: CLASS DATA | U3: Student Name: | X3: ='CLASS DATA'!B7 | AH3: CLASS DATA | AO3: Student Name: | AR3: ='CLASS DATA'!B7 | BB3: CLASS DATA | BI3: Student Name: | BL3: ='CLASS DATA'!B7 | BV3: CLASS DATA | CC3: Student Name: | CF3: ='CLASS DATA'!B7 | CP3: CLASS DATA | CW3: Student Name: | CZ3: ='CLASS DATA'!B7 | DJ3: CLASS DATA
B4: Initial Test Date: | J4: Follow-Up Dates: | U4: Initial Test Date: | AC4: Follow-Up Dates: | AO4: Initial Test Date: | AW4: Follow-Up Dates: | BI4: Initial Test Date: | BQ4: Follow-Up Dates: | CC4: Initial Test Date: | CK4: Follow-Up Dates: | CW4: Initial Test Date: | DE4: Follow-Up Dates:
B5: Overall Unit 1 Progress: | M5: Unit 1 Score: | Q5: =sum(C13,C24,L24,C31,C41,L41)/87 -> 0 | U5: Overall Unit 2 Progress: | AF5: Unit 2 Score: | AK5: =sum(V11,V19,V24,V28,V32)/55 -> 0 | AO5: Overall Unit 3 Progress: | AZ5: Unit 3 Score: | BE5: =sum(AP9,AP14,AP18,AP21,AP24,AP28,AP31,AP34,AP37,AP40)/51 -> 0 | BI5: Overall Unit 4 Progress: | BT5: Unit 4 Score: | BY5: =sum(BJ9,BJ15,BJ18,BJ22,BJ25,BJ28,BJ31)/39 -> 0 | CC5: Overall Unit 5 Progress: | CN5: Unit 5 Score: | CS5: =sum(CD9,CD15,CD18,CD21,CD25,CD28,CD31,CD35,CD41)/50 -> 0 | CW5: Overall Unit 6 Progress: | DH5: Unit 6 Score: | DM5: =sum(CX9,CX15,CX18,CX21,CX25,CX28,CX31,CX37)/43 -> 0
B6: ='CLASS DATA'!B7 & " Mastered Unit 1 on ENTER DATE HERE" -> Mastered Unit 1 on ENTER DATE HERE | U6: ='CLASS DATA'!B7 & " Mastered Unit 2 on ENTER DATE HERE" -> Mastered Unit 2 on ENTER DATE HERE | AO6: ='CLASS DATA'!B7 & " Mastered Unit 3 on ENTER DATE HERE" -> Mastered Unit 3 on ENTER DATE HERE | BI6: ='CLASS DATA'!B7 & " Mastered Unit 4 on ENTER DATE HERE" -> Mastered Unit 4 on ENTER DATE HERE | CC6: ='CLASS DATA'!B7 & " Mastered Unit 5 on ENTER DATE HERE" -> Mastered Unit 5 on ENTER DATE HERE | CW6: ='CLASS DATA'!B7 & " Mastered Unit 6 on ENTER DATE HERE" -> Mastered Unit 6 on ENTER DATE HERE
B7: Unit 1 Phonemic Awareness | P7: NOTES: | U7: Unit 2 Phonemic Awareness | AJ7: NOTES: | AO7: Unit 3 Phonemic Awareness | BD7: NOTES: | BI7: Unit 4 Phonemic Awareness | BX7: NOTES: | CC7: Unit 5 Phonemic Awareness | CR7: NOTES: | CW7: Unit 6 Phonemic Awareness | DL7: NOTES:
B8: 0 | C8: Repeating Sentences | I8: 0 | J8: Selecting Rhyming Pairs | U8: 0 | V8: Repeating Beginning Sounds | AB8: 0 | AC8: Phoneme Recognition | AO8: 0 | AP8: Segmenting Sounds in Words | AV8: 0 | AW8: Substituting Sounds in Words | BI8: 0 | BJ8: Substituting Sounds in Words | BP8: 0 | BQ8: Adding Sounds in Words | CC8: 0 | CD8: Substituting Sounds in Words | CJ8: 0 | CK8: Adding Sounds in Words | CW8: 0 | CX8: Substituting Sounds in Words | DD8: 0 | DE8: Adding Sounds in Words
B9: 0 | C9: Clapping Sentences | I9: 0 | J9: Generate a Rhyme | U9: 0 | V9: Phonemic Identification | AB9: 0 | AC9: Identifying Sounds in Words | AO9: Total | AP9: =sum(AV8,AO8) -> 0 | AQ9: /2 | BI9: Total | BJ9: =sum(BP8,BI8) -> 0 | BK9: /2 | CC9: Total | CD9: =sum(CJ8,CC8) -> 0 | CE9: /2 | CW9: Total | CX9: =sum(DD8,CW8) -> 0 | CY9: /2
B10: 0 | C10: Counting Words in Sentences | I10: 0 | J10: Count & Blend Syllables | U10: 0 | V10: Phoneme Discrimination | AB10: 0 | AC10: Phoneme Isolation
B11: 0 | C11: Blending Compound Words | I11: 0 | J11: Onset & Rime | U11: Total | V11: =sum(U8,U9,U10,AB8,AB9,AB10) -> 0 | W11: /6 | AO11: Unit 3 Phonics | BD11: NOTES: | BI11: Unit 4 Phonics | BX11: NOTES: | CC11: Unit 5 Phonics | CR11: NOTES: | CW11: Unit 6 Phonics | DL11: NOTES:
B12: 0 | C12: Listening for Rhyming Pairs | AO12: Consonant Digraphs ● Beginning + Ending | BI12: Vowel Sound Indentification ● Long + Short | CC12: Decode Consonant Ending Blend Words | CW12: Decode Vowel Team Words
B13: Total | C13: =sum(B8:B12,I8:I11) -> 0 | D13: /9 | U13: Unit 2 Phonics | AJ13: NOTES: | AO13: 0 | AP13: /th/ | AR13: 0 | AS13: /sh/ | AU13: 0 | AV13: /ch/ | AX13: 0 | AY13: /wh/ | BA13: 0 | BB13: /ck/ | BI13: 0 | BJ13: /ă/ | BL13: 0 | BM13: /ĕ/ | BO13: 0 | BP13: /ŭ/ | BR13: 0 | BS13: /ŏ/ | BU13: 0 | BV13: /ĭ/ | CC13: 0 | CD13: craft | CF13: 0 | CG13: print | CI13: 0 | CJ13: whisk | CL13: 0 | CM13: stung | CO13: 0 | CP13: skunk | CW13: 0 | CX13: gray | CZ13: 0 | DA13: queen | DC13: 0 | DD13: beach | DF13: 0 | DG13: freeze | DI13: 0 | DJ13: fruit
U14: Letter Sounds ● Including Short Vowels | AO14: Total | AP14: =sum(AO13,AR13,AU13,AX13,BA13) -> 0 | AQ14: /5 | BI14: 0 | BJ14: /ū/ | BL14: 0 | BM14: /ē/ | BO14: 0 | BP14: /ā/ | BR14: 0 | BS14: /ī/ | BU14: 0 | BV14: /ō/ | CF14: 0 | CG14: Yazmin can grasp the silk. | CL14: 0 | CM14: Brent swept the stall. | CZ14: 0 | DA14: Will Jay dress up in all gray as a knight? | DE14: 0 | DF14: Jean cried when she lost her float at the coast.
B15: Unit 1 Phonics | U15: 0 | V15: /ă/ | W15: 0 | X15: /ĕ/ | Y15: 0 | Z15: /ĭ/ | AA15: 0 | AB15: /m/ | AC15: 0 | AD15: /kw/ | AE15: 0 | AF15: /ŭ/ | AG15: 0 | AH15: /y/ | AO15: Decode Digraph Words | BI15: Total | BJ15: =sum(BI13,BI14,BL13,BL14,BO13,BO14,BR13,BR14,BU13,BU14) -> 0 | BK15: /10 | CC15: Total | CD15: =sum(CC13,CF13:CF14,CI13,CL13:CL14,CO13) -> 0 | CE15: /7 | CW15: Total | CX15: =sum(CW13,CZ13,CZ14,DC13,DF13,DE14,DI13) -> 0 | CY15: /7
B16: Alphabet ● Letter Names ● Capital & Lowercase | U16: 0 | V16: /b/ | W16: 0 | X16: /f/ | Y16: 0 | Z16: /j/ | AA16: 0 | AB16: /n/ | AC16: 0 | AD16: /r/ | AE16: 0 | AF16: /v/ | AG16: 0 | AH16: /z/ | AO16: 0 | AP16: ship | AR16: 0 | AS16: thick | AU16: 0 | AV16: whiz | AX16: 0 | AY16: chat | BA16: 0 | BB16: rash | BI16: Coding Vowels ● Long + Short | CC16: Encode Consonant Ending Blend Words | CW16: Encode Vowel Team Words
B17: 0 | C17: A | D17: 0 | E17: H | F17: 0 | G17: O | H17: 0 | I17: V | K17: 0 | L17: a | M17: 0 | N17: h | O17: 0 | P17: o | Q17: 0 | R17: v | U17: 0 | V17: /k/ | W17: 0 | X17: /g/ | Y17: 0 | Z17: /k/ | AA17: 0 | AB17: /o/ | AC17: 0 | AD17: /s/ | AE17: 0 | AF17: /w/ | AG17: 0 | AH17: /k/ | AR17: 0 | AS17: The ship is in the shop. | AX17: 0 | AY17: Is that the path | BI17: 0 | BJ17: can | BL17: 0 | BM17: tote | BO17: 0 | BP17: cane | BR17: 0 | BS17: tot | BU17: 0 | BV17: cube | CC17: 0 | CD17: desk | CF17: 0 | CG17: champ | CI17: 0 | CJ17: twist | CL17: 0 | CM17: shelf | CO17: 0 | CP17: grasp | CW17: 0 | CX17: queen | CZ17: 0 | DA17: chain | DC17: 0 | DD17: peach | DF17: 0 | DG17: steak | DI17: 0 | DJ17: spoil
B18: 0 | C18: B | D18: 0 | E18: I | F18: 0 | G18: P | H18: 0 | I18: W | K18: 0 | L18: b | M18: 0 | N18: i | O18: 0 | P18: p | Q18: 0 | R18: w | U18: 0 | V18: /d/ | W18: 0 | X18: /h/ | Y18: 0 | Z18: /l/ | AA18: 0 | AB18: /p/ | AC18: 0 | AD18: /t/ | AE18: 0 | AF18: /ks/ | AO18: Total | AP18: =sum(AO16,AR16:AR17,AU16,AX16:AX17,BA16) -> 0 | AQ18: /7 | BI18: Total | BJ18: =sum(BI17,BL17,BO17,BR17,BU17) -> 0 | BK18: /5 | CC18: Total | CD18: =sum(CC17,CF17,CI17,CL17,CO17) -> 0 | CE18: /5 | CW18: Total | CX18: =sum(CW17,CZ17,DC17,DF17,DI17) -> 0 | CY18: /5
B19: 0 | C19: C | D19: 0 | E19: J | F19: 0 | G19: Q | H19: 0 | I19: X | K19: 0 | L19: c | M19: 0 | N19: j | O19: 0 | P19: q | Q19: 0 | R19: x | U19: Total | V19: =sum(U15:U18,W15:W18,Y15:Y18,AA15:AA18,AC15:AC18,AE15:AE18,AG15:AG17) -> 0 | W19: /27 | X19: 0 | Y19: /s/ soft c | AB19: 0 | AC19: /j/ soft g | AO19: Encode Digraph Words | BI19: Decode CVCE Words | CC19: Writing Consonant Ending Blend Words ● Dictation | CW19: Writing Vowel Team Words ● Dictation
B20: 0 | C20: D | D20: 0 | E20: K | F20: 0 | G20: R | H20: 0 | I20: Y | K20: 0 | L20: d | M20: 0 | N20: k | O20: 0 | P20: r | Q20: 0 | R20: y | AO20: 0 | AP20: rash | AR20: 0 | AS20: whack | AU20: 0 | AV20: shop | AX20: 0 | AY20: chop | BA20: 0 | BB20: duck | BI20: 0 | BJ20: rake | BL20: 0 | BM20: bone | BO20: 0 | BP20: hide | BR20: 0 | BS20: tube | BU20: 0 | BV20: Pete | CC20: 0 | CD20: scold | CF20: 0 | CG20: troll | CI20: 0 | CJ20: next | CL20: 0 | CM20: blink | CO20: 0 | CP20: skull | CW20: 0 | CX20: brain | CZ20: 0 | DA20: wreath | DC20: 0 | DD20: cried | DF20: 0 | DG20: light | DI20: 0 | DJ20: sleigh
B21: 0 | C21: E | D21: 0 | E21: L | F21: 0 | G21: S | H21: 0 | I21: Z | K21: 0 | L21: e | M21: 0 | N21: l | O21: 0 | P21: s | Q21: 0 | R21: z | U21: Decode CVC Words | AO21: Total | AP21: =sum(AO20,AR20,AU20,AX20,BA20) -> 0 | AQ21: /5 | BL21: 0 | BM21: Mike will ride his bike, | BR21: 0 | BS21: June made a cake. | CC21: Total | CD21: =sum(CC20,CF20,CI20,CL20,CO20) -> 0 | CE21: /5 | CW21: Total | CX21: =sum(CW20,CZ20,DC20,DF20,DI20) -> 0 | CY21: /5
B22: 0 | C22: F | D22: 0 | E22: M | F22: 0 | G22: T | K22: 0 | L22: f | M22: 0 | N22: m | O22: 0 | P22: t | U22: 0 | V22: cat | X22: 0 | Y22: pet | AA22: 0 | AB22: wig | AD22: 0 | AE22: dog | AG22: 0 | AH22: mud | AO22: Writing Digraph Words ● Dictation | BI22: Total | BJ22: =sum(BI20,BL20:BL21,BO20,BR20:BR21,BU20) -> 0 | BK22: /7 | CC22: Decode R-Controlled Words | CW22: Decode Diphthong Words
B23: 0 | C23: G | D23: 0 | E23: N | F23: 0 | G23: U | K23: 0 | L23: g | M23: 0 | N23: n | O23: 0 | P23: u | U23: 0 | V23: pab | X23: 0 | Y23: nef | AA23: 0 | AB23: vip | AD23: 0 | AE23: yod | AG23: 0 | AH23: jub | AO23: 0 | AP23: chin | AR23: 0 | AS23: thud | AU23: 0 | AV23: shed | AX23: 0 | AY23: whiz | BA23: 0 | BB23: shock | BI23: Encode CVCE Words | CC23: 0 | CD23: chart | CF23: 0 | CG23: sort | CI23: 0 | CJ23: clerk | CL23: 0 | CM23: blurb | CO23: 0 | CP23: floor | CW23: 0 | CX23: gnaw | CZ23: 0 | DA23: growl | DC23: 0 | DD23: joy | DF23: 0 | DG23: cough | DI23: 0 | DJ23: taught
B24: Total | C24: =sum(B17:B23,D17:D23,F17:F23,H17:H21) -> 0 | D24: /26 | K24: Total | L24: =sum(K17:K23,M17:M23,O17:O23,Q17:Q21) -> 0 | M24: /26 | U24: Total | V24: =sum(U22,U23,X22:X24,AA22:AA23,AD22:AD24,AG22:AG23) -> 0 | W24: /12 | X24: 0 | Y24: A cat can nap. | AD24: 0 | AE24: The men had fun. | AO24: Total | AP24: =sum(AO23,AR23,AU23,AX23,BA23) -> 0 | AQ24: /5 | BI24: 0 | BJ24: cone | BL24: 0 | BM24: hike | BO24: 0 | BP24: mule | BR24: 0 | BS24: cape | BU24: 0 | BV24: hive | CF24: 0 | CG24: Barb will cheer and twirl. | CL24: 0 | CM24: Bert did not blurt. | CZ24: 0 | DA24: The cowboy has a decoy. | DE24: 0 | DF24: Trey brought a brew to the haunt.
AO25: Decode Beginning Consonant Blend Words | BI25: Total | BJ25: =sum(BI24,BL24,BO24,BR24,BU24) -> 0 | BK25: /5 | CC25: Total | CD25: =sum(CC23,CF23:CF24,CI23,CL23:CL24,CO23) -> 0 | CE25: /7 | CW25: Total | CX25: =sum(CW23,CZ23,CZ24,DC23,DF23,DE24,DI23) -> 0 | CY25: /7
B26: Alphabet ● Letter Sounds ● Vowels + Consonants | U26: Encode CVC Words | AO26: 0 | AP26: bluff | AR26: 0 | AS26: bliss | AU26: 0 | AV26: spill | AX26: 0 | AY26: scuff | BA26: 0 | BB26: frizz | BI26: Writing CVCE Words ● Dictation | CC26: Encode R-Controlled Words | CW26: Encode Diphthong Words
B27: 0 | C27: a | D27: 0 | E27: e | F27: 0 | G27: i | H27: 0 | I27: m | J27: 0 | K27: q | L27: 0 | M27: u | N27: 0 | O27: y | U27: 0 | V27: map | X27: 0 | Y27: net | AA27: 0 | AB27: lip | AD27: 0 | AE27: log | AG27: 0 | AH27: sun | AR27: 0 | AS27: Prim will spiff up the class. | AX27: 0 | AY27: Will Matt miss his dad? | BI27: 0 | BJ27: mane | BL27: 0 | BM27: Pete | BO27: 0 | BP27: five | BR27: 0 | BS27: dome | BU27: 0 | BV27: dune | CC27: 0 | CD27: star | CF27: 0 | CG27: thorn | CI27: 0 | CJ27: skirt | CL27: 0 | CM27: deer | CO27: 0 | CP27: turn | CW27: 0 | CX27: stew | CZ27: 0 | DA27: point | DC27: 0 | DD27: draw | DF27: 0 | DG27: mouth | DI27: 0 | DJ27: spoon
B28: 0 | C28: b | D28: 0 | E28: f | F28: 0 | G28: j | H28: 0 | I28: n | J28: 0 | K28: r | L28: 0 | M28: v | N28: 0 | O28: z | U28: Total | V28: =sum(U27,X27,AA27,AD27,AG27) -> 0 | W28: /5 | AO28: Total | AP28: =sum(AO26,AR26:AR27,AU26,AX26:AX27,BA26) -> 0 | AQ28: /7 | BI28: Total | BJ28: =sum(BI27,BL27,BO27,BR27,BU27) -> 0 | BK28: /5 | CC28: Total | CD28: =sum(CC27,CF27,CI27,CL27,CO27) -> 0 | CE28: /5 | CW28: Total | CX28: =sum(CW27,CZ27,DC27,DF27,DI27) -> 0 | CY28: /5
B29: 0 | C29: c | D29: 0 | E29: g | F29: 0 | G29: k | H29: 0 | I29: o | J29: 0 | K29: s | L29: 0 | M29: w | AO29: Encode Beginning Consonant Blend Words | BI29: Decode Multiple-Syllable Words | CC29: Writing R-Controlled Words ● Dictation | CW29: Writing Diphthong Words ● Dictation
B30: 0 | C30: d | D30: 0 | E30: h | F30: 0 | G30: l | H30: 0 | I30: p | J30: 0 | K30: t | L30: 0 | M30: x | U30: Writing CVC Words ● Dictation | AO30: 0 | AP30: truck | AR30: 0 | AS30: sniff | AU30: 0 | AV30: brush | AX30: 0 | AY30: dress | BA30: 0 | BB30: crash | BI30: 0 | BJ30: inside | BL30: 0 | BM30: dislike | BO30: 0 | BP30: debate | BR30: 0 | BS30: cupcake | BU30: 0 | BV30: unsafe | CC30: 0 | CD30: scar | CF30: 0 | CG30: corn | CI30: 0 | CJ30: stern | CL30: 0 | CM30: churn | CO30: 0 | CP30: bird | CW30: 0 | CX30: caught | CZ30: 0 | DA30: straw | DC30: 0 | DD30: snooze | DF30: 0 | DG30: squawk | DI30: 0 | DJ30: screw
B31: Total | C31: =sum(B27:B30,D27:D30,F27:F30,H27:H30,J27:J30,L27:L30,N27:N28) -> 0 | D31: /26 | U31: 0 | V31: cap | X31: 0 | Y31: jet | AA31: 0 | AB31: dig | AD31: 0 | AE31: hot | AG31: 0 | AH31: bug | AO31: Total | AP31: =sum(AO30,AR30,AU30,AX30,BA30) -> 0 | AQ31: /5 | BI31: Total | BJ31: =sum(BI30,BL30,BO30,BR30,BU30) -> 0 | BK31: /5 | CC31: Total | CD31: =sum(CC30,CF30,CI30,CL30,CO30) -> 0 | CE31: /5 | CW31: Total | CX31: =sum(CW30,CZ30,DC30,DF30,DI30) -> 0 | CY31: /5
U32: Total | V32: =sum(U31,X31,AA31,AD31,AG31) -> 0 | W32: /5 | AO32: Writing Beginning Consonant Blend Words ● Dictation | CC32: Decode Consonant Silent Sound Words | CW32: Decode Multiple-Syllable Words
B33: Alphabet ● Handwriting ● Capital & Lowercase | AO33: 0 | AP33: grass | AR33: 0 | AS33: twill | AU33: 0 | AV33: stack | AX33: 0 | AY33: skill | BA33: 0 | BB33: swell | BI33: Unit 4 High Frequency Words | CC33: 0 | CD33: write | CF33: 0 | CG33: knife | CI33: 0 | CJ33: knock | CL33: 0 | CM33: thumb | CO33: 0 | CP33: graph | CW33: 0 | CX33: teacup | DB33: 0 | DC33: defeat | DG33: 0 | DH33: crossroad
B34: 0 | C34: A | D34: 0 | E34: H | F34: 0 | G34: O | H34: 0 | I34: V | K34: 0 | L34: a | M34: 0 | N34: h | O34: 0 | P34: o | Q34: 0 | R34: v | U34: Unit 2 High Frequency Words | AO34: Total | AP34: =sum(AO33,AR33,AU33,AX33,BA33) -> 0 | AQ34: /5 | BI34: Irregular High Frequency Words | CC34: 0 | CD34: The gnat will climb on a crumb. | CJ34: 0 | CK34: Knox is a gnome. | CZ34: 0 | DA34: sailboat | DE34: 0 | DF34: reload
B35: 0 | C35: B | D35: 0 | E35: I | F35: 0 | G35: P | H35: 0 | I35: W | K35: 0 | L35: b | M35: 0 | N35: i | O35: 0 | P35: p | Q35: 0 | R35: w | U35: Irregular High Frequency Words | AO35: Decode Multiple-Syllable Words | BI35: 0 | BJ35: her | BL35: 0 | BM35: upon | BO35: 0 | BP35: love | BR35: 0 | BS35: come | BU35: 0 | BV35: none | CC35: Total | CD35: =sum(CC33,CC34,CF33,CI33,CL33,CO33,CJ34) -> 0 | CE35: /7 | CW35: 0 | CX35: The coach had to proclaim it in an email.
B36: 0 | C36: C | D36: 0 | E36: J | F36: 0 | G36: Q | H36: 0 | I36: X | K36: 0 | L36: c | M36: 0 | N36: j | O36: 0 | P36: q | Q36: 0 | R36: x | U36: 0 | V36: I | X36: 0 | Y36: the | AA36: 0 | AB36: see | AD36: 0 | AE36: do | AG36: 0 | AH36: into | AO36: 0 | AP36: sunset | AR36: 0 | AS36: catfish | AU36: 0 | AV36: pigpen | AX36: 0 | AY36: upset | BA36: 0 | BB36: inlet | BI36: 0 | BJ36: were | BL36: 0 | BM36: little | BO36: 0 | BP36: give | BR36: 0 | BS36: some | BU36: 0 | BV36: now | CC36: Decode Multiple-Syllable Words | CW36: 0 | CX36: Will the seamstress fix the inseam?
