Workbook
Name valuevx: 42.314159

Sheet Notes - Read First
B2: About this Tracker
B4: Locked Cells
B5: Most cells in this workbook are locked or protected, meaning you cannot click on them or edit them. This is mostly to prevent accidental deletion of formulas.
B6: However, if you would like to customize the trackers further, you can unprotect sheets by going to Review --> Unprotect Sheet and entering password CKLA.
B7: If, for example, you have fewer than 25 students, you might want to unlock the cells with the totals so you can delete them.
B9: "Summary Sheet" Tab
B10: I set up the next tab as a summary sheet to see a whole class' scores at once.
B11: Two very important notes:
B12: (1) Just enter students' names on this tab, and all the rest of the tabs will fill in with the names. The same with the date and room. (i.e., you don't/can't edit names on the assessment tabs. Make all changes in the summary tab.)
B13: (2) Conversely, students' scores will automatically pull from the respective tabs. (i.e., a student has either 100% or 0% by default, depending on the test, so if a student did not take the test, please delete his or her score on this Summary tab.)
B14: Also, I have left this tab "unprotected"/unlocked so that you can delete cells and see formulas. But be careful that you don't type over the formulas! Always press undo (CTRL and Z) if you make a mistake so that it's not permanent!
B16: Color-Coding & Cutoff Scores
B17: In general, I use three colors to denote below level, on level, and above level, whatever the actual labels or cutoffs may be. This is so that you get used to seeing orange for low, gray for middle, and aqua for high.
B18: Low / Poor / Below Expected Performance: | D18: Below
B19: On Level / Good / Meeting the Benchmark: | D19: On
B20: Above Level / Excellent / Exceeding Expected Performance: | D20: Above
B21: You might find this useful in converting results to grades also.
B22: On the "Tracker" tab, when a student scored below the benchmark, those were the only scores I highlighted in orange. On- and above-level scores were not colored. I think it would be too busy otherwise.
B23: About the labels: In Unit 2, CKLA does not go into detail about labels for each level. For example, for story comprehension, they simply say, "A student who correctly answers seven or more of the comprehension questions is reading Unit 2 text with understanding. A student who correctly answers six questions is borderline; a student who correctly answers five or less questions is experiencing difficulty."
B24: However, in Unit 3, these levels are labelled with poor, good, and excellent. I kept those labels here so that you can compare Units 2 and 3. Same with Dictation - Unit 3 has three levels, so I approximated the same here: 15 and up are good and excellent.
B26: Please feel free to contact me via TpT or email - I really love to help teachers make their lives easier! And I would very much appreciate a review on TpT. Each one of these takes HOURS to set up, and I love to know that my hard work pays off. What parts of this do you like the best?
B28: Maggie @ Curriculum Joy | D28: Store link: My email (feel free to ask any questions!): m.dillier@gmail.com

Sheet (1) Summary Sheet
B2: Grade 2 CKLA | F2: Whole-Class Summary
B3: Unit 2 Assessments | F3: Dictation Identification | I3: Reading Comprehension | M3: Fluency
B4: Date:
B5: Room: | F5: Total Correct Out of 18 | G5: Performance | I5: Total Correct Out of 10 | J5: Performance | M5: Words Correct Per Minute | O5: Percentile Range | Q5: Above, On, or Below Grade Level
B6: Last Name | C6: First Name | O6: 51 WCPM is 50th %ile
D7: 1 | F7: ='(2) Tracker'!X6 -> 18 | G7: =IF(F7<15,"Poor",IF(AND(F7>14,F7<17),"Good",IF(F7>16,"Excellent",""))) -> Excellent | I7: ='(2) Tracker'!AB6 -> 0 | J7: =IF(I7<6,"Poor",IF(I7=6,"Good",IF(I7>6,"Excellent",""))) -> Poor | M7: ='(2) Tracker'!AF6 -> 0 | O7: =IF('(2) Tracker'!AH6="x","10-24th",IF('(2) Tracker'!AI6="x","25-49th",IF('(2) Tracker'!AJ6="x","50-74th",IF('(2) Tracker'!AK6="x","75-89th",IF('(2) Tracker'!AL6="x","90th+",""))))) | Q7: =IF(O7="10-24th","Below",IF(O7="25-49th","Below",IF(O7="50-74th","On",IF(O7="75-89th","Above",IF(O7="90th+","Above","")))))
D8: 2 | F8: ='(2) Tracker'!X7 -> 18 | G8: =IF(F8<15,"Poor",IF(AND(F8>14,F8<17),"Good",IF(F8>16,"Excellent",""))) -> Excellent | I8: ='(2) Tracker'!AB7 -> 0 | J8: =IF(I8<6,"Poor",IF(I8=6,"Good",IF(I8>6,"Excellent",""))) -> Poor | M8: ='(2) Tracker'!AF7 -> 0 | O8: =IF('(2) Tracker'!AH7="x","10-24th",IF('(2) Tracker'!AI7="x","25-49th",IF('(2) Tracker'!AJ7="x","50-74th",IF('(2) Tracker'!AK7="x","75-89th",IF('(2) Tracker'!AL7="x","90th+",""))))) | Q8: =IF(O8="10-24th","Below",IF(O8="25-49th","Below",IF(O8="50-74th","On",IF(O8="75-89th","Above",IF(O8="90th+","Above","")))))
D9: 3 | F9: ='(2) Tracker'!X8 -> 18 | G9: =IF(F9<15,"Poor",IF(AND(F9>14,F9<17),"Good",IF(F9>16,"Excellent",""))) -> Excellent | I9: ='(2) Tracker'!AB8 -> 0 | J9: =IF(I9<6,"Poor",IF(I9=6,"Good",IF(I9>6,"Excellent",""))) -> Poor | M9: ='(2) Tracker'!AF8 -> 0 | O9: =IF('(2) Tracker'!AH8="x","10-24th",IF('(2) Tracker'!AI8="x","25-49th",IF('(2) Tracker'!AJ8="x","50-74th",IF('(2) Tracker'!AK8="x","75-89th",IF('(2) Tracker'!AL8="x","90th+",""))))) | Q9: =IF(O9="10-24th","Below",IF(O9="25-49th","Below",IF(O9="50-74th","On",IF(O9="75-89th","Above",IF(O9="90th+","Above","")))))
D10: 4 | F10: ='(2) Tracker'!X9 -> 18 | G10: =IF(F10<15,"Poor",IF(AND(F10>14,F10<17),"Good",IF(F10>16,"Excellent",""))) -> Excellent | I10: ='(2) Tracker'!AB9 -> 0 | J10: =IF(I10<6,"Poor",IF(I10=6,"Good",IF(I10>6,"Excellent",""))) -> Poor | M10: ='(2) Tracker'!AF9 -> 0 | O10: =IF('(2) Tracker'!AH9="x","10-24th",IF('(2) Tracker'!AI9="x","25-49th",IF('(2) Tracker'!AJ9="x","50-74th",IF('(2) Tracker'!AK9="x","75-89th",IF('(2) Tracker'!AL9="x","90th+",""))))) | Q10: =IF(O10="10-24th","Below",IF(O10="25-49th","Below",IF(O10="50-74th","On",IF(O10="75-89th","Above",IF(O10="90th+","Above","")))))
D11: 5 | F11: ='(2) Tracker'!X10 -> 18 | G11: =IF(F11<15,"Poor",IF(AND(F11>14,F11<17),"Good",IF(F11>16,"Excellent",""))) -> Excellent | I11: ='(2) Tracker'!AB10 -> 0 | J11: =IF(I11<6,"Poor",IF(I11=6,"Good",IF(I11>6,"Excellent",""))) -> Poor | M11: ='(2) Tracker'!AF10 -> 0 | O11: =IF('(2) Tracker'!AH10="x","10-24th",IF('(2) Tracker'!AI10="x","25-49th",IF('(2) Tracker'!AJ10="x","50-74th",IF('(2) Tracker'!AK10="x","75-89th",IF('(2) Tracker'!AL10="x","90th+",""))))) | Q11: =IF(O11="10-24th","Below",IF(O11="25-49th","Below",IF(O11="50-74th","On",IF(O11="75-89th","Above",IF(O11="90th+","Above","")))))
D12: 6 | F12: ='(2) Tracker'!X11 -> 18 | G12: =IF(F12<15,"Poor",IF(AND(F12>14,F12<17),"Good",IF(F12>16,"Excellent",""))) -> Excellent | I12: ='(2) Tracker'!AB11 -> 0 | J12: =IF(I12<6,"Poor",IF(I12=6,"Good",IF(I12>6,"Excellent",""))) -> Poor | M12: ='(2) Tracker'!AF11 -> 0 | O12: =IF('(2) Tracker'!AH11="x","10-24th",IF('(2) Tracker'!AI11="x","25-49th",IF('(2) Tracker'!AJ11="x","50-74th",IF('(2) Tracker'!AK11="x","75-89th",IF('(2) Tracker'!AL11="x","90th+",""))))) | Q12: =IF(O12="10-24th","Below",IF(O12="25-49th","Below",IF(O12="50-74th","On",IF(O12="75-89th","Above",IF(O12="90th+","Above","")))))
D13: 7 | F13: ='(2) Tracker'!X12 -> 18 | G13: =IF(F13<15,"Poor",IF(AND(F13>14,F13<17),"Good",IF(F13>16,"Excellent",""))) -> Excellent | I13: ='(2) Tracker'!AB12 -> 0 | J13: =IF(I13<6,"Poor",IF(I13=6,"Good",IF(I13>6,"Excellent",""))) -> Poor | M13: ='(2) Tracker'!AF12 -> 0 | O13: =IF('(2) Tracker'!AH12="x","10-24th",IF('(2) Tracker'!AI12="x","25-49th",IF('(2) Tracker'!AJ12="x","50-74th",IF('(2) Tracker'!AK12="x","75-89th",IF('(2) Tracker'!AL12="x","90th+",""))))) | Q13: =IF(O13="10-24th","Below",IF(O13="25-49th","Below",IF(O13="50-74th","On",IF(O13="75-89th","Above",IF(O13="90th+","Above","")))))
D14: 8 | F14: ='(2) Tracker'!X13 -> 18 | G14: =IF(F14<15,"Poor",IF(AND(F14>14,F14<17),"Good",IF(F14>16,"Excellent",""))) -> Excellent | I14: ='(2) Tracker'!AB13 -> 0 | J14: =IF(I14<6,"Poor",IF(I14=6,"Good",IF(I14>6,"Excellent",""))) -> Poor | M14: ='(2) Tracker'!AF13 -> 0 | O14: =IF('(2) Tracker'!AH13="x","10-24th",IF('(2) Tracker'!AI13="x","25-49th",IF('(2) Tracker'!AJ13="x","50-74th",IF('(2) Tracker'!AK13="x","75-89th",IF('(2) Tracker'!AL13="x","90th+",""))))) | Q14: =IF(O14="10-24th","Below",IF(O14="25-49th","Below",IF(O14="50-74th","On",IF(O14="75-89th","Above",IF(O14="90th+","Above","")))))
D15: 9 | F15: ='(2) Tracker'!X14 -> 18 | G15: =IF(F15<15,"Poor",IF(AND(F15>14,F15<17),"Good",IF(F15>16,"Excellent",""))) -> Excellent | I15: ='(2) Tracker'!AB14 -> 0 | J15: =IF(I15<6,"Poor",IF(I15=6,"Good",IF(I15>6,"Excellent",""))) -> Poor | M15: ='(2) Tracker'!AF14 -> 0 | O15: =IF('(2) Tracker'!AH14="x","10-24th",IF('(2) Tracker'!AI14="x","25-49th",IF('(2) Tracker'!AJ14="x","50-74th",IF('(2) Tracker'!AK14="x","75-89th",IF('(2) Tracker'!AL14="x","90th+",""))))) | Q15: =IF(O15="10-24th","Below",IF(O15="25-49th","Below",IF(O15="50-74th","On",IF(O15="75-89th","Above",IF(O15="90th+","Above","")))))
D16: 10 | F16: ='(2) Tracker'!X15 -> 18 | G16: =IF(F16<15,"Poor",IF(AND(F16>14,F16<17),"Good",IF(F16>16,"Excellent",""))) -> Excellent | I16: ='(2) Tracker'!AB15 -> 0 | J16: =IF(I16<6,"Poor",IF(I16=6,"Good",IF(I16>6,"Excellent",""))) -> Poor | M16: ='(2) Tracker'!AF15 -> 0 | O16: =IF('(2) Tracker'!AH15="x","10-24th",IF('(2) Tracker'!AI15="x","25-49th",IF('(2) Tracker'!AJ15="x","50-74th",IF('(2) Tracker'!AK15="x","75-89th",IF('(2) Tracker'!AL15="x","90th+",""))))) | Q16: =IF(O16="10-24th","Below",IF(O16="25-49th","Below",IF(O16="50-74th","On",IF(O16="75-89th","Above",IF(O16="90th+","Above","")))))
D17: 11 | F17: ='(2) Tracker'!X16 -> 18 | G17: =IF(F17<15,"Poor",IF(AND(F17>14,F17<17),"Good",IF(F17>16,"Excellent",""))) -> Excellent | I17: ='(2) Tracker'!AB16 -> 0 | J17: =IF(I17<6,"Poor",IF(I17=6,"Good",IF(I17>6,"Excellent",""))) -> Poor | M17: ='(2) Tracker'!AF16 -> 0 | O17: =IF('(2) Tracker'!AH16="x","10-24th",IF('(2) Tracker'!AI16="x","25-49th",IF('(2) Tracker'!AJ16="x","50-74th",IF('(2) Tracker'!AK16="x","75-89th",IF('(2) Tracker'!AL16="x","90th+",""))))) | Q17: =IF(O17="10-24th","Below",IF(O17="25-49th","Below",IF(O17="50-74th","On",IF(O17="75-89th","Above",IF(O17="90th+","Above","")))))
D18: 12 | F18: ='(2) Tracker'!X17 -> 18 | G18: =IF(F18<15,"Poor",IF(AND(F18>14,F18<17),"Good",IF(F18>16,"Excellent",""))) -> Excellent | I18: ='(2) Tracker'!AB17 -> 0 | J18: =IF(I18<6,"Poor",IF(I18=6,"Good",IF(I18>6,"Excellent",""))) -> Poor | M18: ='(2) Tracker'!AF17 -> 0 | O18: =IF('(2) Tracker'!AH17="x","10-24th",IF('(2) Tracker'!AI17="x","25-49th",IF('(2) Tracker'!AJ17="x","50-74th",IF('(2) Tracker'!AK17="x","75-89th",IF('(2) Tracker'!AL17="x","90th+",""))))) | Q18: =IF(O18="10-24th","Below",IF(O18="25-49th","Below",IF(O18="50-74th","On",IF(O18="75-89th","Above",IF(O18="90th+","Above","")))))
... D31: 25 | F31: ='(2) Tracker'!X30 -> 18 | G31: =IF(F31<15,"Poor",IF(AND(F31>14,F31<17),"Good",IF(F31>16,"Excellent",""))) -> Excellent | I31: ='(2) Tracker'!AB30 -> 0 | J31: =IF(I31<6,"Poor",IF(I31=6,"Good",IF(I31>6,"Excellent",""))) -> Poor | M31: ='(2) Tracker'!AF30 -> 0 | O31: =IF('(2) Tracker'!AH30="x","10-24th",IF('(2) Tracker'!AI30="x","25-49th",IF('(2) Tracker'!AJ30="x","50-74th",IF('(2) Tracker'!AK30="x","75-89th",IF('(2) Tracker'!AL30="x","90th+",""))))) | Q31: =IF(O31="10-24th","Below",IF(O31="25-49th","Below",IF(O31="50-74th","On",IF(O31="75-89th","Above",IF(O31="90th+","Above","")))))

Sheet (2) Tracker
B2: Grade 2 CKLA | F2: Dictation Identification | AB2: Reading Comprehension | AF2: Fluency
B3: Unit 2 Assessments | F3: Activity Page 16.1 | AB3: 16.2 and “Cat and Mouse Keep House," Skills Reader p. 89 | AF3: 16.3, 16.4, and "The Fox and the Cat," Teacher's Guide p. 252
B4: ='(1) Summary Sheet'!B4:C4 -> Date: | F4: Line 1 | G4: Line 2 | H4: Line 3 | I4: Line 4 | J4: Line 5 | K4: Line 6 | L4: Line 7 | M4: Line 8 | N4: Line 9 | O4: Line 10 | P4: Line 11 | Q4: Line 12 | R4: Line 13 | S4: Line 14 | T4: Line 15 | U4: Line 16 | V4: Line 17 | W4: Line 18 | X4: Total Correct Out of 18 | AB4: Total Correct Out of 8 | AF4: WCPM Words correct / Time in seconds x 60 | AH4: 51 WCPM is 50th percentile An X will appear in the appropriate column below | AN4: Oral Comprehension Questions Out of 6
B5: ='(1) Summary Sheet'!B5:C5 -> Room: | F5: sister | G5: rate | H5: beet | I5: book | J5: theme | K5: foul | L5: joint | M5: pork | N5: fine | O5: part | P5: cute | Q5: hope | R5: jerk | S5: enjoy | T5: beach | U5: clown | V5: steam | W5: toot | AB5: 6 is on track | AH5: 24 or fewer | AI5: 25-50 | AJ5: 51-78 | AK5: 79-105 | AL5: 106+
B6: ='(1) Summary Sheet'!B7 -> 0 | C6: ='(1) Summary Sheet'!C7 -> 0 | D6: 1 | X6: =COUNTBLANK(F6:W6) -> 18 | AH6: =IF(COUNT(AF6)=1,(IF(AF6<25,"x","")),"") | AI6: =IF(COUNT(AF6)=1,(IF(AND(AF6>24,AF6<51),"x","")),"") | AJ6: =IF(COUNT(AF6)=1,(IF(AND(AF6>50,AF6<79),"x","")),"") | AK6: =IF(COUNT(AF6)=1,(IF(AND(AF6>78,AF6<106),"x","")),"") | AL6: =IF(COUNT(AF6)=1,(IF(AF6>105,"x","")),"")
B7: ='(1) Summary Sheet'!B8 -> 0 | C7: ='(1) Summary Sheet'!C8 -> 0 | D7: 2 | X7: =COUNTBLANK(F7:W7) -> 18 | AH7: =IF(COUNT(AF7)=1,(IF(AF7<25,"x","")),"") | AI7: =IF(COUNT(AF7)=1,(IF(AND(AF7>24,AF7<51),"x","")),"") | AJ7: =IF(COUNT(AF7)=1,(IF(AND(AF7>50,AF7<79),"x","")),"") | AK7: =IF(COUNT(AF7)=1,(IF(AND(AF7>78,AF7<106),"x","")),"") | AL7: =IF(COUNT(AF7)=1,(IF(AF7>105,"x","")),"")
B8: ='(1) Summary Sheet'!B9 -> 0 | C8: ='(1) Summary Sheet'!C9 -> 0 | D8: 3 | X8: =COUNTBLANK(F8:W8) -> 18 | AH8: =IF(COUNT(AF8)=1,(IF(AF8<25,"x","")),"") | AI8: =IF(COUNT(AF8)=1,(IF(AND(AF8>24,AF8<51),"x","")),"") | AJ8: =IF(COUNT(AF8)=1,(IF(AND(AF8>50,AF8<79),"x","")),"") | AK8: =IF(COUNT(AF8)=1,(IF(AND(AF8>78,AF8<106),"x","")),"") | AL8: =IF(COUNT(AF8)=1,(IF(AF8>105,"x","")),"")
B9: ='(1) Summary Sheet'!B10 -> 0 | C9: ='(1) Summary Sheet'!C10 -> 0 | D9: 4 | X9: =COUNTBLANK(F9:W9) -> 18 | AH9: =IF(COUNT(AF9)=1,(IF(AF9<25,"x","")),"") | AI9: =IF(COUNT(AF9)=1,(IF(AND(AF9>24,AF9<51),"x","")),"") | AJ9: =IF(COUNT(AF9)=1,(IF(AND(AF9>50,AF9<79),"x","")),"") | AK9: =IF(COUNT(AF9)=1,(IF(AND(AF9>78,AF9<106),"x","")),"") | AL9: =IF(COUNT(AF9)=1,(IF(AF9>105,"x","")),"")
B10: ='(1) Summary Sheet'!B11 -> 0 | C10: ='(1) Summary Sheet'!C11 -> 0 | D10: 5 | X10: =COUNTBLANK(F10:W10) -> 18 | AH10: =IF(COUNT(AF10)=1,(IF(AF10<25,"x","")),"") | AI10: =IF(COUNT(AF10)=1,(IF(AND(AF10>24,AF10<51),"x","")),"") | AJ10: =IF(COUNT(AF10)=1,(IF(AND(AF10>50,AF10<79),"x","")),"") | AK10: =IF(COUNT(AF10)=1,(IF(AND(AF10>78,AF10<106),"x","")),"") | AL10: =IF(COUNT(AF10)=1,(IF(AF10>105,"x","")),"")
B11: ='(1) Summary Sheet'!B12 -> 0 | C11: ='(1) Summary Sheet'!C12 -> 0 | D11: 6 | X11: =COUNTBLANK(F11:W11) -> 18 | AH11: =IF(COUNT(AF11)=1,(IF(AF11<25,"x","")),"") | AI11: =IF(COUNT(AF11)=1,(IF(AND(AF11>24,AF11<51),"x","")),"") | AJ11: =IF(COUNT(AF11)=1,(IF(AND(AF11>50,AF11<79),"x","")),"") | AK11: =IF(COUNT(AF11)=1,(IF(AND(AF11>78,AF11<106),"x","")),"") | AL11: =IF(COUNT(AF11)=1,(IF(AF11>105,"x","")),"")
B12: ='(1) Summary Sheet'!B13 -> 0 | C12: ='(1) Summary Sheet'!C13 -> 0 | D12: 7 | X12: =COUNTBLANK(F12:W12) -> 18 | AH12: =IF(COUNT(AF12)=1,(IF(AF12<25,"x","")),"") | AI12: =IF(COUNT(AF12)=1,(IF(AND(AF12>24,AF12<51),"x","")),"") | AJ12: =IF(COUNT(AF12)=1,(IF(AND(AF12>50,AF12<79),"x","")),"") | AK12: =IF(COUNT(AF12)=1,(IF(AND(AF12>78,AF12<106),"x","")),"") | AL12: =IF(COUNT(AF12)=1,(IF(AF12>105,"x","")),"")
B13: ='(1) Summary Sheet'!B14 -> 0 | C13: ='(1) Summary Sheet'!C14 -> 0 | D13: 8 | X13: =COUNTBLANK(F13:W13) -> 18 | AH13: =IF(COUNT(AF13)=1,(IF(AF13<25,"x","")),"") | AI13: =IF(COUNT(AF13)=1,(IF(AND(AF13>24,AF13<51),"x","")),"") | AJ13: =IF(COUNT(AF13)=1,(IF(AND(AF13>50,AF13<79),"x","")),"") | AK13: =IF(COUNT(AF13)=1,(IF(AND(AF13>78,AF13<106),"x","")),"") | AL13: =IF(COUNT(AF13)=1,(IF(AF13>105,"x","")),"")
B14: ='(1) Summary Sheet'!B15 -> 0 | C14: ='(1) Summary Sheet'!C15 -> 0 | D14: 9 | X14: =COUNTBLANK(F14:W14) -> 18 | AH14: =IF(COUNT(AF14)=1,(IF(AF14<25,"x","")),"") | AI14: =IF(COUNT(AF14)=1,(IF(AND(AF14>24,AF14<51),"x","")),"") | AJ14: =IF(COUNT(AF14)=1,(IF(AND(AF14>50,AF14<79),"x","")),"") | AK14: =IF(COUNT(AF14)=1,(IF(AND(AF14>78,AF14<106),"x","")),"") | AL14: =IF(COUNT(AF14)=1,(IF(AF14>105,"x","")),"")
B15: ='(1) Summary Sheet'!B16 -> 0 | C15: ='(1) Summary Sheet'!C16 -> 0 | D15: 10 | X15: =COUNTBLANK(F15:W15) -> 18 | AH15: =IF(COUNT(AF15)=1,(IF(AF15<25,"x","")),"") | AI15: =IF(COUNT(AF15)=1,(IF(AND(AF15>24,AF15<51),"x","")),"") | AJ15: =IF(COUNT(AF15)=1,(IF(AND(AF15>50,AF15<79),"x","")),"") | AK15: =IF(COUNT(AF15)=1,(IF(AND(AF15>78,AF15<106),"x","")),"") | AL15: =IF(COUNT(AF15)=1,(IF(AF15>105,"x","")),"")
B16: ='(1) Summary Sheet'!B17 -> 0 | C16: ='(1) Summary Sheet'!C17 -> 0 | D16: 11 | X16: =COUNTBLANK(F16:W16) -> 18 | AH16: =IF(COUNT(AF16)=1,(IF(AF16<25,"x","")),"") | AI16: =IF(COUNT(AF16)=1,(IF(AND(AF16>24,AF16<51),"x","")),"") | AJ16: =IF(COUNT(AF16)=1,(IF(AND(AF16>50,AF16<79),"x","")),"") | AK16: =IF(COUNT(AF16)=1,(IF(AND(AF16>78,AF16<106),"x","")),"") | AL16: =IF(COUNT(AF16)=1,(IF(AF16>105,"x","")),"")
B17: ='(1) Summary Sheet'!B18 -> 0 | C17: ='(1) Summary Sheet'!C18 -> 0 | D17: 12 | X17: =COUNTBLANK(F17:W17) -> 18 | AH17: =IF(COUNT(AF17)=1,(IF(AF17<25,"x","")),"") | AI17: =IF(COUNT(AF17)=1,(IF(AND(AF17>24,AF17<51),"x","")),"") | AJ17: =IF(COUNT(AF17)=1,(IF(AND(AF17>50,AF17<79),"x","")),"") | AK17: =IF(COUNT(AF17)=1,(IF(AND(AF17>78,AF17<106),"x","")),"") | AL17: =IF(COUNT(AF17)=1,(IF(AF17>105,"x","")),"")
... B30: ='(1) Summary Sheet'!B31 -> 0 | C30: ='(1) Summary Sheet'!C31 -> 0 | D30: 25 | X30: =COUNTBLANK(F30:W30) -> 18 | AH30: =IF(COUNT(AF30)=1,(IF(AF30<25,"x","")),"") | AI30: =IF(COUNT(AF30)=1,(IF(AND(AF30>24,AF30<51),"x","")),"") | AJ30: =IF(COUNT(AF30)=1,(IF(AND(AF30>50,AF30<79),"x","")),"") | AK30: =IF(COUNT(AF30)=1,(IF(AND(AF30>78,AF30<106),"x","")),"") | AL30: =IF(COUNT(AF30)=1,(IF(AF30>105,"x","")),"")
T31: Dictation Identification | AB31: Reading Comprehension | AH31: Fluency
T32: Score | V32: # of S | X32: Percentage | AB32: Score | AC32: # of S | AD32: Percentage | AH32: =COUNTIF(AH6:AH30,"x") -> 0 | AI32: =COUNTIF(AI6:AI30,"x") -> 0 | AJ32: =COUNTIF(AJ6:AJ30,"x") -> 0 | AK32: =COUNTIF(AK6:AK30,"x") -> 0 | AL32: =COUNTIF(AL6:AL30,"x") -> 0
Q33: Poor | T33: 0 - 14 | V33: =COUNTIF(X6:X30,"<15") -> 0 | X33: =IFERROR(V33/SUM(V33:V35),"") -> 0 | AA33: Poor | AB33: 0 - 5 | AC33: =COUNTIF(AB6:AB30,"<6") -> 0 | AD33: =IFERROR(AC33/SUM(AC33:AC35),"") | AH33: =IFERROR(AH32/SUM($AH$32:$AL$32),"") | AI33: =IFERROR(AI32/SUM($AH$32:$AL$32),"") | AJ33: =IFERROR(AJ32/SUM($AH$32:$AL$32),"") | AK33: =IFERROR(AK32/SUM($AH$32:$AL$32),"") | AL33: =IFERROR(AL32/SUM($AH$32:$AL$32),"")
Q34: Good | T34: 15 - 16 | V34: =COUNTIFS(X6:X30,"<17",X6:X30,">14") -> 0 | X34: =IFERROR(V34/SUM(V33:V35),"") -> 0 | AA34: Good | AB34: 6 | AC34: =COUNTIF(AB6:AB30,"6") -> 0 | AD34: =IFERROR(AC34/SUM(AC33:AC35),"") | AH34: 10th %ile | AI34: 25th %ile | AJ34: 50th %ile | AK34: 75th %ile | AL34: 90th %ile
Q35: Excellent | T35: 17 - 18 | V35: =COUNTIF(X6:X30,">16") -> 25 | X35: =IFERROR(V35/SUM(V33:V35),"") -> 1 | AA35: Excellent | AB35: 7 - 8 | AC35: =COUNTIF(AB6:AB30,">6") -> 0 | AD35: =IFERROR(AC35/SUM(AC33:AC35),"")

Sheet Dictation Remediation
B2: Grade 2 CKLA | J2: Dictation Remediation
B3: Unit 2 Assessments | J3: All students who missed that item or items listed below. First step in remediation per the Teacher Guide: "Place Activity Page 16.1 in front of the student. Have the student read the line(s) that contained the error. Then ask the student to point and read the correct word for that line. The student’s oral response will indicate whether the mistake was a careless error or if the student needs additional instruction in specific letter-sound correspondences."
B4: ='(1) Summary Sheet'!B4 -> Date:
B5: ='(1) Summary Sheet'!B5 -> Room:
B7: R-Controlled Vowels Assessment & Remediation Guide, Section III-B | J7: Vowel Digraphs Assessment & Remediation Guide, Section III-B
B8: Line 1 'er' | D8: Line 13 'er' | F8: Line 10 'ar' | H8: Line 8 'or' | J8: Line 4 /oo/ | L8: Line 18 /oo/ | N8: Line 14 'oy' | P8: Line 6 'ou' | R8: Line 7 'oi'
B9: {=IFERROR(INDEX('(2) Tracker'!$C$6:$C$30,MATCH(0,IF('(2) Tracker'!$F$6:$F$30="x",COUNTIF(B$8:$B8,'(2) Tracker'!$C$6:$C$30),""),0)),"")} | D9: {=IFERROR(INDEX('(2) Tracker'!$C$6:$C$30,MATCH(0,IF('(2) Tracker'!$R$6:$R$30="x",COUNTIF($D$8:D8,'(2) Tracker'!$C$6:$C$30),""),0)),"")} | F9: {=IFERROR(INDEX('(2) Tracker'!$C$6:$C$30,MATCH(0,IF('(2) Tracker'!$O$6:$O$30="x",COUNTIF(F$8:$F8,'(2) Tracker'!$C$6:$C$30),""),0)),"")} | H9: {=IFERROR(INDEX('(2) Tracker'!$C$6:$C$30,MATCH(0,IF('(2) Tracker'!$M$6:$M$30="x",COUNTIF($H$8:$H8,'(2) Tracker'!$C$6:$C$30),""),0)),"")} | J9: {=IFERROR(INDEX('(2) Tracker'!$C$6:$C$30,MATCH(0,IF('(2) Tracker'!$I$6:$I$30="x",COUNTIF($J$8:$J8,'(2) Tracker'!$C$6:$C$30),""),0)),"")} | L9: {=IFERROR(INDEX('(2) Tracker'!$C$6:$C$30,MATCH(0,IF('(2) Tracker'!$W$6:$W$30="x",COUNTIF(L$8:L8,'(2) Tracker'!$C$6:$C$30),""),0)),"")} | N9: {=IFERROR(INDEX('(2) Tracker'!$C$6:$C$30,MATCH(0,IF('(2) Tracker'!$S$6:$S$30="x",COUNTIF(N$8:N8,'(2) Tracker'!$C$6:$C$30),""),0)),"")} | P9: {=IFERROR(INDEX('(2) Tracker'!$C$6:$C$30,MATCH(0,IF('(2) Tracker'!$K$6:$K$30="x",COUNTIF(P$8:P8,'(2) Tracker'!$C$6:$C$30),""),0)),"")} | R9: {=IFERROR(INDEX('(2) Tracker'!$C$6:$C$30,MATCH(0,IF('(2) Tracker'!$L$6:$L$30="x",COUNTIF(R$8:R8,'(2) Tracker'!$C$6:$C$30),""),0)),"")}
B10: {=IFERROR(INDEX('(2) Tracker'!$C$6:$C$30,MATCH(0,IF('(2) Tracker'!$F$6:$F$30="x",COUNTIF(B$8:$B9,'(2) Tracker'!$C$6:$C$30),""),0)),"")} | D10: {=IFERROR(INDEX('(2) Tracker'!$C$6:$C$30,MATCH(0,IF('(2) Tracker'!$R$6:$R$30="x",COUNTIF($D$8:D9,'(2) Tracker'!$C$6:$C$30),""),0)),"")} | F10: {=IFERROR(INDEX('(2) Tracker'!$C$6:$C$30,MATCH(0,IF('(2) Tracker'!$O$6:$O$30="x",COUNTIF(F$8:$F9,'(2) Tracker'!$C$6:$C$30),""),0)),"")} | H10: {=IFERROR(INDEX('(2) Tracker'!$C$6:$C$30,MATCH(0,IF('(2) Tracker'!$M$6:$M$30="x",COUNTIF($H$8:$H9,'(2) Tracker'!$C$6:$C$30),""),0)),"")} | J10: {=IFERROR(INDEX('(2) Tracker'!$C$6:$C$30,MATCH(0,IF('(2) Tracker'!$I$6:$I$30="x",COUNTIF($J$8:$J9,'(2) Tracker'!$C$6:$C$30),""),0)),"")} | L10: {=IFERROR(INDEX('(2) Tracker'!$C$6:$C$30,MATCH(0,IF('(2) Tracker'!$W$6:$W$30="x",COUNTIF(L$8:L9,'(2) Tracker'!$C$6:$C$30),""),0)),"")} | N10: {=IFERROR(INDEX('(2) Tracker'!$C$6:$C$30,MATCH(0,IF('(2) Tracker'!$S$6:$S$30="x",COUNTIF(N$8:N9,'(2) Tracker'!$C$6:$C$30),""),0)),"")} | P10: {=IFERROR(INDEX('(2) Tracker'!$C$6:$C$30,MATCH(0,IF('(2) Tracker'!$K$6:$K$30="x",COUNTIF(P$8:P9,'(2) Tracker'!$C$6:$C$30),""),0)),"")} | R10: {=IFERROR(INDEX('(2) Tracker'!$C$6:$C$30,MATCH(0,IF('(2) Tracker'!$L$6:$L$30="x",COUNTIF(R$8:R9,'(2) Tracker'!$C$6:$C$30),""),0)),"")}
B11: {=IFERROR(INDEX('(2) Tracker'!$C$6:$C$30,MATCH(0,IF('(2) Tracker'!$F$6:$F$30="x",COUNTIF(B$8:$B10,'(2) Tracker'!$C$6:$C$30),""),0)),"")} | D11: {=IFERROR(INDEX('(2) Tracker'!$C$6:$C$30,MATCH(0,IF('(2) Tracker'!$R$6:$R$30="x",COUNTIF($D$8:D10,'(2) Tracker'!$C$6:$C$30),""),0)),"")} | F11: {=IFERROR(INDEX('(2) Tracker'!$C$6:$C$30,MATCH(0,IF('(2) Tracker'!$O$6:$O$30="x",COUNTIF(F$8:$F10,'(2) Tracker'!$C$6:$C$30),""),0)),"")} | H11: {=IFERROR(INDEX('(2) Tracker'!$C$6:$C$30,MATCH(0,IF('(2) Tracker'!$M$6:$M$30="x",COUNTIF($H$8:$H10,'(2) Tracker'!$C$6:$C$30),""),0)),"")} | J11: {=IFERROR(INDEX('(2) Tracker'!$C$6:$C$30,MATCH(0,IF('(2) Tracker'!$I$6:$I$30="x",COUNTIF($J$8:$J10,'(2) Tracker'!$C$6:$C$30),""),0)),"")} | L11: {=IFERROR(INDEX('(2) Tracker'!$C$6:$C$30,MATCH(0,IF('(2) Tracker'!$W$6:$W$30="x",COUNTIF(L$8:L10,'(2) Tracker'!$C$6:$C$30),""),0)),"")} | N11: {=IFERROR(INDEX('(2) Tracker'!$C$6:$C$30,MATCH(0,IF('(2) Tracker'!$S$6:$S$30="x",COUNTIF(N$8:N10,'(2) Tracker'!$C$6:$C$30),""),0)),"")} | P11: {=IFERROR(INDEX('(2) Tracker'!$C$6:$C$30,MATCH(0,IF('(2) Tracker'!$K$6:$K$30="x",COUNTIF(P$8:P10,'(2) Tracker'!$C$6:$C$30),""),0)),"")} | R11: {=IFERROR(INDEX('(2) Tracker'!$C$6:$C$30,MATCH(0,IF('(2) Tracker'!$L$6:$L$30="x",COUNTIF(R$8:R10,'(2) Tracker'!$C$6:$C$30),""),0)),"")}
B12: {=IFERROR(INDEX('(2) Tracker'!$C$6:$C$30,MATCH(0,IF('(2) Tracker'!$F$6:$F$30="x",COUNTIF(B$8:$B11,'(2) Tracker'!$C$6:$C$30),""),0)),"")} | D12: {=IFERROR(INDEX('(2) Tracker'!$C$6:$C$30,MATCH(0,IF('(2) Tracker'!$R$6:$R$30="x",COUNTIF($D$8:D11,'(2) Tracker'!$C$6:$C$30),""),0)),"")} | F12: {=IFERROR(INDEX('(2) Tracker'!$C$6:$C$30,MATCH(0,IF('(2) Tracker'!$O$6:$O$30="x",COUNTIF(F$8:$F11,'(2) Tracker'!$C$6:$C$30),""),0)),"")} | H12: {=IFERROR(INDEX('(2) Tracker'!$C$6:$C$30,MATCH(0,IF('(2) Tracker'!$M$6:$M$30="x",COUNTIF($H$8:$H11,'(2) Tracker'!$C$6:$C$30),""),0)),"")} | J12: {=IFERROR(INDEX('(2) Tracker'!$C$6:$C$30,MATCH(0,IF('(2) Tracker'!$I$6:$I$30="x",COUNTIF($J$8:$J11,'(2) Tracker'!$C$6:$C$30),""),0)),"")} | L12: {=IFERROR(INDEX('(2) Tracker'!$C$6:$C$30,MATCH(0,IF('(2) Tracker'!$W$6:$W$30="x",COUNTIF(L$8:L11,'(2) Tracker'!$C$6:$C$30),""),0)),"")} | N12: {=IFERROR(INDEX('(2) Tracker'!$C$6:$C$30,MATCH(0,IF('(2) Tracker'!$S$6:$S$30="x",COUNTIF(N$8:N11,'(2) Tracker'!$C$6:$C$30),""),0)),"")} | P12: {=IFERROR(INDEX('(2) Tracker'!$C$6:$C$30,MATCH(0,IF('(2) Tracker'!$K$6:$K$30="x",COUNTIF(P$8:P11,'(2) Tracker'!$C$6:$C$30),""),0)),"")} | R12: {=IFERROR(INDEX('(2) Tracker'!$C$6:$C$30,MATCH(0,IF('(2) Tracker'!$L$6:$L$30="x",COUNTIF(R$8:R11,'(2) Tracker'!$C$6:$C$30),""),0)),"")}
B13: {=IFERROR(INDEX('(2) Tracker'!$C$6:$C$30,MATCH(0,IF('(2) Tracker'!$F$6:$F$30="x",COUNTIF(B$8:$B12,'(2) Tracker'!$C$6:$C$30),""),0)),"")} | D13: {=IFERROR(INDEX('(2) Tracker'!$C$6:$C$30,MATCH(0,IF('(2) Tracker'!$R$6:$R$30="x",COUNTIF($D$8:D12,'(2) Tracker'!$C$6:$C$30),""),0)),"")} | F13: {=IFERROR(INDEX('(2) Tracker'!$C$6:$C$30,MATCH(0,IF('(2) Tracker'!$O$6:$O$30="x",COUNTIF(F$8:$F12,'(2) Tracker'!$C$6:$C$30),""),0)),"")} | H13: {=IFERROR(INDEX('(2) Tracker'!$C$6:$C$30,MATCH(0,IF('(2) Tracker'!$M$6:$M$30="x",COUNTIF($H$8:$H12,'(2) Tracker'!$C$6:$C$30),""),0)),"")} | J13: {=IFERROR(INDEX('(2) Tracker'!$C$6:$C$30,MATCH(0,IF('(2) Tracker'!$I$6:$I$30="x",COUNTIF($J$8:$J12,'(2) Tracker'!$C$6:$C$30),""),0)),"")} | L13: {=IFERROR(INDEX('(2) Tracker'!$C$6:$C$30,MATCH(0,IF('(2) Tracker'!$W$6:$W$30="x",COUNTIF(L$8:L12,'(2) Tracker'!$C$6:$C$30),""),0)),"")} | N13: {=IFERROR(INDEX('(2) Tracker'!$C$6:$C$30,MATCH(0,IF('(2) Tracker'!$S$6:$S$30="x",COUNTIF(N$8:N12,'(2) Tracker'!$C$6:$C$30),""),0)),"")} | P13: {=IFERROR(INDEX('(2) Tracker'!$C$6:$C$30,MATCH(0,IF('(2) Tracker'!$K$6:$K$30="x",COUNTIF(P$8:P12,'(2) Tracker'!$C$6:$C$30),""),0)),"")} | R13: {=IFERROR(INDEX('(2) Tracker'!$C$6:$C$30,MATCH(0,IF('(2) Tracker'!$L$6:$L$30="x",COUNTIF(R$8:R12,'(2) Tracker'!$C$6:$C$30),""),0)),"")}
B14: {=IFERROR(INDEX('(2) Tracker'!$C$6:$C$30,MATCH(0,IF('(2) Tracker'!$F$6:$F$30="x",COUNTIF(B$8:$B13,'(2) Tracker'!$C$6:$C$30),""),0)),"")} | D14: {=IFERROR(INDEX('(2) Tracker'!$C$6:$C$30,MATCH(0,IF('(2) Tracker'!$R$6:$R$30="x",COUNTIF($D$8:D13,'(2) Tracker'!$C$6:$C$30),""),0)),"")} | F14: {=IFERROR(INDEX('(2) Tracker'!$C$6:$C$30,MATCH(0,IF('(2) Tracker'!$O$6:$O$30="x",COUNTIF(F$8:$F13,'(2) Tracker'!$C$6:$C$30),""),0)),"")} | H14: {=IFERROR(INDEX('(2) Tracker'!$C$6:$C$30,MATCH(0,IF('(2) Tracker'!$M$6:$M$30="x",COUNTIF($H$8:$H13,'(2) Tracker'!$C$6:$C$30),""),0)),"")} | J14: {=IFERROR(INDEX('(2) Tracker'!$C$6:$C$30,MATCH(0,IF('(2) Tracker'!$I$6:$I$30="x",COUNTIF($J$8:$J13,'(2) Tracker'!$C$6:$C$30),""),0)),"")} | L14: {=IFERROR(INDEX('(2) Tracker'!$C$6:$C$30,MATCH(0,IF('(2) Tracker'!$W$6:$W$30="x",COUNTIF(L$8:L13,'(2) Tracker'!$C$6:$C$30),""),0)),"")} | N14: {=IFERROR(INDEX('(2) Tracker'!$C$6:$C$30,MATCH(0,IF('(2) Tracker'!$S$6:$S$30="x",COUNTIF(N$8:N13,'(2) Tracker'!$C$6:$C$30),""),0)),"")} | P14: {=IFERROR(INDEX('(2) Tracker'!$C$6:$C$30,MATCH(0,IF('(2) Tracker'!$K$6:$K$30="x",COUNTIF(P$8:P13,'(2) Tracker'!$C$6:$C$30),""),0)),"")} | R14: {=IFERROR(INDEX('(2) Tracker'!$C$6:$C$30,MATCH(0,IF('(2) Tracker'!$L$6:$L$30="x",COUNTIF(R$8:R13,'(2) Tracker'!$C$6:$C$30),""),0)),"")}
B15: {=IFERROR(INDEX('(2) Tracker'!$C$6:$C$30,MATCH(0,IF('(2) Tracker'!$F$6:$F$30="x",COUNTIF(B$8:$B14,'(2) Tracker'!$C$6:$C$30),""),0)),"")} | D15: {=IFERROR(INDEX('(2) Tracker'!$C$6:$C$30,MATCH(0,IF('(2) Tracker'!$R$6:$R$30="x",COUNTIF($D$8:D14,'(2) Tracker'!$C$6:$C$30),""),0)),"")} | F15: {=IFERROR(INDEX('(2) Tracker'!$C$6:$C$30,MATCH(0,IF('(2) Tracker'!$O$6:$O$30="x",COUNTIF(F$8:$F14,'(2) Tracker'!$C$6:$C$30),""),0)),"")} | H15: {=IFERROR(INDEX('(2) Tracker'!$C$6:$C$30,MATCH(0,IF('(2) Tracker'!$M$6:$M$30="x",COUNTIF($H$8:$H14,'(2) Tracker'!$C$6:$C$30),""),0)),"")} | J15: {=IFERROR(INDEX('(2) Tracker'!$C$6:$C$30,MATCH(0,IF('(2) Tracker'!$I$6:$I$30="x",COUNTIF($J$8:$J14,'(2) Tracker'!$C$6:$C$30),""),0)),"")} | L15: {=IFERROR(INDEX('(2) Tracker'!$C$6:$C$30,MATCH(0,IF('(2) Tracker'!$W$6:$W$30="x",COUNTIF(L$8:L14,'(2) Tracker'!$C$6:$C$30),""),0)),"")} | N15: {=IFERROR(INDEX('(2) Tracker'!$C$6:$C$30,MATCH(0,IF('(2) Tracker'!$S$6:$S$30="x",COUNTIF(N$8:N14,'(2) Tracker'!$C$6:$C$30),""),0)),"")} | P15: {=IFERROR(INDEX('(2) Tracker'!$C$6:$C$30,MATCH(0,IF('(2) Tracker'!$K$6:$K$30="x",COUNTIF(P$8:P14,'(2) Tracker'!$C$6:$C$30),""),0)),"")} | R15: {=IFERROR(INDEX('(2) Tracker'!$C$6:$C$30,MATCH(0,IF('(2) Tracker'!$L$6:$L$30="x",COUNTIF(R$8:R14,'(2) Tracker'!$C$6:$C$30),""),0)),"")}
B16: {=IFERROR(INDEX('(2) Tracker'!$C$6:$C$30,MATCH(0,IF('(2) Tracker'!$F$6:$F$30="x",COUNTIF(B$8:$B15,'(2) Tracker'!$C$6:$C$30),""),0)),"")} | D16: {=IFERROR(INDEX('(2) Tracker'!$C$6:$C$30,MATCH(0,IF('(2) Tracker'!$R$6:$R$30="x",COUNTIF($D$8:D15,'(2) Tracker'!$C$6:$C$30),""),0)),"")} | F16: {=IFERROR(INDEX('(2) Tracker'!$C$6:$C$30,MATCH(0,IF('(2) Tracker'!$O$6:$O$30="x",COUNTIF(F$8:$F15,'(2) Tracker'!$C$6:$C$30),""),0)),"")} | H16: {=IFERROR(INDEX('(2) Tracker'!$C$6:$C$30,MATCH(0,IF('(2) Tracker'!$M$6:$M$30="x",COUNTIF($H$8:$H15,'(2) Tracker'!$C$6:$C$30),""),0)),"")} | J16: {=IFERROR(INDEX('(2) Tracker'!$C$6:$C$30,MATCH(0,IF('(2) Tracker'!$I$6:$I$30="x",COUNTIF($J$8:$J15,'(2) Tracker'!$C$6:$C$30),""),0)),"")} | L16: {=IFERROR(INDEX('(2) Tracker'!$C$6:$C$30,MATCH(0,IF('(2) Tracker'!$W$6:$W$30="x",COUNTIF(L$8:L15,'(2) Tracker'!$C$6:$C$30),""),0)),"")} | N16: {=IFERROR(INDEX('(2) Tracker'!$C$6:$C$30,MATCH(0,IF('(2) Tracker'!$S$6:$S$30="x",COUNTIF(N$8:N15,'(2) Tracker'!$C$6:$C$30),""),0)),"")} | P16: {=IFERROR(INDEX('(2) Tracker'!$C$6:$C$30,MATCH(0,IF('(2) Tracker'!$K$6:$K$30="x",COUNTIF(P$8:P15,'(2) Tracker'!$C$6:$C$30),""),0)),"")} | R16: {=IFERROR(INDEX('(2) Tracker'!$C$6:$C$30,MATCH(0,IF('(2) Tracker'!$L$6:$L$30="x",COUNTIF(R$8:R15,'(2) Tracker'!$C$6:$C$30),""),0)),"")}
B18: More Vowel Digraphs Assessment & Remediation Guide, Section III-B | J18: Magic E (Separated Digraphs) Assessment & Remediation Guide, Section III-A
B19: Line 16 'ow' | D19: Line 3 'ee' | F19: Line 15 'ea' | H19: Line 17 'ea' | J19: Line 2 'a_e' | L19: Line 9 'i_e' | N19: Line 11 'u_e' | P19: Line 12 'o_e' | R19: Line 5 'e_e'
B20: {=IFERROR(INDEX('(2) Tracker'!$C$6:$C$30,MATCH(0,IF('(2) Tracker'!$U$6:$U$30="x",COUNTIF(B$19:B19,'(2) Tracker'!$C$6:$C$30),""),0)),"")} | D20: {=IFERROR(INDEX('(2) Tracker'!$C$6:$C$30,MATCH(0,IF('(2) Tracker'!$H$6:$H$30="x",COUNTIF(D$19:D19,'(2) Tracker'!$C$6:$C$30),""),0)),"")} | F20: {=IFERROR(INDEX('(2) Tracker'!$C$6:$C$30,MATCH(0,IF('(2) Tracker'!$T$6:$T$30="x",COUNTIF(F$19:F19,'(2) Tracker'!$C$6:$C$30),""),0)),"")} | H20: {=IFERROR(INDEX('(2) Tracker'!$C$6:$C$30,MATCH(0,IF('(2) Tracker'!$V$6:$V$30="x",COUNTIF(H$19:H19,'(2) Tracker'!$C$6:$C$30),""),0)),"")} | J20: {=IFERROR(INDEX('(2) Tracker'!$C$6:$C$30,MATCH(0,IF('(2) Tracker'!$G$6:$G$30="x",COUNTIF(J$19:J19,'(2) Tracker'!$C$6:$C$30),""),0)),"")} | L20: {=IFERROR(INDEX('(2) Tracker'!$C$6:$C$30,MATCH(0,IF('(2) Tracker'!$N$6:$N$30="x",COUNTIF(L$19:L19,'(2) Tracker'!$C$6:$C$30),""),0)),"")} | N20: {=IFERROR(INDEX('(2) Tracker'!$C$6:$C$30,MATCH(0,IF('(2) Tracker'!$P$6:$P$30="x",COUNTIF(N$19:N19,'(2) Tracker'!$C$6:$C$30),""),0)),"")} | P20: {=IFERROR(INDEX('(2) Tracker'!$C$6:$C$30,MATCH(0,IF('(2) Tracker'!$Q$6:$Q$30="x",COUNTIF(P$19:P19,'(2) Tracker'!$C$6:$C$30),""),0)),"")} | R20: {=IFERROR(INDEX('(2) Tracker'!$C$6:$C$30,MATCH(0,IF('(2) Tracker'!$J$6:$J$30="x",COUNTIF(R$19:R19,'(2) Tracker'!$C$6:$C$30),""),0)),"")}
B21: {=IFERROR(INDEX('(2) Tracker'!$C$6:$C$30,MATCH(0,IF('(2) Tracker'!$U$6:$U$30="x",COUNTIF(B$19:B20,'(2) Tracker'!$C$6:$C$30),""),0)),"")} | D21: {=IFERROR(INDEX('(2) Tracker'!$C$6:$C$30,MATCH(0,IF('(2) Tracker'!$H$6:$H$30="x",COUNTIF(D$19:D20,'(2) Tracker'!$C$6:$C$30),""),0)),"")} | F21: {=IFERROR(INDEX('(2) Tracker'!$C$6:$C$30,MATCH(0,IF('(2) Tracker'!$T$6:$T$30="x",COUNTIF(F$19:F20,'(2) Tracker'!$C$6:$C$30),""),0)),"")} | H21: {=IFERROR(INDEX('(2) Tracker'!$C$6:$C$30,MATCH(0,IF('(2) Tracker'!$V$6:$V$30="x",COUNTIF(H$19:H20,'(2) Tracker'!$C$6:$C$30),""),0)),"")} | J21: {=IFERROR(INDEX('(2) Tracker'!$C$6:$C$30,MATCH(0,IF('(2) Tracker'!$G$6:$G$30="x",COUNTIF(J$19:J20,'(2) Tracker'!$C$6:$C$30),""),0)),"")} | L21: {=IFERROR(INDEX('(2) Tracker'!$C$6:$C$30,MATCH(0,IF('(2) Tracker'!$N$6:$N$30="x",COUNTIF(L$19:L20,'(2) Tracker'!$C$6:$C$30),""),0)),"")} | N21: {=IFERROR(INDEX('(2) Tracker'!$C$6:$C$30,MATCH(0,IF('(2) Tracker'!$P$6:$P$30="x",COUNTIF(N$19:N20,'(2) Tracker'!$C$6:$C$30),""),0)),"")} | P21: {=IFERROR(INDEX('(2) Tracker'!$C$6:$C$30,MATCH(0,IF('(2) Tracker'!$Q$6:$Q$30="x",COUNTIF(P$19:P20,'(2) Tracker'!$C$6:$C$30),""),0)),"")} | R21: {=IFERROR(INDEX('(2) Tracker'!$C$6:$C$30,MATCH(0,IF('(2) Tracker'!$J$6:$J$30="x",COUNTIF(R$19:R20,'(2) Tracker'!$C$6:$C$30),""),0)),"")}
B22: {=IFERROR(INDEX('(2) Tracker'!$C$6:$C$30,MATCH(0,IF('(2) Tracker'!$U$6:$U$30="x",COUNTIF(B$19:B21,'(2) Tracker'!$C$6:$C$30),""),0)),"")} | D22: {=IFERROR(INDEX('(2) Tracker'!$C$6:$C$30,MATCH(0,IF('(2) Tracker'!$H$6:$H$30="x",COUNTIF(D$19:D21,'(2) Tracker'!$C$6:$C$30),""),0)),"")} | F22: {=IFERROR(INDEX('(2) Tracker'!$C$6:$C$30,MATCH(0,IF('(2) Tracker'!$T$6:$T$30="x",COUNTIF(F$19:F21,'(2) Tracker'!$C$6:$C$30),""),0)),"")} | H22: {=IFERROR(INDEX('(2) Tracker'!$C$6:$C$30,MATCH(0,IF('(2) Tracker'!$V$6:$V$30="x",COUNTIF(H$19:H21,'(2) Tracker'!$C$6:$C$30),""),0)),"")} | J22: {=IFERROR(INDEX('(2) Tracker'!$C$6:$C$30,MATCH(0,IF('(2) Tracker'!$G$6:$G$30="x",COUNTIF(J$19:J21,'(2) Tracker'!$C$6:$C$30),""),0)),"")} | L22: {=IFERROR(INDEX('(2) Tracker'!$C$6:$C$30,MATCH(0,IF('(2) Tracker'!$N$6:$N$30="x",COUNTIF(L$19:L21,'(2) Tracker'!$C$6:$C$30),""),0)),"")} | N22: {=IFERROR(INDEX('(2) Tracker'!$C$6:$C$30,MATCH(0,IF('(2) Tracker'!$P$6:$P$30="x",COUNTIF(N$19:N21,'(2) Tracker'!$C$6:$C$30),""),0)),"")} | P22: {=IFERROR(INDEX('(2) Tracker'!$C$6:$C$30,MATCH(0,IF('(2) Tracker'!$Q$6:$Q$30="x",COUNTIF(P$19:P21,'(2) Tracker'!$C$6:$C$30),""),0)),"")} | R22: {=IFERROR(INDEX('(2) Tracker'!$C$6:$C$30,MATCH(0,IF('(2) Tracker'!$J$6:$J$30="x",COUNTIF(R$19:R21,'(2) Tracker'!$C$6:$C$30),""),0)),"")}
B23: {=IFERROR(INDEX('(2) Tracker'!$C$6:$C$30,MATCH(0,IF('(2) Tracker'!$U$6:$U$30="x",COUNTIF(B$19:B22,'(2) Tracker'!$C$6:$C$30),""),0)),"")} | D23: {=IFERROR(INDEX('(2) Tracker'!$C$6:$C$30,MATCH(0,IF('(2) Tracker'!$H$6:$H$30="x",COUNTIF(D$19:D22,'(2) Tracker'!$C$6:$C$30),""),0)),"")} | F23: {=IFERROR(INDEX('(2) Tracker'!$C$6:$C$30,MATCH(0,IF('(2) Tracker'!$T$6:$T$30="x",COUNTIF(F$19:F22,'(2) Tracker'!$C$6:$C$30),""),0)),"")} | H23: {=IFERROR(INDEX('(2) Tracker'!$C$6:$C$30,MATCH(0,IF('(2) Tracker'!$V$6:$V$30="x",COUNTIF(H$19:H22,'(2) Tracker'!$C$6:$C$30),""),0)),"")} | J23: {=IFERROR(INDEX('(2) Tracker'!$C$6:$C$30,MATCH(0,IF('(2) Tracker'!$G$6:$G$30="x",COUNTIF(J$19:J22,'(2) Tracker'!$C$6:$C$30),""),0)),"")} | L23: {=IFERROR(INDEX('(2) Tracker'!$C$6:$C$30,MATCH(0,IF('(2) Tracker'!$N$6:$N$30="x",COUNTIF(L$19:L22,'(2) Tracker'!$C$6:$C$30),""),0)),"")} | N23: {=IFERROR(INDEX('(2) Tracker'!$C$6:$C$30,MATCH(0,IF('(2) Tracker'!$P$6:$P$30="x",COUNTIF(N$19:N22,'(2) Tracker'!$C$6:$C$30),""),0)),"")} | P23: {=IFERROR(INDEX('(2) Tracker'!$C$6:$C$30,MATCH(0,IF('(2) Tracker'!$Q$6:$Q$30="x",COUNTIF(P$19:P22,'(2) Tracker'!$C$6:$C$30),""),0)),"")} | R23: {=IFERROR(INDEX('(2) Tracker'!$C$6:$C$30,MATCH(0,IF('(2) Tracker'!$J$6:$J$30="x",COUNTIF(R$19:R22,'(2) Tracker'!$C$6:$C$30),""),0)),"")}
B24: {=IFERROR(INDEX('(2) Tracker'!$C$6:$C$30,MATCH(0,IF('(2) Tracker'!$U$6:$U$30="x",COUNTIF(B$19:B23,'(2) Tracker'!$C$6:$C$30),""),0)),"")} | D24: {=IFERROR(INDEX('(2) Tracker'!$C$6:$C$30,MATCH(0,IF('(2) Tracker'!$H$6:$H$30="x",COUNTIF(D$19:D23,'(2) Tracker'!$C$6:$C$30),""),0)),"")} | F24: {=IFERROR(INDEX('(2) Tracker'!$C$6:$C$30,MATCH(0,IF('(2) Tracker'!$T$6:$T$30="x",COUNTIF(F$19:F23,'(2) Tracker'!$C$6:$C$30),""),0)),"")} | H24: {=IFERROR(INDEX('(2) Tracker'!$C$6:$C$30,MATCH(0,IF('(2) Tracker'!$V$6:$V$30="x",COUNTIF(H$19:H23,'(2) Tracker'!$C$6:$C$30),""),0)),"")} | J24: {=IFERROR(INDEX('(2) Tracker'!$C$6:$C$30,MATCH(0,IF('(2) Tracker'!$G$6:$G$30="x",COUNTIF(J$19:J23,'(2) Tracker'!$C$6:$C$30),""),0)),"")} | L24: {=IFERROR(INDEX('(2) Tracker'!$C$6:$C$30,MATCH(0,IF('(2) Tracker'!$N$6:$N$30="x",COUNTIF(L$19:L23,'(2) Tracker'!$C$6:$C$30),""),0)),"")} | N24: {=IFERROR(INDEX('(2) Tracker'!$C$6:$C$30,MATCH(0,IF('(2) Tracker'!$P$6:$P$30="x",COUNTIF(N$19:N23,'(2) Tracker'!$C$6:$C$30),""),0)),"")} | P24: {=IFERROR(INDEX('(2) Tracker'!$C$6:$C$30,MATCH(0,IF('(2) Tracker'!$Q$6:$Q$30="x",COUNTIF(P$19:P23,'(2) Tracker'!$C$6:$C$30),""),0)),"")} | R24: {=IFERROR(INDEX('(2) Tracker'!$C$6:$C$30,MATCH(0,IF('(2) Tracker'!$J$6:$J$30="x",COUNTIF(R$19:R23,'(2) Tracker'!$C$6:$C$30),""),0)),"")}
B25: {=IFERROR(INDEX('(2) Tracker'!$C$6:$C$30,MATCH(0,IF('(2) Tracker'!$U$6:$U$30="x",COUNTIF(B$19:B24,'(2) Tracker'!$C$6:$C$30),""),0)),"")} | D25: {=IFERROR(INDEX('(2) Tracker'!$C$6:$C$30,MATCH(0,IF('(2) Tracker'!$H$6:$H$30="x",COUNTIF(D$19:D24,'(2) Tracker'!$C$6:$C$30),""),0)),"")} | F25: {=IFERROR(INDEX('(2) Tracker'!$C$6:$C$30,MATCH(0,IF('(2) Tracker'!$T$6:$T$30="x",COUNTIF(F$19:F24,'(2) Tracker'!$C$6:$C$30),""),0)),"")} | H25: {=IFERROR(INDEX('(2) Tracker'!$C$6:$C$30,MATCH(0,IF('(2) Tracker'!$V$6:$V$30="x",COUNTIF(H$19:H24,'(2) Tracker'!$C$6:$C$30),""),0)),"")} | J25: {=IFERROR(INDEX('(2) Tracker'!$C$6:$C$30,MATCH(0,IF('(2) Tracker'!$G$6:$G$30="x",COUNTIF(J$19:J24,'(2) Tracker'!$C$6:$C$30),""),0)),"")} | L25: {=IFERROR(INDEX('(2) Tracker'!$C$6:$C$30,MATCH(0,IF('(2) Tracker'!$N$6:$N$30="x",COUNTIF(L$19:L24,'(2) Tracker'!$C$6:$C$30),""),0)),"")} | N25: {=IFERROR(INDEX('(2) Tracker'!$C$6:$C$30,MATCH(0,IF('(2) Tracker'!$P$6:$P$30="x",COUNTIF(N$19:N24,'(2) Tracker'!$C$6:$C$30),""),0)),"")} | P25: {=IFERROR(INDEX('(2) Tracker'!$C$6:$C$30,MATCH(0,IF('(2) Tracker'!$Q$6:$Q$30="x",COUNTIF(P$19:P24,'(2) Tracker'!$C$6:$C$30),""),0)),"")} | R25: {=IFERROR(INDEX('(2) Tracker'!$C$6:$C$30,MATCH(0,IF('(2) Tracker'!$J$6:$J$30="x",COUNTIF(R$19:R24,'(2) Tracker'!$C$6:$C$30),""),0)),"")}
B26: {=IFERROR(INDEX('(2) Tracker'!$C$6:$C$30,MATCH(0,IF('(2) Tracker'!$U$6:$U$30="x",COUNTIF(B$19:B25,'(2) Tracker'!$C$6:$C$30),""),0)),"")} | D26: {=IFERROR(INDEX('(2) Tracker'!$C$6:$C$30,MATCH(0,IF('(2) Tracker'!$H$6:$H$30="x",COUNTIF(D$19:D25,'(2) Tracker'!$C$6:$C$30),""),0)),"")} | F26: {=IFERROR(INDEX('(2) Tracker'!$C$6:$C$30,MATCH(0,IF('(2) Tracker'!$T$6:$T$30="x",COUNTIF(F$19:F25,'(2) Tracker'!$C$6:$C$30),""),0)),"")} | H26: {=IFERROR(INDEX('(2) Tracker'!$C$6:$C$30,MATCH(0,IF('(2) Tracker'!$V$6:$V$30="x",COUNTIF(H$19:H25,'(2) Tracker'!$C$6:$C$30),""),0)),"")} | J26: {=IFERROR(INDEX('(2) Tracker'!$C$6:$C$30,MATCH(0,IF('(2) Tracker'!$G$6:$G$30="x",COUNTIF(J$19:J25,'(2) Tracker'!$C$6:$C$30),""),0)),"")} | L26: {=IFERROR(INDEX('(2) Tracker'!$C$6:$C$30,MATCH(0,IF('(2) Tracker'!$N$6:$N$30="x",COUNTIF(L$19:L25,'(2) Tracker'!$C$6:$C$30),""),0)),"")} | N26: {=IFERROR(INDEX('(2) Tracker'!$C$6:$C$30,MATCH(0,IF('(2) Tracker'!$P$6:$P$30="x",COUNTIF(N$19:N25,'(2) Tracker'!$C$6:$C$30),""),0)),"")} | P26: {=IFERROR(INDEX('(2) Tracker'!$C$6:$C$30,MATCH(0,IF('(2) Tracker'!$Q$6:$Q$30="x",COUNTIF(P$19:P25,'(2) Tracker'!$C$6:$C$30),""),0)),"")} | R26: {=IFERROR(INDEX('(2) Tracker'!$C$6:$C$30,MATCH(0,IF('(2) Tracker'!$J$6:$J$30="x",COUNTIF(R$19:R25,'(2) Tracker'!$C$6:$C$30),""),0)),"")}
B27: {=IFERROR(INDEX('(2) Tracker'!$C$6:$C$30,MATCH(0,IF('(2) Tracker'!$U$6:$U$30="x",COUNTIF(B$19:B26,'(2) Tracker'!$C$6:$C$30),""),0)),"")} | D27: {=IFERROR(INDEX('(2) Tracker'!$C$6:$C$30,MATCH(0,IF('(2) Tracker'!$H$6:$H$30="x",COUNTIF(D$19:D26,'(2) Tracker'!$C$6:$C$30),""),0)),"")} | F27: {=IFERROR(INDEX('(2) Tracker'!$C$6:$C$30,MATCH(0,IF('(2) Tracker'!$T$6:$T$30="x",COUNTIF(F$19:F26,'(2) Tracker'!$C$6:$C$30),""),0)),"")} | H27: {=IFERROR(INDEX('(2) Tracker'!$C$6:$C$30,MATCH(0,IF('(2) Tracker'!$V$6:$V$30="x",COUNTIF(H$19:H26,'(2) Tracker'!$C$6:$C$30),""),0)),"")} | J27: {=IFERROR(INDEX('(2) Tracker'!$C$6:$C$30,MATCH(0,IF('(2) Tracker'!$G$6:$G$30="x",COUNTIF(J$19:J26,'(2) Tracker'!$C$6:$C$30),""),0)),"")} | L27: {=IFERROR(INDEX('(2) Tracker'!$C$6:$C$30,MATCH(0,IF('(2) Tracker'!$N$6:$N$30="x",COUNTIF(L$19:L26,'(2) Tracker'!$C$6:$C$30),""),0)),"")} | N27: {=IFERROR(INDEX('(2) Tracker'!$C$6:$C$30,MATCH(0,IF('(2) Tracker'!$P$6:$P$30="x",COUNTIF(N$19:N26,'(2) Tracker'!$C$6:$C$30),""),0)),"")} | P27: {=IFERROR(INDEX('(2) Tracker'!$C$6:$C$30,MATCH(0,IF('(2) Tracker'!$Q$6:$Q$30="x",COUNTIF(P$19:P26,'(2) Tracker'!$C$6:$C$30),""),0)),"")} | R27: {=IFERROR(INDEX('(2) Tracker'!$C$6:$C$30,MATCH(0,IF('(2) Tracker'!$J$6:$J$30="x",COUNTIF(R$19:R26,'(2) Tracker'!$C$6:$C$30),""),0)),"")}

Sheet (3) Dashboard
C3: Grade 2 Skills | L3: ='(1) Summary Sheet'!B5 -> Room:
C4: Unit 2 | K4: ='(1) Summary Sheet'!B4 -> Date:
C6: Dictation Identification | G6: Reading Comprehension | K6: Fluency Percentile
C22: Assessing ability to read words with basic code spellings for vowel sounds: | G22: Assessing ability to read a grade-level text independently and answer: | K22: Assessing ability to decode quickly and accurately, with understanding
C23: R-controlled vowels: 'er', 'or', 'ar' | G23: Literal questions (7) | K23: Below Level (10-49th percentile): Under 51 words correct/min.
C24: Vowel digraphs: 'oo' as /oo/ and /oo/, 'oy', 'ou', 'oi', 'ow' | G24: Inferential question (1) | K24: On Level (50-74th percentile): 51-78 words correct/min.
C25: Long vowel sounds: 'ee', 'ea' | K25: Above Level (75-99th percentile): More than 78 words correct/min.
C26: Magic E: 'a_e', 'e_e', 'i_e', 'u_e', 'o_e'
C29: Dictation Identification | G29: Reading Comprehension | K29: Oral Reading Fluency
D30: Number of Students | H30: Number of Students | L30: Number of Students
C31: Poor | D31: ='(2) Tracker'!V33 -> 0 | G31: Poor | H31: ='(2) Tracker'!AC33 -> 0 | K31: Below Level | L31: =COUNTIF('(1) Summary Sheet'!Q7:Q31,"Below") -> 0
C32: Good | D32: ='(2) Tracker'!V34 -> 0 | G32: Good | H32: ='(2) Tracker'!AC34 -> 0 | K32: On Level | L32: =COUNTIF('(1) Summary Sheet'!Q7:Q31,"On") -> 0
C33: Excellent | D33: ='(2) Tracker'!V35 -> 25 | G33: Excellent | H33: ='(2) Tracker'!AC35 -> 0 | K33: Above Level | L33: =COUNTIF('(1) Summary Sheet'!Q7:Q31,"Above") -> 0

Sheet Sample Summary
B2: Grade 2 CKLA | F2: Whole-Class Summary
B3: Unit 2 Assessments | F3: Dictation Identification | I3: Reading Comprehension | M3: Fluency
B4: 43739
B5: Room 23 | F5: Total Correct Out of 18 | G5: Performance | I5: Total Correct Out of 10 | J5: Performance | M5: Words Correct Per Minute | O5: Percentile Range | Q5: Above, On, or Below Grade Level
B6: Last Name | C6: First Name | O6: 51 WCPM is 50th %ile
B7: B. | C7: JASON | D7: 1 | F7: ='Sample Tracker'!X6 -> 16 | G7: =IF(F7<15,"Poor",IF(AND(F7>14,F7<17),"Good",IF(F7>16,"Excellent",""))) -> Good | I7: ='Sample Tracker'!AB6 -> 5 | J7: =IF(I7<6,"Poor",IF(I7=6,"Good",IF(I7>6,"Excellent",""))) -> Poor | M7: ='Sample Tracker'!AF6 -> 30 | O7: =IF('Sample Tracker'!AH6="x","10-24th",IF('Sample Tracker'!AI6="x","25-49th",IF('Sample Tracker'!AJ6="x","50-74th",IF('Sample Tracker'!AK6="x","75-89th",IF('Sample Tracker'!AL6="x","90th+",""))))) -> 25-49th | Q7: =IF(O7="10-24th","Below",IF(O7="25-49th","Below",IF(O7="50-74th","On",IF(O7="75-89th","Above",IF(O7="90th+","Above",""))))) -> Below
B8: B. | C8: KEVIN | D8: 2 | F8: ='Sample Tracker'!X7 -> 18 | G8: =IF(F8<15,"Poor",IF(AND(F8>14,F8<17),"Good",IF(F8>16,"Excellent",""))) -> Excellent | I8: ='Sample Tracker'!AB7 -> 5 | J8: =IF(I8<6,"Poor",IF(I8=6,"Good",IF(I8>6,"Excellent",""))) -> Poor | M8: ='Sample Tracker'!AF7 -> 20 | O8: =IF('Sample Tracker'!AH7="x","10-24th",IF('Sample Tracker'!AI7="x","25-49th",IF('Sample Tracker'!AJ7="x","50-74th",IF('Sample Tracker'!AK7="x","75-89th",IF('Sample Tracker'!AL7="x","90th+",""))))) -> 10-24th | Q8: =IF(O8="10-24th","Below",IF(O8="25-49th","Below",IF(O8="50-74th","On",IF(O8="75-89th","Above",IF(O8="90th+","Above",""))))) -> Below
B9: C. | C9: ADA | D9: 3 | F9: ='Sample Tracker'!X8 -> 10 | G9: =IF(F9<15,"Poor",IF(AND(F9>14,F9<17),"Good",IF(F9>16,"Excellent",""))) -> Poor | I9: ='Sample Tracker'!AB8 -> 6 | J9: =IF(I9<6,"Poor",IF(I9=6,"Good",IF(I9>6,"Excellent",""))) -> Good | M9: ='Sample Tracker'!AF8 -> 86 | O9: =IF('Sample Tracker'!AH8="x","10-24th",IF('Sample Tracker'!AI8="x","25-49th",IF('Sample Tracker'!AJ8="x","50-74th",IF('Sample Tracker'!AK8="x","75-89th",IF('Sample Tracker'!AL8="x","90th+",""))))) -> 75-89th | Q9: =IF(O9="10-24th","Below",IF(O9="25-49th","Below",IF(O9="50-74th","On",IF(O9="75-89th","Above",IF(O9="90th+","Above",""))))) -> Above
B10: D. | C10: VICTOR | D10: 4 | F10: ='Sample Tracker'!X9 -> 12 | G10: =IF(F10<15,"Poor",IF(AND(F10>14,F10<17),"Good",IF(F10>16,"Excellent",""))) -> Poor | I10: ='Sample Tracker'!AB9 -> 7 | J10: =IF(I10<6,"Poor",IF(I10=6,"Good",IF(I10>6,"Excellent",""))) -> Excellent | M10: ='Sample Tracker'!AF9 -> 59 | O10: =IF('Sample Tracker'!AH9="x","10-24th",IF('Sample Tracker'!AI9="x","25-49th",IF('Sample Tracker'!AJ9="x","50-74th",IF('Sample Tracker'!AK9="x","75-89th",IF('Sample Tracker'!AL9="x","90th+",""))))) -> 50-74th | Q10: =IF(O10="10-24th","Below",IF(O10="25-49th","Below",IF(O10="50-74th","On",IF(O10="75-89th","Above",IF(O10="90th+","Above",""))))) -> On
B11: D. | C11: NATALIA | D11: 5 | F11: ='Sample Tracker'!X10 -> 15 | G11: =IF(F11<15,"Poor",IF(AND(F11>14,F11<17),"Good",IF(F11>16,"Excellent",""))) -> Good | I11: ='Sample Tracker'!AB10 -> 3 | J11: =IF(I11<6,"Poor",IF(I11=6,"Good",IF(I11>6,"Excellent",""))) -> Poor | M11: ='Sample Tracker'!AF10 -> 65 | O11: =IF('Sample Tracker'!AH10="x","10-24th",IF('Sample Tracker'!AI10="x","25-49th",IF('Sample Tracker'!AJ10="x","50-74th",IF('Sample Tracker'!AK10="x","75-89th",IF('Sample Tracker'!AL10="x","90th+",""))))) -> 50-74th | Q11: =IF(O11="10-24th","Below",IF(O11="25-49th","Below",IF(O11="50-74th","On",IF(O11="75-89th","Above",IF(O11="90th+","Above",""))))) -> On
B12: D. | C12: JAMIE | D12: 6 | F12: ='Sample Tracker'!X11 -> 15 | G12: =IF(F12<15,"Poor",IF(AND(F12>14,F12<17),"Good",IF(F12>16,"Excellent",""))) -> Good | I12: ='Sample Tracker'!AB11 -> 5 | J12: =IF(I12<6,"Poor",IF(I12=6,"Good",IF(I12>6,"Excellent",""))) -> Poor | M12: ='Sample Tracker'!AF11 -> 70 | O12: =IF('Sample Tracker'!AH11="x","10-24th",IF('Sample Tracker'!AI11="x","25-49th",IF('Sample Tracker'!AJ11="x","50-74th",IF('Sample Tracker'!AK11="x","75-89th",IF('Sample Tracker'!AL11="x","90th+",""))))) -> 50-74th | Q12: =IF(O12="10-24th","Below",IF(O12="25-49th","Below",IF(O12="50-74th","On",IF(O12="75-89th","Above",IF(O12="90th+","Above",""))))) -> On
B13: F. | C13: ZARA | D13: 7 | F13: ='Sample Tracker'!X12 -> 15 | G13: =IF(F13<15,"Poor",IF(AND(F13>14,F13<17),"Good",IF(F13>16,"Excellent",""))) -> Good | I13: ='Sample Tracker'!AB12 -> 7 | J13: =IF(I13<6,"Poor",IF(I13=6,"Good",IF(I13>6,"Excellent",""))) -> Excellent | M13: ='Sample Tracker'!AF12 -> 99 | O13: =IF('Sample Tracker'!AH12="x","10-24th",IF('Sample Tracker'!AI12="x","25-49th",IF('Sample Tracker'!AJ12="x","50-74th",IF('Sample Tracker'!AK12="x","75-89th",IF('Sample Tracker'!AL12="x","90th+",""))))) -> 75-89th | Q13: =IF(O13="10-24th","Below",IF(O13="25-49th","Below",IF(O13="50-74th","On",IF(O13="75-89th","Above",IF(O13="90th+","Above",""))))) -> Above
B14: H. | C14: CARLA | D14: 8 | F14: ='Sample Tracker'!X13 -> 17 | G14: =IF(F14<15,"Poor",IF(AND(F14>14,F14<17),"Good",IF(F14>16,"Excellent",""))) -> Excellent | I14: ='Sample Tracker'!AB13 -> 8 | J14: =IF(I14<6,"Poor",IF(I14=6,"Good",IF(I14>6,"Excellent",""))) -> Excellent | M14: ='Sample Tracker'!AF13 -> 100 | O14: =IF('Sample Tracker'!AH13="x","10-24th",IF('Sample Tracker'!AI13="x","25-49th",IF('Sample Tracker'!AJ13="x","50-74th",IF('Sample Tracker'!AK13="x","75-89th",IF('Sample Tracker'!AL13="x","90th+",""))))) -> 75-89th | Q14: =IF(O14="10-24th","Below",IF(O14="25-49th","Below",IF(O14="50-74th","On",IF(O14="75-89th","Above",IF(O14="90th+","Above",""))))) -> Above
B15: J. | C15: YASMIN | D15: 9 | F15: ='Sample Tracker'!X14 -> 16 | G15: =IF(F15<15,"Poor",IF(AND(F15>14,F15<17),"Good",IF(F15>16,"Excellent",""))) -> Good | I15: ='Sample Tracker'!AB14 -> 8 | J15: =IF(I15<6,"Poor",IF(I15=6,"Good",IF(I15>6,"Excellent",""))) -> Excellent | M15: ='Sample Tracker'!AF14 -> 78 | O15: =IF('Sample Tracker'!AH14="x","10-24th",IF('Sample Tracker'!AI14="x","25-49th",IF('Sample Tracker'!AJ14="x","50-74th",IF('Sample Tracker'!AK14="x","75-89th",IF('Sample Tracker'!AL14="x","90th+",""))))) -> 50-74th | Q15: =IF(O15="10-24th","Below",IF(O15="25-49th","Below",IF(O15="50-74th","On",IF(O15="75-89th","Above",IF(O15="90th+","Above",""))))) -> On
B16: J. | C16: LESLY | D16: 10 | F16: ='Sample Tracker'!X15 -> 15 | G16: =IF(F16<15,"Poor",IF(AND(F16>14,F16<17),"Good",IF(F16>16,"Excellent",""))) -> Good | I16: ='Sample Tracker'!AB15 -> 6 | J16: =IF(I16<6,"Poor",IF(I16=6,"Good",IF(I16>6,"Excellent",""))) -> Good | M16: ='Sample Tracker'!AF15 -> 40 | O16: =IF('Sample Tracker'!AH15="x","10-24th",IF('Sample Tracker'!AI15="x","25-49th",IF('Sample Tracker'!AJ15="x","50-74th",IF('Sample Tracker'!AK15="x","75-89th",IF('Sample Tracker'!AL15="x","90th+",""))))) -> 25-49th | Q16: =IF(O16="10-24th","Below",IF(O16="25-49th","Below",IF(O16="50-74th","On",IF(O16="75-89th","Above",IF(O16="90th+","Above",""))))) -> Below
B17: L. | C17: ERIKA | D17: 11 | F17: ='Sample Tracker'!X16 -> 14 | G17: =IF(F17<15,"Poor",IF(AND(F17>14,F17<17),"Good",IF(F17>16,"Excellent",""))) -> Poor | I17: ='Sample Tracker'!AB16 -> 6 | J17: =IF(I17<6,"Poor",IF(I17=6,"Good",IF(I17>6,"Excellent",""))) -> Good | M17: ='Sample Tracker'!AF16 -> 15 | O17: =IF('Sample Tracker'!AH16="x","10-24th",IF('Sample Tracker'!AI16="x","25-49th",IF('Sample Tracker'!AJ16="x","50-74th",IF('Sample Tracker'!AK16="x","75-89th",IF('Sample Tracker'!AL16="x","90th+",""))))) -> 10-24th | Q17: =IF(O17="10-24th","Below",IF(O17="25-49th","Below",IF(O17="50-74th","On",IF(O17="75-89th","Above",IF(O17="90th+","Above",""))))) -> Below
B18: M. | C18: DAVID | D18: 12 | F18: ='Sample Tracker'!X17 -> 17 | G18: =IF(F18<15,"Poor",IF(AND(F18>14,F18<17),"Good",IF(F18>16,"Excellent",""))) -> Excellent | I18: ='Sample Tracker'!AB17 -> 8 | J18: =IF(I18<6,"Poor",IF(I18=6,"Good",IF(I18>6,"Excellent",""))) -> Excellent | M18: ='Sample Tracker'!AF17 -> 90 | O18: =IF('Sample Tracker'!AH17="x","10-24th",IF('Sample Tracker'!AI17="x","25-49th",IF('Sample Tracker'!AJ17="x","50-74th",IF('Sample Tracker'!AK17="x","75-89th",IF('Sample Tracker'!AL17="x","90th+",""))))) -> 75-89th | Q18: =IF(O18="10-24th","Below",IF(O18="25-49th","Below",IF(O18="50-74th","On",IF(O18="75-89th","Above",IF(O18="90th+","Above",""))))) -> Above
... B31: V. | C31: JEFFERSON | D31: 25 | F31: ='Sample Tracker'!X30 -> 15 | G31: =IF(F31<15,"Poor",IF(AND(F31>14,F31<17),"Good",IF(F31>16,"Excellent",""))) -> Good | I31: ='Sample Tracker'!AB30 -> 8 | J31: =IF(I31<6,"Poor",IF(I31=6,"Good",IF(I31>6,"Excellent",""))) -> Excellent | M31: ='Sample Tracker'!AF30 -> 140 | O31: =IF('Sample Tracker'!AH30="x","10-24th",IF('Sample Tracker'!AI30="x","25-49th",IF('Sample Tracker'!AJ30="x","50-74th",IF('Sample Tracker'!AK30="x","75-89th",IF('Sample Tracker'!AL30="x","90th+",""))))) -> 90th+ | Q31: =IF(O31="10-24th","Below",IF(O31="25-49th","Below",IF(O31="50-74th","On",IF(O31="75-89th","Above",IF(O31="90th+","Above",""))))) -> Above

Sheet Sample Tracker
B2: Grade 2 CKLA | F2: Dictation Identification | AB2: Reading Comprehension | AF2: Fluency
B3: Unit 2 Assessments | F3: Activity Page 16.1 | AB3: 16.2 and “Cat and Mouse Keep House," Skills Reader p. 89 | AF3: 16.3, 16.4, and "The Fox and the Cat," Teacher's Guide p. 252
B4: ='Sample Summary'!B4:C4 -> 43739 | F4: Line 1 | G4: Line 2 | H4: Line 3 | I4: Line 4 | J4: Line 5 | K4: Line 6 | L4: Line 7 | M4: Line 8 | N4: Line 9 | O4: Line 10 | P4: Line 11 | Q4: Line 12 | R4: Line 13 | S4: Line 14 | T4: Line 15 | U4: Line 16 | V4: Line 17 | W4: Line 18 | X4: Total Correct Out of 18 | AB4: Total Correct Out of 8 | AF4: WCPM Words correct / Time in seconds x 60 | AH4: 51 WCPM is 50th percentile An X will appear in the appropriate column below | AN4: Oral Comprehension Questions Out of 6
B5: ='Sample Summary'!B5:C5 -> Room 23 | F5: sister | G5: rate | H5: beet | I5: book | J5: theme | K5: foul | L5: joint | M5: pork | N5: fine | O5: part | P5: cute | Q5: hope | R5: jerk | S5: enjoy | T5: beach | U5: clown | V5: steam | W5: toot | AB5: 6 is on track | AH5: 24 or fewer | AI5: 25-50 | AJ5: 51-78 | AK5: 79-105 | AL5: 106+
B6: ='Sample Summary'!B7 -> B. | C6: ='Sample Summary'!C7 -> JASON | D6: 1 | R6: x | U6: x | X6: =COUNTBLANK(F6:W6) -> 16 | AB6: 5 | AF6: 30 | AH6: =IF(COUNT(AF6)=1,(IF(AF6<25,"x","")),"") | AI6: =IF(COUNT(AF6)=1,(IF(AND(AF6>24,AF6<51),"x","")),"") -> x | AJ6: =IF(COUNT(AF6)=1,(IF(AND(AF6>50,AF6<79),"x","")),"") | AK6: =IF(COUNT(AF6)=1,(IF(AND(AF6>78,AF6<106),"x","")),"") | AL6: =IF(COUNT(AF6)=1,(IF(AF6>105,"x","")),"") | AN6: 3
B7: ='Sample Summary'!B8 -> B. | C7: ='Sample Summary'!C8 -> KEVIN | D7: 2 | X7: =COUNTBLANK(F7:W7) -> 18 | AB7: 5 | AF7: 20 | AH7: =IF(COUNT(AF7)=1,(IF(AF7<25,"x","")),"") -> x | AI7: =IF(COUNT(AF7)=1,(IF(AND(AF7>24,AF7<51),"x","")),"") | AJ7: =IF(COUNT(AF7)=1,(IF(AND(AF7>50,AF7<79),"x","")),"") | AK7: =IF(COUNT(AF7)=1,(IF(AND(AF7>78,AF7<106),"x","")),"") | AL7: =IF(COUNT(AF7)=1,(IF(AF7>105,"x","")),"") | AN7: 2
B8: ='Sample Summary'!B9 -> C. | C8: ='Sample Summary'!C9 -> ADA | D8: 3 | F8: x | G8: x | L8: x | N8: x | O8: x | P8: x | R8: x | V8: x | X8: =COUNTBLANK(F8:W8) -> 10 | AB8: 6 | AF8: 86 | AH8: =IF(COUNT(AF8)=1,(IF(AF8<25,"x","")),"") | AI8: =IF(COUNT(AF8)=1,(IF(AND(AF8>24,AF8<51),"x","")),"") | AJ8: =IF(COUNT(AF8)=1,(IF(AND(AF8>50,AF8<79),"x","")),"") | AK8: =IF(COUNT(AF8)=1,(IF(AND(AF8>78,AF8<106),"x","")),"") -> x | AL8: =IF(COUNT(AF8)=1,(IF(AF8>105,"x","")),"") | AN8: 5
B9: ='Sample Summary'!B10 -> D. | C9: ='Sample Summary'!C10 -> VICTOR | D9: 4 | G9: x | I9: x | P9: x | R9: x | S9: x | T9: x | X9: =COUNTBLANK(F9:W9) -> 12 | AB9: 7 | AF9: 59 | AH9: =IF(COUNT(AF9)=1,(IF(AF9<25,"x","")),"") | AI9: =IF(COUNT(AF9)=1,(IF(AND(AF9>24,AF9<51),"x","")),"") | AJ9: =IF(COUNT(AF9)=1,(IF(AND(AF9>50,AF9<79),"x","")),"") -> x | AK9: =IF(COUNT(AF9)=1,(IF(AND(AF9>78,AF9<106),"x","")),"") | AL9: =IF(COUNT(AF9)=1,(IF(AF9>105,"x","")),"") | AN9: 4
B10: ='Sample Summary'!B11 -> D. | C10: ='Sample Summary'!C11 -> NATALIA | D10: 5 | F10: x | G10: x | K10: x | X10: =COUNTBLANK(F10:W10) -> 15 | AB10: 3 | AF10: 65 | AH10: =IF(COUNT(AF10)=1,(IF(AF10<25,"x","")),"") | AI10: =IF(COUNT(AF10)=1,(IF(AND(AF10>24,AF10<51),"x","")),"") | AJ10: =IF(COUNT(AF10)=1,(IF(AND(AF10>50,AF10<79),"x","")),"") -> x | AK10: =IF(COUNT(AF10)=1,(IF(AND(AF10>78,AF10<106),"x","")),"") | AL10: =IF(COUNT(AF10)=1,(IF(AF10>105,"x","")),"") | AN10: 4
B11: ='Sample Summary'!B12 -> D. | C11: ='Sample Summary'!C12 -> JAMIE | D11: 6 | K11: x | O11: x | P11: x | X11: =COUNTBLANK(F11:W11) -> 15 | AB11: 5 | AF11: 70 | AH11: =IF(COUNT(AF11)=1,(IF(AF11<25,"x","")),"") | AI11: =IF(COUNT(AF11)=1,(IF(AND(AF11>24,AF11<51),"x","")),"") | AJ11: =IF(COUNT(AF11)=1,(IF(AND(AF11>50,AF11<79),"x","")),"") -> x | AK11: =IF(COUNT(AF11)=1,(IF(AND(AF11>78,AF11<106),"x","")),"") | AL11: =IF(COUNT(AF11)=1,(IF(AF11>105,"x","")),"") | AN11: 5
B12: ='Sample Summary'!B13 -> F. | C12: ='Sample Summary'!C13 -> ZARA | D12: 7 | F12: x | I12: x | O12: x | X12: =COUNTBLANK(F12:W12) -> 15 | AB12: 7 | AF12: 99 | AH12: =IF(COUNT(AF12)=1,(IF(AF12<25,"x","")),"") | AI12: =IF(COUNT(AF12)=1,(IF(AND(AF12>24,AF12<51),"x","")),"") | AJ12: =IF(COUNT(AF12)=1,(IF(AND(AF12>50,AF12<79),"x","")),"") | AK12: =IF(COUNT(AF12)=1,(IF(AND(AF12>78,AF12<106),"x","")),"") -> x | AL12: =IF(COUNT(AF12)=1,(IF(AF12>105,"x","")),"") | AN12: 6
B13: ='Sample Summary'!B14 -> H. | C13: ='Sample Summary'!C14 -> CARLA | D13: 8 | I13: x | X13: =COUNTBLANK(F13:W13) -> 17 | AB13: 8 | AF13: 100 | AH13: =IF(COUNT(AF13)=1,(IF(AF13<25,"x","")),"") | AI13: =IF(COUNT(AF13)=1,(IF(AND(AF13>24,AF13<51),"x","")),"") | AJ13: =IF(COUNT(AF13)=1,(IF(AND(AF13>50,AF13<79),"x","")),"") | AK13: =IF(COUNT(AF13)=1,(IF(AND(AF13>78,AF13<106),"x","")),"") -> x | AL13: =IF(COUNT(AF13)=1,(IF(AF13>105,"x","")),"") | AN13: 6
B14: ='Sample Summary'!B15 -> J. | C14: ='Sample Summary'!C15 -> YASMIN | D14: 9 | F14: x | M14: x | X14: =COUNTBLANK(F14:W14) -> 16 | AB14: 8 | AF14: 78 | AH14: =IF(COUNT(AF14)=1,(IF(AF14<25,"x","")),"") | AI14: =IF(COUNT(AF14)=1,(IF(AND(AF14>24,AF14<51),"x","")),"") | AJ14: =IF(COUNT(AF14)=1,(IF(AND(AF14>50,AF14<79),"x","")),"") -> x | AK14: =IF(COUNT(AF14)=1,(IF(AND(AF14>78,AF14<106),"x","")),"") | AL14: =IF(COUNT(AF14)=1,(IF(AF14>105,"x","")),"") | AN14: 6
B15: ='Sample Summary'!B16 -> J. | C15: ='Sample Summary'!C16 -> LESLY | D15: 10 | M15: x | O15: x | U15: x | X15: =COUNTBLANK(F15:W15) -> 15 | AB15: 6 | AF15: 40 | AH15: =IF(COUNT(AF15)=1,(IF(AF15<25,"x","")),"") | AI15: =IF(COUNT(AF15)=1,(IF(AND(AF15>24,AF15<51),"x","")),"") -> x | AJ15: =IF(COUNT(AF15)=1,(IF(AND(AF15>50,AF15<79),"x","")),"") | AK15: =IF(COUNT(AF15)=1,(IF(AND(AF15>78,AF15<106),"x","")),"") | AL15: =IF(COUNT(AF15)=1,(IF(AF15>105,"x","")),"") | AN15: 4
B16: ='Sample Summary'!B17 -> L. | C16: ='Sample Summary'!C17 -> ERIKA | D16: 11 | K16: x | M16: x | O16: x | V16: x | X16: =COUNTBLANK(F16:W16) -> 14 | AB16: 6 | AF16: 15 | AH16: =IF(COUNT(AF16)=1,(IF(AF16<25,"x","")),"") -> x | AI16: =IF(COUNT(AF16)=1,(IF(AND(AF16>24,AF16<51),"x","")),"") | AJ16: =IF(COUNT(AF16)=1,(IF(AND(AF16>50,AF16<79),"x","")),"") | AK16: =IF(COUNT(AF16)=1,(IF(AND(AF16>78,AF16<106),"x","")),"") | AL16: =IF(COUNT(AF16)=1,(IF(AF16>105,"x","")),"") | AN16: 2
B17: ='Sample Summary'!B18 -> M. | C17: ='Sample Summary'!C18 -> DAVID | D17: 12 | K17: x | X17: =COUNTBLANK(F17:W17) -> 17 | AB17: 8 | AF17: 90 | AH17: =IF(COUNT(AF17)=1,(IF(AF17<25,"x","")),"") | AI17: =IF(COUNT(AF17)=1,(IF(AND(AF17>24,AF17<51),"x","")),"") | AJ17: =IF(COUNT(AF17)=1,(IF(AND(AF17>50,AF17<79),"x","")),"") | AK17: =IF(COUNT(AF17)=1,(IF(AND(AF17>78,AF17<106),"x","")),"") -> x | AL17: =IF(COUNT(AF17)=1,(IF(AF17>105,"x","")),"") | AN17: 5
B18: ='Sample Summary'!B19 -> N. | C18: ='Sample Summary'!C19 -> ESPERANZA | D18: 13 | J18: x | K18: x | W18: x | X18: =COUNTBLANK(F18:W18) -> 15 | AB18: 7 | AF18: 92 | AH18: =IF(COUNT(AF18)=1,(IF(AF18<25,"x","")),"") | AI18: =IF(COUNT(AF18)=1,(IF(AND(AF18>24,AF18<51),"x","")),"") | AJ18: =IF(COUNT(AF18)=1,(IF(AND(AF18>50,AF18<79),"x","")),"") | AK18: =IF(COUNT(AF18)=1,(IF(AND(AF18>78,AF18<106),"x","")),"") -> x | AL18: =IF(COUNT(AF18)=1,(IF(AF18>105,"x","")),"") | AN18: 5
B19: ='Sample Summary'!B20 -> P. | C19: ='Sample Summary'!C20 -> AMBAR | D19: 14 | M19: x | X19: =COUNTBLANK(F19:W19) -> 17 | AB19: 7 | AF19: 121 | AH19: =IF(COUNT(AF19)=1,(IF(AF19<25,"x","")),"") | AI19: =IF(COUNT(AF19)=1,(IF(AND(AF19>24,AF19<51),"x","")),"") | AJ19: =IF(COUNT(AF19)=1,(IF(AND(AF19>50,AF19<79),"x","")),"") | AK19: =IF(COUNT(AF19)=1,(IF(AND(AF19>78,AF19<106),"x","")),"") | AL19: =IF(COUNT(AF19)=1,(IF(AF19>105,"x","")),"") -> x | AN19: 6
B20: ='Sample Summary'!B21 -> P. | C20: ='Sample Summary'!C21 -> BETSY | D20: 15 | J20: x | W20: x | X20: =COUNTBLANK(F20:W20) -> 16 | AB20: 8 | AF20: 88 | AH20: =IF(COUNT(AF20)=1,(IF(AF20<25,"x","")),"") | AI20: =IF(COUNT(AF20)=1,(IF(AND(AF20>24,AF20<51),"x","")),"") | AJ20: =IF(COUNT(AF20)=1,(IF(AND(AF20>50,AF20<79),"x","")),"") | AK20: =IF(COUNT(AF20)=1,(IF(AND(AF20>78,AF20<106),"x","")),"") -> x | AL20: =IF(COUNT(AF20)=1,(IF(AF20>105,"x","")),"") | AN20: 5
B21: ='Sample Summary'!B22 -> P. | C21: ='Sample Summary'!C22 -> DANIELLE | D21: 16 | S21: x | X21: =COUNTBLANK(F21:W21) -> 17 | AB21: 7 | AF21: 111 | AH21: =IF(COUNT(AF21)=1,(IF(AF21<25,"x","")),"") | AI21: =IF(COUNT(AF21)=1,(IF(AND(AF21>24,AF21<51),"x","")),"") | AJ21: =IF(COUNT(AF21)=1,(IF(AND(AF21>50,AF21<79),"x","")),"") | AK21: =IF(COUNT(AF21)=1,(IF(AND(AF21>78,AF21<106),"x","")),"") | AL21: =IF(COUNT(AF21)=1,(IF(AF21>105,"x","")),"") -> x | AN21: 6
B22: ='Sample Summary'!B23 -> R. | C22: ='Sample Summary'!C23 -> CHRISTOPHER | D22: 17 | J22: x | W22: x | X22: =COUNTBLANK(F22:W22) -> 16 | AB22: 5 | AF22: 70 | AH22: =IF(COUNT(AF22)=1,(IF(AF22<25,"x","")),"") | AI22: =IF(COUNT(AF22)=1,(IF(AND(AF22>24,AF22<51),"x","")),"") | AJ22: =IF(COUNT(AF22)=1,(IF(AND(AF22>50,AF22<79),"x","")),"") -> x | AK22: =IF(COUNT(AF22)=1,(IF(AND(AF22>78,AF22<106),"x","")),"") | AL22: =IF(COUNT(AF22)=1,(IF(AF22>105,"x","")),"") | AN22: 5
B23: ='Sample Summary'!B24 -> R. | C23: ='Sample Summary'!C24 -> JEREMIAH | D23: 18 | S23: x | U23: x | X23: =COUNTBLANK(F23:W23) -> 16 | AB23: 6 | AF23: 48 | AH23: =IF(COUNT(AF23)=1,(IF(AF23<25,"x","")),"") | AI23: =IF(COUNT(AF23)=1,(IF(AND(AF23>24,AF23<51),"x","")),"") -> x | AJ23: =IF(COUNT(AF23)=1,(IF(AND(AF23>50,AF23<79),"x","")),"") | AK23: =IF(COUNT(AF23)=1,(IF(AND(AF23>78,AF23<106),"x","")),"") | AL23: =IF(COUNT(AF23)=1,(IF(AF23>105,"x","")),"") | AN23: 4
B24: ='Sample Summary'!B25 -> S. | C24: ='Sample Summary'!C25 -> ASHLEY | D24: 19 | S24: x | X24: =COUNTBLANK(F24:W24) -> 17 | AB24: 6 | AF24: 87 | AH24: =IF(COUNT(AF24)=1,(IF(AF24<25,"x","")),"") | AI24: =IF(COUNT(AF24)=1,(IF(AND(AF24>24,AF24<51),"x","")),"") | AJ24: =IF(COUNT(AF24)=1,(IF(AND(AF24>50,AF24<79),"x","")),"") | AK24: =IF(COUNT(AF24)=1,(IF(AND(AF24>78,AF24<106),"x","")),"") -> x | AL24: =IF(COUNT(AF24)=1,(IF(AF24>105,"x","")),"") | AN24: 5
B25: ='Sample Summary'!B26 -> T. | C25: ='Sample Summary'!C26 -> BRANDON | D25: 20 | H25: x | K25: x | X25: =COUNTBLANK(F25:W25) -> 16 | AB25: 6 | AF25: 113 | AH25: =IF(COUNT(AF25)=1,(IF(AF25<25,"x","")),"") | AI25: =IF(COUNT(AF25)=1,(IF(AND(AF25>24,AF25<51),"x","")),"") | AJ25: =IF(COUNT(AF25)=1,(IF(AND(AF25>50,AF25<79),"x","")),"") | AK25: =IF(COUNT(AF25)=1,(IF(AND(AF25>78,AF25<106),"x","")),"") | AL25: =IF(COUNT(AF25)=1,(IF(AF25>105,"x","")),"") -> x | AN25: 6
B26: ='Sample Summary'!B27 -> T. | C26: ='Sample Summary'!C27 -> NAOMI | D26: 21 | U26: x | X26: =COUNTBLANK(F26:W26) -> 17 | AB26: 8 | AF26: 39 | AH26: =IF(COUNT(AF26)=1,(IF(AF26<25,"x","")),"") | AI26: =IF(COUNT(AF26)=1,(IF(AND(AF26>24,AF26<51),"x","")),"") -> x | AJ26: =IF(COUNT(AF26)=1,(IF(AND(AF26>50,AF26<79),"x","")),"") | AK26: =IF(COUNT(AF26)=1,(IF(AND(AF26>78,AF26<106),"x","")),"") | AL26: =IF(COUNT(AF26)=1,(IF(AF26>105,"x","")),"") | AN26: 3
B27: ='Sample Summary'!B28 -> V. | C27: ='Sample Summary'!C28 -> ERIC | D27: 22 | U27: x | X27: =COUNTBLANK(F27:W27) -> 17 | AB27: 7 | AF27: 100 | AH27: =IF(COUNT(AF27)=1,(IF(AF27<25,"x","")),"") | AI27: =IF(COUNT(AF27)=1,(IF(AND(AF27>24,AF27<51),"x","")),"") | AJ27: =IF(COUNT(AF27)=1,(IF(AND(AF27>50,AF27<79),"x","")),"") | AK27: =IF(COUNT(AF27)=1,(IF(AND(AF27>78,AF27<106),"x","")),"") -> x | AL27: =IF(COUNT(AF27)=1,(IF(AF27>105,"x","")),"") | AN27: 5
B28: ='Sample Summary'!B29 -> V. | C28: ='Sample Summary'!C29 -> LAYLA | D28: 23 | H28: x | N28: x | X28: =COUNTBLANK(F28:W28) -> 16 | AB28: 7 | AF28: 50 | AH28: =IF(COUNT(AF28)=1,(IF(AF28<25,"x","")),"") | AI28: =IF(COUNT(AF28)=1,(IF(AND(AF28>24,AF28<51),"x","")),"") -> x | AJ28: =IF(COUNT(AF28)=1,(IF(AND(AF28>50,AF28<79),"x","")),"") | AK28: =IF(COUNT(AF28)=1,(IF(AND(AF28>78,AF28<106),"x","")),"") | AL28: =IF(COUNT(AF28)=1,(IF(AF28>105,"x","")),"") | AN28: 3
B29: ='Sample Summary'!B30 -> V. | C29: ='Sample Summary'!C30 -> DERECK | D29: 24 | H29: x | X29: =COUNTBLANK(F29:W29) -> 17 | AB29: 7 | AF29: 63 | AH29: =IF(COUNT(AF29)=1,(IF(AF29<25,"x","")),"") | AI29: =IF(COUNT(AF29)=1,(IF(AND(AF29>24,AF29<51),"x","")),"") | AJ29: =IF(COUNT(AF29)=1,(IF(AND(AF29>50,AF29<79),"x","")),"") -> x | AK29: =IF(COUNT(AF29)=1,(IF(AND(AF29>78,AF29<106),"x","")),"") | AL29: =IF(COUNT(AF29)=1,(IF(AF29>105,"x","")),"") | AN29: 4
B30: ='Sample Summary'!B31 -> V. | C30: ='Sample Summary'!C31 -> JEFFERSON | D30: 25 | H30: x | N30: x | Q30: x | X30: =COUNTBLANK(F30:W30) -> 15 | AB30: 8 | AF30: 140 | AH30: =IF(COUNT(AF30)=1,(IF(AF30<25,"x","")),"") | AI30: =IF(COUNT(AF30)=1,(IF(AND(AF30>24,AF30<51),"x","")),"") | AJ30: =IF(COUNT(AF30)=1,(IF(AND(AF30>50,AF30<79),"x","")),"") | AK30: =IF(COUNT(AF30)=1,(IF(AND(AF30>78,AF30<106),"x","")),"") | AL30: =IF(COUNT(AF30)=1,(IF(AF30>105,"x","")),"") -> x | AN30: 6
T31: Dictation Identification | AB31: Reading Comprehension | AH31: Fluency
T32: Score | V32: # of S | X32: Percentage | AB32: Score | AC32: # of S | AD32: Percentage | AH32: =COUNTIF(AH6:AH30,"x") -> 2 | AI32: =COUNTIF(AI6:AI30,"x") -> 5 | AJ32: =COUNTIF(AJ6:AJ30,"x") -> 6 | AK32: =COUNTIF(AK6:AK30,"x") -> 8 | AL32: =COUNTIF(AL6:AL30,"x") -> 4
Q33: Poor | T33: 0 - 14 | V33: =COUNTIF(X6:X30,"<15") -> 3 | X33: =IFERROR(V33/SUM(V33:V35),"") -> 0.12 | AA33: Poor | AB33: 0 - 5 | AC33: =COUNTIF(AB6:AB30,"<6") -> 5 | AD33: =IFERROR(AC33/SUM(AC33:AC35),"") -> 0.2 | AH33: =IFERROR(AH32/SUM($AH$32:$AL$32),"") -> 0.08 | AI33: =IFERROR(AI32/SUM($AH$32:$AL$32),"") -> 0.2 | AJ33: =IFERROR(AJ32/SUM($AH$32:$AL$32),"") -> 0.24 | AK33: =IFERROR(AK32/SUM($AH$32:$AL$32),"") -> 0.32 | AL33: =IFERROR(AL32/SUM($AH$32:$AL$32),"") -> 0.16
Q34: Good | T34: 15 - 16 | V34: =COUNTIFS(X6:X30,"<17",X6:X30,">14") -> 13 | X34: =IFERROR(V34/SUM(V33:V35),"") -> 0.52 | AA34: Good | AB34: 6 | AC34: =COUNTIF(AB6:AB30,"6") -> 6 | AD34: =IFERROR(AC34/SUM(AC33:AC35),"") -> 0.24 | AH34: 10th %ile | AI34: 25th %ile | AJ34: 50th %ile | AK34: 75th %ile | AL34: 90th %ile
Q35: Excellent | T35: 17 - 18 | V35: =COUNTIF(X6:X30,">16") -> 9 | X35: =IFERROR(V35/SUM(V33:V35),"") -> 0.36 | AA35: Excellent | AB35: 7 - 8 | AC35: =COUNTIF(AB6:AB30,">6") -> 14 | AD35: =IFERROR(AC35/SUM(AC33:AC35),"") -> 0.56

Sheet Sample Dictation Remediation
B2: Grade 2 CKLA | J2: Dictation Remediation
B3: Unit 2 Assessments | J3: All students who missed that item or items listed below. First step in remediation per the Teacher Guide: "Place Activity Page 16.1 in front of the student. Have the student read the line(s) that contained the error. Then ask the student to point and read the correct word for that line. The student’s oral response will indicate whether the mistake was a careless error or if the student needs additional instruction in specific letter-sound correspondences."
B4: ='Sample Summary'!B4 -> 43739
B5: ='Sample Summary'!B5 -> Room 23
B7: R-Controlled Vowels Assessment & Remediation Guide, Section III-B | J7: Vowel Digraphs Assessment & Remediation Guide, Section III-B
B8: Line 1 'er' | D8: Line 13 'er' | F8: Line 10 'ar' | H8: Line 8 'or' | J8: Line 4 /oo/ | L8: Line 18 /oo/ | N8: Line 14 'oy' | P8: Line 6 'ou' | R8: Line 7 'oi'
B9: {=IFERROR(INDEX('Sample Tracker'!$C$6:$C$30,MATCH(0,IF('Sample Tracker'!$F$6:$F$30="x",COUNTIF(B$8:$B8,'Sample Tracker'!$C$6:$C$30),""),0)),"")} -> ADA | D9: {=IFERROR(INDEX('Sample Tracker'!$C$6:$C$30,MATCH(0,IF('Sample Tracker'!$R$6:$R$30="x",COUNTIF($D$8:D8,'Sample Tracker'!$C$6:$C$30),""),0)),"")} -> JASON | F9: {=IFERROR(INDEX('Sample Tracker'!$C$6:$C$30,MATCH(0,IF('Sample Tracker'!$O$6:$O$30="x",COUNTIF(F$8:$F8,'Sample Tracker'!$C$6:$C$30),""),0)),"")} -> ADA | H9: {=IFERROR(INDEX('Sample Tracker'!$C$6:$C$30,MATCH(0,IF('Sample Tracker'!$M$6:$M$30="x",COUNTIF($H$8:$H8,'Sample Tracker'!$C$6:$C$30),""),0)),"")} -> YASMIN | J9: {=IFERROR(INDEX('Sample Tracker'!$C$6:$C$30,MATCH(0,IF('Sample Tracker'!$I$6:$I$30="x",COUNTIF($J$8:$J8,'Sample Tracker'!$C$6:$C$30),""),0)),"")} -> VICTOR | L9: {=IFERROR(INDEX('Sample Tracker'!$C$6:$C$30,MATCH(0,IF('Sample Tracker'!$W$6:$W$30="x",COUNTIF(L$8:L8,'Sample Tracker'!$C$6:$C$30),""),0)),"")} -> ESPERANZA | N9: {=IFERROR(INDEX('Sample Tracker'!$C$6:$C$30,MATCH(0,IF('Sample Tracker'!$S$6:$S$30="x",COUNTIF(N$8:N8,'Sample Tracker'!$C$6:$C$30),""),0)),"")} -> VICTOR | P9: {=IFERROR(INDEX('Sample Tracker'!$C$6:$C$30,MATCH(0,IF('Sample Tracker'!$K$6:$K$30="x",COUNTIF(P$8:P8,'Sample Tracker'!$C$6:$C$30),""),0)),"")} -> NATALIA | R9: {=IFERROR(INDEX('Sample Tracker'!$C$6:$C$30,MATCH(0,IF('Sample Tracker'!$L$6:$L$30="x",COUNTIF(R$8:R8,'Sample Tracker'!$C$6:$C$30),""),0)),"")} -> ADA
B10: {=IFERROR(INDEX('Sample Tracker'!$C$6:$C$30,MATCH(0,IF('Sample Tracker'!$F$6:$F$30="x",COUNTIF(B$8:$B9,'Sample Tracker'!$C$6:$C$30),""),0)),"")} -> NATALIA | D10: {=IFERROR(INDEX('Sample Tracker'!$C$6:$C$30,MATCH(0,IF('Sample Tracker'!$R$6:$R$30="x",COUNTIF($D$8:D9,'Sample Tracker'!$C$6:$C$30),""),0)),"")} -> ADA | F10: {=IFERROR(INDEX('Sample Tracker'!$C$6:$C$30,MATCH(0,IF('Sample Tracker'!$O$6:$O$30="x",COUNTIF(F$8:$F9,'Sample Tracker'!$C$6:$C$30),""),0)),"")} -> JAMIE | H10: {=IFERROR(INDEX('Sample Tracker'!$C$6:$C$30,MATCH(0,IF('Sample Tracker'!$M$6:$M$30="x",COUNTIF($H$8:$H9,'Sample Tracker'!$C$6:$C$30),""),0)),"")} -> LESLY | J10: {=IFERROR(INDEX('Sample Tracker'!$C$6:$C$30,MATCH(0,IF('Sample Tracker'!$I$6:$I$30="x",COUNTIF($J$8:$J9,'Sample Tracker'!$C$6:$C$30),""),0)),"")} -> ZARA | L10: {=IFERROR(INDEX('Sample Tracker'!$C$6:$C$30,MATCH(0,IF('Sample Tracker'!$W$6:$W$30="x",COUNTIF(L$8:L9,'Sample Tracker'!$C$6:$C$30),""),0)),"")} -> BETSY | N10: {=IFERROR(INDEX('Sample Tracker'!$C$6:$C$30,MATCH(0,IF('Sample Tracker'!$S$6:$S$30="x",COUNTIF(N$8:N9,'Sample Tracker'!$C$6:$C$30),""),0)),"")} -> DANIELLE | P10: {=IFERROR(INDEX('Sample Tracker'!$C$6:$C$30,MATCH(0,IF('Sample Tracker'!$K$6:$K$30="x",COUNTIF(P$8:P9,'Sample Tracker'!$C$6:$C$30),""),0)),"")} -> JAMIE | R10: {=IFERROR(INDEX('Sample Tracker'!$C$6:$C$30,MATCH(0,IF('Sample Tracker'!$L$6:$L$30="x",COUNTIF(R$8:R9,'Sample Tracker'!$C$6:$C$30),""),0)),"")}
B11: {=IFERROR(INDEX('Sample Tracker'!$C$6:$C$30,MATCH(0,IF('Sample Tracker'!$F$6:$F$30="x",COUNTIF(B$8:$B10,'Sample Tracker'!$C$6:$C$30),""),0)),"")} -> ZARA | D11: {=IFERROR(INDEX('Sample Tracker'!$C$6:$C$30,MATCH(0,IF('Sample Tracker'!$R$6:$R$30="x",COUNTIF($D$8:D10,'Sample Tracker'!$C$6:$C$30),""),0)),"")} -> VICTOR | F11: {=IFERROR(INDEX('Sample Tracker'!$C$6:$C$30,MATCH(0,IF('Sample Tracker'!$O$6:$O$30="x",COUNTIF(F$8:$F10,'Sample Tracker'!$C$6:$C$30),""),0)),"")} -> ZARA | H11: {=IFERROR(INDEX('Sample Tracker'!$C$6:$C$30,MATCH(0,IF('Sample Tracker'!$M$6:$M$30="x",COUNTIF($H$8:$H10,'Sample Tracker'!$C$6:$C$30),""),0)),"")} -> ERIKA | J11: {=IFERROR(INDEX('Sample Tracker'!$C$6:$C$30,MATCH(0,IF('Sample Tracker'!$I$6:$I$30="x",COUNTIF($J$8:$J10,'Sample Tracker'!$C$6:$C$30),""),0)),"")} -> CARLA | L11: {=IFERROR(INDEX('Sample Tracker'!$C$6:$C$30,MATCH(0,IF('Sample Tracker'!$W$6:$W$30="x",COUNTIF(L$8:L10,'Sample Tracker'!$C$6:$C$30),""),0)),"")} -> CHRISTOPHER | N11: {=IFERROR(INDEX('Sample Tracker'!$C$6:$C$30,MATCH(0,IF('Sample Tracker'!$S$6:$S$30="x",COUNTIF(N$8:N10,'Sample Tracker'!$C$6:$C$30),""),0)),"")} -> JEREMIAH | P11: {=IFERROR(INDEX('Sample Tracker'!$C$6:$C$30,MATCH(0,IF('Sample Tracker'!$K$6:$K$30="x",COUNTIF(P$8:P10,'Sample Tracker'!$C$6:$C$30),""),0)),"")} -> ERIKA | R11: {=IFERROR(INDEX('Sample Tracker'!$C$6:$C$30,MATCH(0,IF('Sample Tracker'!$L$6:$L$30="x",COUNTIF(R$8:R10,'Sample Tracker'!$C$6:$C$30),""),0)),"")}
B12: {=IFERROR(INDEX('Sample Tracker'!$C$6:$C$30,MATCH(0,IF('Sample Tracker'!$F$6:$F$30="x",COUNTIF(B$8:$B11,'Sample Tracker'!$C$6:$C$30),""),0)),"")} -> YASMIN | D12: {=IFERROR(INDEX('Sample Tracker'!$C$6:$C$30,MATCH(0,IF('Sample Tracker'!$R$6:$R$30="x",COUNTIF($D$8:D11,'Sample Tracker'!$C$6:$C$30),""),0)),"")} | F12: {=IFERROR(INDEX('Sample Tracker'!$C$6:$C$30,MATCH(0,IF('Sample Tracker'!$O$6:$O$30="x",COUNTIF(F$8:$F11,'Sample Tracker'!$C$6:$C$30),""),0)),"")} -> LESLY | H12: {=IFERROR(INDEX('Sample Tracker'!$C$6:$C$30,MATCH(0,IF('Sample Tracker'!$M$6:$M$30="x",COUNTIF($H$8:$H11,'Sample Tracker'!$C$6:$C$30),""),0)),"")} -> AMBAR | J12: {=IFERROR(INDEX('Sample Tracker'!$C$6:$C$30,MATCH(0,IF('Sample Tracker'!$I$6:$I$30="x",COUNTIF($J$8:$J11,'Sample Tracker'!$C$6:$C$30),""),0)),"")} | L12: {=IFERROR(INDEX('Sample Tracker'!$C$6:$C$30,MATCH(0,IF('Sample Tracker'!$W$6:$W$30="x",COUNTIF(L$8:L11,'Sample Tracker'!$C$6:$C$30),""),0)),"")} | N12: {=IFERROR(INDEX('Sample Tracker'!$C$6:$C$30,MATCH(0,IF('Sample Tracker'!$S$6:$S$30="x",COUNTIF(N$8:N11,'Sample Tracker'!$C$6:$C$30),""),0)),"")} -> ASHLEY | P12: {=IFERROR(INDEX('Sample Tracker'!$C$6:$C$30,MATCH(0,IF('Sample Tracker'!$K$6:$K$30="x",COUNTIF(P$8:P11,'Sample Tracker'!$C$6:$C$30),""),0)),"")} -> DAVID | R12: {=IFERROR(INDEX('Sample Tracker'!$C$6:$C$30,MATCH(0,IF('Sample Tracker'!$L$6:$L$30="x",COUNTIF(R$8:R11,'Sample Tracker'!$C$6:$C$30),""),0)),"")}
B13: {=IFERROR(INDEX('Sample Tracker'!$C$6:$C$30,MATCH(0,IF('Sample Tracker'!$F$6:$F$30="x",COUNTIF(B$8:$B12,'Sample Tracker'!$C$6:$C$30),""),0)),"")} | D13: {=IFERROR(INDEX('Sample Tracker'!$C$6:$C$30,MATCH(0,IF('Sample Tracker'!$R$6:$R$30="x",COUNTIF($D$8:D12,'Sample Tracker'!$C$6:$C$30),""),0)),"")} | F13: {=IFERROR(INDEX('Sample Tracker'!$C$6:$C$30,MATCH(0,IF('Sample Tracker'!$O$6:$O$30="x",COUNTIF(F$8:$F12,'Sample Tracker'!$C$6:$C$30),""),0)),"")} -> ERIKA | H13: {=IFERROR(INDEX('Sample Tracker'!$C$6:$C$30,MATCH(0,IF('Sample Tracker'!$M$6:$M$30="x",COUNTIF($H$8:$H12,'Sample Tracker'!$C$6:$C$30),""),0)),"")} | J13: {=IFERROR(INDEX('Sample Tracker'!$C$6:$C$30,MATCH(0,IF('Sample Tracker'!$I$6:$I$30="x",COUNTIF($J$8:$J12,'Sample Tracker'!$C$6:$C$30),""),0)),"")} | L13: {=IFERROR(INDEX('Sample Tracker'!$C$6:$C$30,MATCH(0,IF('Sample Tracker'!$W$6:$W$30="x",COUNTIF(L$8:L12,'Sample Tracker'!$C$6:$C$30),""),0)),"")} | N13: {=IFERROR(INDEX('Sample Tracker'!$C$6:$C$30,MATCH(0,IF('Sample Tracker'!$S$6:$S$30="x",COUNTIF(N$8:N12,'Sample Tracker'!$C$6:$C$30),""),0)),"")} | P13: {=IFERROR(INDEX('Sample Tracker'!$C$6:$C$30,MATCH(0,IF('Sample Tracker'!$K$6:$K$30="x",COUNTIF(P$8:P12,'Sample Tracker'!$C$6:$C$30),""),0)),"")} -> ESPERANZA | R13: {=IFERROR(INDEX('Sample Tracker'!$C$6:$C$30,MATCH(0,IF('Sample Tracker'!$L$6:$L$30="x",COUNTIF(R$8:R12,'Sample Tracker'!$C$6:$C$30),""),0)),"")}
B14: {=IFERROR(INDEX('Sample Tracker'!$C$6:$C$30,MATCH(0,IF('Sample Tracker'!$F$6:$F$30="x",COUNTIF(B$8:$B13,'Sample Tracker'!$C$6:$C$30),""),0)),"")} | D14: {=IFERROR(INDEX('Sample Tracker'!$C$6:$C$30,MATCH(0,IF('Sample Tracker'!$R$6:$R$30="x",COUNTIF($D$8:D13,'Sample Tracker'!$C$6:$C$30),""),0)),"")} | F14: {=IFERROR(INDEX('Sample Tracker'!$C$6:$C$30,MATCH(0,IF('Sample Tracker'!$O$6:$O$30="x",COUNTIF(F$8:$F13,'Sample Tracker'!$C$6:$C$30),""),0)),"")} | H14: {=IFERROR(INDEX('Sample Tracker'!$C$6:$C$30,MATCH(0,IF('Sample Tracker'!$M$6:$M$30="x",COUNTIF($H$8:$H13,'Sample Tracker'!$C$6:$C$30),""),0)),"")} | J14: {=IFERROR(INDEX('Sample Tracker'!$C$6:$C$30,MATCH(0,IF('Sample Tracker'!$I$6:$I$30="x",COUNTIF($J$8:$J13,'Sample Tracker'!$C$6:$C$30),""),0)),"")} | L14: {=IFERROR(INDEX('Sample Tracker'!$C$6:$C$30,MATCH(0,IF('Sample Tracker'!$W$6:$W$30="x",COUNTIF(L$8:L13,'Sample Tracker'!$C$6:$C$30),""),0)),"")} | N14: {=IFERROR(INDEX('Sample Tracker'!$C$6:$C$30,MATCH(0,IF('Sample Tracker'!$S$6:$S$30="x",COUNTIF(N$8:N13,'Sample Tracker'!$C$6:$C$30),""),0)),"")} | P14: {=IFERROR(INDEX('Sample Tracker'!$C$6:$C$30,MATCH(0,IF('Sample Tracker'!$K$6:$K$30="x",COUNTIF(P$8:P13,'Sample Tracker'!$C$6:$C$30),""),0)),"")} -> BRANDON | R14: {=IFERROR(INDEX('Sample Tracker'!$C$6:$C$30,MATCH(0,IF('Sample Tracker'!$L$6:$L$30="x",COUNTIF(R$8:R13,'Sample Tracker'!$C$6:$C$30),""),0)),"")}
B15: {=IFERROR(INDEX('Sample Tracker'!$C$6:$C$30,MATCH(0,IF('Sample Tracker'!$F$6:$F$30="x",COUNTIF(B$8:$B14,'Sample Tracker'!$C$6:$C$30),""),0)),"")} | D15: {=IFERROR(INDEX('Sample Tracker'!$C$6:$C$30,MATCH(0,IF('Sample Tracker'!$R$6:$R$30="x",COUNTIF($D$8:D14,'Sample Tracker'!$C$6:$C$30),""),0)),"")} | F15: {=IFERROR(INDEX('Sample Tracker'!$C$6:$C$30,MATCH(0,IF('Sample Tracker'!$O$6:$O$30="x",COUNTIF(F$8:$F14,'Sample Tracker'!$C$6:$C$30),""),0)),"")} | H15: {=IFERROR(INDEX('Sample Tracker'!$C$6:$C$30,MATCH(0,IF('Sample Tracker'!$M$6:$M$30="x",COUNTIF($H$8:$H14,'Sample Tracker'!$C$6:$C$30),""),0)),"")} | J15: {=IFERROR(INDEX('Sample Tracker'!$C$6:$C$30,MATCH(0,IF('Sample Tracker'!$I$6:$I$30="x",COUNTIF($J$8:$J14,'Sample Tracker'!$C$6:$C$30),""),0)),"")} | L15: {=IFERROR(INDEX('Sample Tracker'!$C$6:$C$30,MATCH(0,IF('Sample Tracker'!$W$6:$W$30="x",COUNTIF(L$8:L14,'Sample Tracker'!$C$6:$C$30),""),0)),"")} | N15: {=IFERROR(INDEX('Sample Tracker'!$C$6:$C$30,MATCH(0,IF('Sample Tracker'!$S$6:$S$30="x",COUNTIF(N$8:N14,'Sample Tracker'!$C$6:$C$30),""),0)),"")} | P15: {=IFERROR(INDEX('Sample Tracker'!$C$6:$C$30,MATCH(0,IF('Sample Tracker'!$K$6:$K$30="x",COUNTIF(P$8:P14,'Sample Tracker'!$C$6:$C$30),""),0)),"")} | R15: {=IFERROR(INDEX('Sample Tracker'!$C$6:$C$30,MATCH(0,IF('Sample Tracker'!$L$6:$L$30="x",COUNTIF(R$8:R14,'Sample Tracker'!$C$6:$C$30),""),0)),"")}
B16: {=IFERROR(INDEX('Sample Tracker'!$C$6:$C$30,MATCH(0,IF('Sample Tracker'!$F$6:$F$30="x",COUNTIF(B$8:$B15,'Sample Tracker'!$C$6:$C$30),""),0)),"")} | D16: {=IFERROR(INDEX('Sample Tracker'!$C$6:$C$30,MATCH(0,IF('Sample Tracker'!$R$6:$R$30="x",COUNTIF($D$8:D15,'Sample Tracker'!$C$6:$C$30),""),0)),"")} | F16: {=IFERROR(INDEX('Sample Tracker'!$C$6:$C$30,MATCH(0,IF('Sample Tracker'!$O$6:$O$30="x",COUNTIF(F$8:$F15,'Sample Tracker'!$C$6:$C$30),""),0)),"")} | H16: {=IFERROR(INDEX('Sample Tracker'!$C$6:$C$30,MATCH(0,IF('Sample Tracker'!$M$6:$M$30="x",COUNTIF($H$8:$H15,'Sample Tracker'!$C$6:$C$30),""),0)),"")} | J16: {=IFERROR(INDEX('Sample Tracker'!$C$6:$C$30,MATCH(0,IF('Sample Tracker'!$I$6:$I$30="x",COUNTIF($J$8:$J15,'Sample Tracker'!$C$6:$C$30),""),0)),"")} | L16: {=IFERROR(INDEX('Sample Tracker'!$C$6:$C$30,MATCH(0,IF('Sample Tracker'!$W$6:$W$30="x",COUNTIF(L$8:L15,'Sample Tracker'!$C$6:$C$30),""),0)),"")} | N16: {=IFERROR(INDEX('Sample Tracker'!$C$6:$C$30,MATCH(0,IF('Sample Tracker'!$S$6:$S$30="x",COUNTIF(N$8:N15,'Sample Tracker'!$C$6:$C$30),""),0)),"")} | P16: {=IFERROR(INDEX('Sample Tracker'!$C$6:$C$30,MATCH(0,IF('Sample Tracker'!$K$6:$K$30="x",COUNTIF(P$8:P15,'Sample Tracker'!$C$6:$C$30),""),0)),"")} | R16: {=IFERROR(INDEX('Sample Tracker'!$C$6:$C$30,MATCH(0,IF('Sample Tracker'!$L$6:$L$30="x",COUNTIF(R$8:R15,'Sample Tracker'!$C$6:$C$30),""),0)),"")}
B18: More Vowel Digraphs Assessment & Remediation Guide, Section III-B | J18: Magic E (Separated Digraphs) Assessment & Remediation Guide, Section III-A
B19: Line 16 'ow' | D19: Line 3 'ee' | F19: Line 15 'ea' | H19: Line 17 'ea' | J19: Line 2 'a_e' | L19: Line 9 'i_e' | N19: Line 11 'u_e' | P19: Line 12 'o_e' | R19: Line 5 'e_e'
B20: {=IFERROR(INDEX('Sample Tracker'!$C$6:$C$30,MATCH(0,IF('Sample Tracker'!$U$6:$U$30="x",COUNTIF(B$19:B19,'Sample Tracker'!$C$6:$C$30),""),0)),"")} -> JASON | D20: {=IFERROR(INDEX('Sample Tracker'!$C$6:$C$30,MATCH(0,IF('Sample Tracker'!$H$6:$H$30="x",COUNTIF(D$19:D19,'Sample Tracker'!$C$6:$C$30),""),0)),"")} -> BRANDON | F20: {=IFERROR(INDEX('Sample Tracker'!$C$6:$C$30,MATCH(0,IF('Sample Tracker'!$T$6:$T$30="x",COUNTIF(F$19:F19,'Sample Tracker'!$C$6:$C$30),""),0)),"")} -> VICTOR | H20: {=IFERROR(INDEX('Sample Tracker'!$C$6:$C$30,MATCH(0,IF('Sample Tracker'!$V$6:$V$30="x",COUNTIF(H$19:H19,'Sample Tracker'!$C$6:$C$30),""),0)),"")} -> ADA | J20: {=IFERROR(INDEX('Sample Tracker'!$C$6:$C$30,MATCH(0,IF('Sample Tracker'!$G$6:$G$30="x",COUNTIF(J$19:J19,'Sample Tracker'!$C$6:$C$30),""),0)),"")} -> ADA | L20: {=IFERROR(INDEX('Sample Tracker'!$C$6:$C$30,MATCH(0,IF('Sample Tracker'!$N$6:$N$30="x",COUNTIF(L$19:L19,'Sample Tracker'!$C$6:$C$30),""),0)),"")} -> ADA | N20: {=IFERROR(INDEX('Sample Tracker'!$C$6:$C$30,MATCH(0,IF('Sample Tracker'!$P$6:$P$30="x",COUNTIF(N$19:N19,'Sample Tracker'!$C$6:$C$30),""),0)),"")} -> ADA | P20: {=IFERROR(INDEX('Sample Tracker'!$C$6:$C$30,MATCH(0,IF('Sample Tracker'!$Q$6:$Q$30="x",COUNTIF(P$19:P19,'Sample Tracker'!$C$6:$C$30),""),0)),"")} -> JEFFERSON | R20: {=IFERROR(INDEX('Sample Tracker'!$C$6:$C$30,MATCH(0,IF('Sample Tracker'!$J$6:$J$30="x",COUNTIF(R$19:R19,'Sample Tracker'!$C$6:$C$30),""),0)),"")} -> ESPERANZA
B21: {=IFERROR(INDEX('Sample Tracker'!$C$6:$C$30,MATCH(0,IF('Sample Tracker'!$U$6:$U$30="x",COUNTIF(B$19:B20,'Sample Tracker'!$C$6:$C$30),""),0)),"")} -> LESLY | D21: {=IFERROR(INDEX('Sample Tracker'!$C$6:$C$30,MATCH(0,IF('Sample Tracker'!$H$6:$H$30="x",COUNTIF(D$19:D20,'Sample Tracker'!$C$6:$C$30),""),0)),"")} -> LAYLA | F21: {=IFERROR(INDEX('Sample Tracker'!$C$6:$C$30,MATCH(0,IF('Sample Tracker'!$T$6:$T$30="x",COUNTIF(F$19:F20,'Sample Tracker'!$C$6:$C$30),""),0)),"")} | H21: {=IFERROR(INDEX('Sample Tracker'!$C$6:$C$30,MATCH(0,IF('Sample Tracker'!$V$6:$V$30="x",COUNTIF(H$19:H20,'Sample Tracker'!$C$6:$C$30),""),0)),"")} -> ERIKA | J21: {=IFERROR(INDEX('Sample Tracker'!$C$6:$C$30,MATCH(0,IF('Sample Tracker'!$G$6:$G$30="x",COUNTIF(J$19:J20,'Sample Tracker'!$C$6:$C$30),""),0)),"")} -> VICTOR | L21: {=IFERROR(INDEX('Sample Tracker'!$C$6:$C$30,MATCH(0,IF('Sample Tracker'!$N$6:$N$30="x",COUNTIF(L$19:L20,'Sample Tracker'!$C$6:$C$30),""),0)),"")} -> LAYLA | N21: {=IFERROR(INDEX('Sample Tracker'!$C$6:$C$30,MATCH(0,IF('Sample Tracker'!$P$6:$P$30="x",COUNTIF(N$19:N20,'Sample Tracker'!$C$6:$C$30),""),0)),"")} -> VICTOR | P21: {=IFERROR(INDEX('Sample Tracker'!$C$6:$C$30,MATCH(0,IF('Sample Tracker'!$Q$6:$Q$30="x",COUNTIF(P$19:P20,'Sample Tracker'!$C$6:$C$30),""),0)),"")} | R21: {=IFERROR(INDEX('Sample Tracker'!$C$6:$C$30,MATCH(0,IF('Sample Tracker'!$J$6:$J$30="x",COUNTIF(R$19:R20,'Sample Tracker'!$C$6:$C$30),""),0)),"")} -> BETSY
B22: {=IFERROR(INDEX('Sample Tracker'!$C$6:$C$30,MATCH(0,IF('Sample Tracker'!$U$6:$U$30="x",COUNTIF(B$19:B21,'Sample Tracker'!$C$6:$C$30),""),0)),"")} -> JEREMIAH | D22: {=IFERROR(INDEX('Sample Tracker'!$C$6:$C$30,MATCH(0,IF('Sample Tracker'!$H$6:$H$30="x",COUNTIF(D$19:D21,'Sample Tracker'!$C$6:$C$30),""),0)),"")} -> DERECK | F22: {=IFERROR(INDEX('Sample Tracker'!$C$6:$C$30,MATCH(0,IF('Sample Tracker'!$T$6:$T$30="x",COUNTIF(F$19:F21,'Sample Tracker'!$C$6:$C$30),""),0)),"")} | H22: {=IFERROR(INDEX('Sample Tracker'!$C$6:$C$30,MATCH(0,IF('Sample Tracker'!$V$6:$V$30="x",COUNTIF(H$19:H21,'Sample Tracker'!$C$6:$C$30),""),0)),"")} | J22: {=IFERROR(INDEX('Sample Tracker'!$C$6:$C$30,MATCH(0,IF('Sample Tracker'!$G$6:$G$30="x",COUNTIF(J$19:J21,'Sample Tracker'!$C$6:$C$30),""),0)),"")} -> NATALIA | L22: {=IFERROR(INDEX('Sample Tracker'!$C$6:$C$30,MATCH(0,IF('Sample Tracker'!$N$6:$N$30="x",COUNTIF(L$19:L21,'Sample Tracker'!$C$6:$C$30),""),0)),"")} -> JEFFERSON | N22: {=IFERROR(INDEX('Sample Tracker'!$C$6:$C$30,MATCH(0,IF('Sample Tracker'!$P$6:$P$30="x",COUNTIF(N$19:N21,'Sample Tracker'!$C$6:$C$30),""),0)),"")} -> JAMIE | P22: {=IFERROR(INDEX('Sample Tracker'!$C$6:$C$30,MATCH(0,IF('Sample Tracker'!$Q$6:$Q$30="x",COUNTIF(P$19:P21,'Sample Tracker'!$C$6:$C$30),""),0)),"")} | R22: {=IFERROR(INDEX('Sample Tracker'!$C$6:$C$30,MATCH(0,IF('Sample Tracker'!$J$6:$J$30="x",COUNTIF(R$19:R21,'Sample Tracker'!$C$6:$C$30),""),0)),"")} -> CHRISTOPHER
B23: {=IFERROR(INDEX('Sample Tracker'!$C$6:$C$30,MATCH(0,IF('Sample Tracker'!$U$6:$U$30="x",COUNTIF(B$19:B22,'Sample Tracker'!$C$6:$C$30),""),0)),"")} -> NAOMI | D23: {=IFERROR(INDEX('Sample Tracker'!$C$6:$C$30,MATCH(0,IF('Sample Tracker'!$H$6:$H$30="x",COUNTIF(D$19:D22,'Sample Tracker'!$C$6:$C$30),""),0)),"")} -> JEFFERSON | F23: {=IFERROR(INDEX('Sample Tracker'!$C$6:$C$30,MATCH(0,IF('Sample Tracker'!$T$6:$T$30="x",COUNTIF(F$19:F22,'Sample Tracker'!$C$6:$C$30),""),0)),"")} | H23: {=IFERROR(INDEX('Sample Tracker'!$C$6:$C$30,MATCH(0,IF('Sample Tracker'!$V$6:$V$30="x",COUNTIF(H$19:H22,'Sample Tracker'!$C$6:$C$30),""),0)),"")} | J23: {=IFERROR(INDEX('Sample Tracker'!$C$6:$C$30,MATCH(0,IF('Sample Tracker'!$G$6:$G$30="x",COUNTIF(J$19:J22,'Sample Tracker'!$C$6:$C$30),""),0)),"")} | L23: {=IFERROR(INDEX('Sample Tracker'!$C$6:$C$30,MATCH(0,IF('Sample Tracker'!$N$6:$N$30="x",COUNTIF(L$19:L22,'Sample Tracker'!$C$6:$C$30),""),0)),"")} | N23: {=IFERROR(INDEX('Sample Tracker'!$C$6:$C$30,MATCH(0,IF('Sample Tracker'!$P$6:$P$30="x",COUNTIF(N$19:N22,'Sample Tracker'!$C$6:$C$30),""),0)),"")} | P23: {=IFERROR(INDEX('Sample Tracker'!$C$6:$C$30,MATCH(0,IF('Sample Tracker'!$Q$6:$Q$30="x",COUNTIF(P$19:P22,'Sample Tracker'!$C$6:$C$30),""),0)),"")} | R23: {=IFERROR(INDEX('Sample Tracker'!$C$6:$C$30,MATCH(0,IF('Sample Tracker'!$J$6:$J$30="x",COUNTIF(R$19:R22,'Sample Tracker'!$C$6:$C$30),""),0)),"")}
B24: {=IFERROR(INDEX('Sample Tracker'!$C$6:$C$30,MATCH(0,IF('Sample Tracker'!$U$6:$U$30="x",COUNTIF(B$19:B23,'Sample Tracker'!$C$6:$C$30),""),0)),"")} -> ERIC | D24: {=IFERROR(INDEX('Sample Tracker'!$C$6:$C$30,MATCH(0,IF('Sample Tracker'!$H$6:$H$30="x",COUNTIF(D$19:D23,'Sample Tracker'!$C$6:$C$30),""),0)),"")} | F24: {=IFERROR(INDEX('Sample Tracker'!$C$6:$C$30,MATCH(0,IF('Sample Tracker'!$T$6:$T$30="x",COUNTIF(F$19:F23,'Sample Tracker'!$C$6:$C$30),""),0)),"")} | H24: {=IFERROR(INDEX('Sample Tracker'!$C$6:$C$30,MATCH(0,IF('Sample Tracker'!$V$6:$V$30="x",COUNTIF(H$19:H23,'Sample Tracker'!$C$6:$C$30),""),0)),"")} | J24: {=IFERROR(INDEX('Sample Tracker'!$C$6:$C$30,MATCH(0,IF('Sample Tracker'!$G$6:$G$30="x",COUNTIF(J$19:J23,'Sample Tracker'!$C$6:$C$30),""),0)),"")} | L24: {=IFERROR(INDEX('Sample Tracker'!$C$6:$C$30,MATCH(0,IF('Sample Tracker'!$N$6:$N$30="x",COUNTIF(L$19:L23,'Sample Tracker'!$C$6:$C$30),""),0)),"")} | N24: {=IFERROR(INDEX('Sample Tracker'!$C$6:$C$30,MATCH(0,IF('Sample Tracker'!$P$6:$P$30="x",COUNTIF(N$19:N23,'Sample Tracker'!$C$6:$C$30),""),0)),"")} | P24: {=IFERROR(INDEX('Sample Tracker'!$C$6:$C$30,MATCH(0,IF('Sample Tracker'!$Q$6:$Q$30="x",COUNTIF(P$19:P23,'Sample Tracker'!$C$6:$C$30),""),0)),"")} | R24: {=IFERROR(INDEX('Sample Tracker'!$C$6:$C$30,MATCH(0,IF('Sample Tracker'!$J$6:$J$30="x",COUNTIF(R$19:R23,'Sample Tracker'!$C$6:$C$30),""),0)),"")}
B25: {=IFERROR(INDEX('Sample Tracker'!$C$6:$C$30,MATCH(0,IF('Sample Tracker'!$U$6:$U$30="x",COUNTIF(B$19:B24,'Sample Tracker'!$C$6:$C$30),""),0)),"")} | D25: {=IFERROR(INDEX('Sample Tracker'!$C$6:$C$30,MATCH(0,IF('Sample Tracker'!$H$6:$H$30="x",COUNTIF(D$19:D24,'Sample Tracker'!$C$6:$C$30),""),0)),"")} | F25: {=IFERROR(INDEX('Sample Tracker'!$C$6:$C$30,MATCH(0,IF('Sample Tracker'!$T$6:$T$30="x",COUNTIF(F$19:F24,'Sample Tracker'!$C$6:$C$30),""),0)),"")} | H25: {=IFERROR(INDEX('Sample Tracker'!$C$6:$C$30,MATCH(0,IF('Sample Tracker'!$V$6:$V$30="x",COUNTIF(H$19:H24,'Sample Tracker'!$C$6:$C$30),""),0)),"")} | J25: {=IFERROR(INDEX('Sample Tracker'!$C$6:$C$30,MATCH(0,IF('Sample Tracker'!$G$6:$G$30="x",COUNTIF(J$19:J24,'Sample Tracker'!$C$6:$C$30),""),0)),"")} | L25: {=IFERROR(INDEX('Sample Tracker'!$C$6:$C$30,MATCH(0,IF('Sample Tracker'!$N$6:$N$30="x",COUNTIF(L$19:L24,'Sample Tracker'!$C$6:$C$30),""),0)),"")} | N25: {=IFERROR(INDEX('Sample Tracker'!$C$6:$C$30,MATCH(0,IF('Sample Tracker'!$P$6:$P$30="x",COUNTIF(N$19:N24,'Sample Tracker'!$C$6:$C$30),""),0)),"")} | P25: {=IFERROR(INDEX('Sample Tracker'!$C$6:$C$30,MATCH(0,IF('Sample Tracker'!$Q$6:$Q$30="x",COUNTIF(P$19:P24,'Sample Tracker'!$C$6:$C$30),""),0)),"")} | R25: {=IFERROR(INDEX('Sample Tracker'!$C$6:$C$30,MATCH(0,IF('Sample Tracker'!$J$6:$J$30="x",COUNTIF(R$19:R24,'Sample Tracker'!$C$6:$C$30),""),0)),"")}
B26: {=IFERROR(INDEX('Sample Tracker'!$C$6:$C$30,MATCH(0,IF('Sample Tracker'!$U$6:$U$30="x",COUNTIF(B$19:B25,'Sample Tracker'!$C$6:$C$30),""),0)),"")} | D26: {=IFERROR(INDEX('Sample Tracker'!$C$6:$C$30,MATCH(0,IF('Sample Tracker'!$H$6:$H$30="x",COUNTIF(D$19:D25,'Sample Tracker'!$C$6:$C$30),""),0)),"")} | F26: {=IFERROR(INDEX('Sample Tracker'!$C$6:$C$30,MATCH(0,IF('Sample Tracker'!$T$6:$T$30="x",COUNTIF(F$19:F25,'Sample Tracker'!$C$6:$C$30),""),0)),"")} | H26: {=IFERROR(INDEX('Sample Tracker'!$C$6:$C$30,MATCH(0,IF('Sample Tracker'!$V$6:$V$30="x",COUNTIF(H$19:H25,'Sample Tracker'!$C$6:$C$30),""),0)),"")} | J26: {=IFERROR(INDEX('Sample Tracker'!$C$6:$C$30,MATCH(0,IF('Sample Tracker'!$G$6:$G$30="x",COUNTIF(J$19:J25,'Sample Tracker'!$C$6:$C$30),""),0)),"")} | L26: {=IFERROR(INDEX('Sample Tracker'!$C$6:$C$30,MATCH(0,IF('Sample Tracker'!$N$6:$N$30="x",COUNTIF(L$19:L25,'Sample Tracker'!$C$6:$C$30),""),0)),"")} | N26: {=IFERROR(INDEX('Sample Tracker'!$C$6:$C$30,MATCH(0,IF('Sample Tracker'!$P$6:$P$30="x",COUNTIF(N$19:N25,'Sample Tracker'!$C$6:$C$30),""),0)),"")} | P26: {=IFERROR(INDEX('Sample Tracker'!$C$6:$C$30,MATCH(0,IF('Sample Tracker'!$Q$6:$Q$30="x",COUNTIF(P$19:P25,'Sample Tracker'!$C$6:$C$30),""),0)),"")} | R26: {=IFERROR(INDEX('Sample Tracker'!$C$6:$C$30,MATCH(0,IF('Sample Tracker'!$J$6:$J$30="x",COUNTIF(R$19:R25,'Sample Tracker'!$C$6:$C$30),""),0)),"")}
B27: {=IFERROR(INDEX('Sample Tracker'!$C$6:$C$30,MATCH(0,IF('Sample Tracker'!$U$6:$U$30="x",COUNTIF(B$19:B26,'Sample Tracker'!$C$6:$C$30),""),0)),"")} | D27: {=IFERROR(INDEX('Sample Tracker'!$C$6:$C$30,MATCH(0,IF('Sample Tracker'!$H$6:$H$30="x",COUNTIF(D$19:D26,'Sample Tracker'!$C$6:$C$30),""),0)),"")} | F27: {=IFERROR(INDEX('Sample Tracker'!$C$6:$C$30,MATCH(0,IF('Sample Tracker'!$T$6:$T$30="x",COUNTIF(F$19:F26,'Sample Tracker'!$C$6:$C$30),""),0)),"")} | H27: {=IFERROR(INDEX('Sample Tracker'!$C$6:$C$30,MATCH(0,IF('Sample Tracker'!$V$6:$V$30="x",COUNTIF(H$19:H26,'Sample Tracker'!$C$6:$C$30),""),0)),"")} | J27: {=IFERROR(INDEX('Sample Tracker'!$C$6:$C$30,MATCH(0,IF('Sample Tracker'!$G$6:$G$30="x",COUNTIF(J$19:J26,'Sample Tracker'!$C$6:$C$30),""),0)),"")} | L27: {=IFERROR(INDEX('Sample Tracker'!$C$6:$C$30,MATCH(0,IF('Sample Tracker'!$N$6:$N$30="x",COUNTIF(L$19:L26,'Sample Tracker'!$C$6:$C$30),""),0)),"")} | N27: {=IFERROR(INDEX('Sample Tracker'!$C$6:$C$30,MATCH(0,IF('Sample Tracker'!$P$6:$P$30="x",COUNTIF(N$19:N26,'Sample Tracker'!$C$6:$C$30),""),0)),"")} | P27: {=IFERROR(INDEX('Sample Tracker'!$C$6:$C$30,MATCH(0,IF('Sample Tracker'!$Q$6:$Q$30="x",COUNTIF(P$19:P26,'Sample Tracker'!$C$6:$C$30),""),0)),"")} | R27: {=IFERROR(INDEX('Sample Tracker'!$C$6:$C$30,MATCH(0,IF('Sample Tracker'!$J$6:$J$30="x",COUNTIF(R$19:R26,'Sample Tracker'!$C$6:$C$30),""),0)),"")}

Sheet Sample Dashboard
C3: Grade 2 Skills | L3: ='Sample Summary'!B5 -> Room 23
C4: Unit 2 | K4: ='Sample Summary'!B4 -> 43739
C6: Dictation Identification | G6: Reading Comprehension | K6: Fluency Percentile
C22: Assessing ability to read words with basic code spellings for vowel sounds: | G22: Assessing ability to read a grade-level text independently and answer: | K22: Assessing ability to decode quickly and accurately, with understanding
C23: R-controlled vowels: 'er', 'or', 'ar' | G23: Literal questions (7) | K23: Below Level (10-49th percentile): Under 51 words correct/min.
C24: Vowel digraphs: 'oo' as /oo/ and /oo/, 'oy', 'ou', 'oi', 'ow' | G24: Inferential question (1) | K24: On Level (50-74th percentile): 51-78 words correct/min.
C25: Long vowel sounds: 'ee', 'ea' | K25: Above Level (75-99th percentile): More than 78 words correct/min.
C26: Magic E: 'a_e', 'e_e', 'i_e', 'u_e', 'o_e'
C29: Dictation Identification | G29: Reading Comprehension | K29: Oral Reading Fluency
D30: Number of Students | H30: Number of Students | L30: Number of Students
C31: Poor | D31: ='Sample Tracker'!V33 -> 3 | G31: Poor | H31: ='Sample Tracker'!AC33 -> 5 | K31: Below Level | L31: =COUNTIF('Sample Summary'!Q7:Q31,"Below") -> 7
C32: Good | D32: ='Sample Tracker'!V34 -> 13 | G32: Good | H32: ='Sample Tracker'!AC34 -> 6 | K32: On Level | L32: =COUNTIF('Sample Summary'!Q7:Q31,"On") -> 6
C33: Excellent | D33: ='Sample Tracker'!V35 -> 9 | G33: Excellent | H33: ='Sample Tracker'!AC35 -> 14 | K33: Above Level | L33: =COUNTIF('Sample Summary'!Q7:Q31,"Above") -> 12
